BEGIN:VCALENDAR
VERSION:2.0
PRODID:-//New Brunswick Jazz Project - ECPv6.15.18//NONSGML v1.0//EN
CALSCALE:GREGORIAN
METHOD:PUBLISH
X-WR-CALNAME:New Brunswick Jazz Project
X-ORIGINAL-URL:https://nbjp.org
X-WR-CALDESC:Events for New Brunswick Jazz Project
REFRESH-INTERVAL;VALUE=DURATION:PT1H
X-Robots-Tag:noindex
X-PUBLISHED-TTL:PT1H
BEGIN:VTIMEZONE
TZID:America/New_York
BEGIN:DAYLIGHT
TZOFFSETFROM:-0500
TZOFFSETTO:-0400
TZNAME:EDT
DTSTART:20160313T070000
END:DAYLIGHT
BEGIN:STANDARD
TZOFFSETFROM:-0400
TZOFFSETTO:-0500
TZNAME:EST
DTSTART:20161106T060000
END:STANDARD
BEGIN:DAYLIGHT
TZOFFSETFROM:-0500
TZOFFSETTO:-0400
TZNAME:EDT
DTSTART:20170312T070000
END:DAYLIGHT
BEGIN:STANDARD
TZOFFSETFROM:-0400
TZOFFSETTO:-0500
TZNAME:EST
DTSTART:20171105T060000
END:STANDARD
BEGIN:DAYLIGHT
TZOFFSETFROM:-0500
TZOFFSETTO:-0400
TZNAME:EDT
DTSTART:20180311T070000
END:DAYLIGHT
BEGIN:STANDARD
TZOFFSETFROM:-0400
TZOFFSETTO:-0500
TZNAME:EST
DTSTART:20181104T060000
END:STANDARD
BEGIN:DAYLIGHT
TZOFFSETFROM:-0500
TZOFFSETTO:-0400
TZNAME:EDT
DTSTART:20190310T070000
END:DAYLIGHT
BEGIN:STANDARD
TZOFFSETFROM:-0400
TZOFFSETTO:-0500
TZNAME:EST
DTSTART:20191103T060000
END:STANDARD
END:VTIMEZONE
BEGIN:VEVENT
DTSTART;TZID=America/New_York:20180112T183000
DTEND;TZID=America/New_York:20180112T213000
DTSTAMP:20260421T143014
CREATED:20171205T171746Z
LAST-MODIFIED:20180112T150238Z
UID:4508-1515781800-1515792600@nbjp.org
SUMMARY:Carrie Jackson Duo
DESCRIPTION:Carrie Jackson Duo \nFeaturing Carrie Jackson w/ Bob Debenedette – piano \nDue Marie – 78 Albany St.  Brunswick\, NJ \nNo cover charge.
URL:https://nbjp.org/event/carrie-jackson-duo/
LOCATION:Due Mari\, 78 Albany St.\, New Brunswick\, NJ\, 08901\, United States
ATTACH;FMTTYPE=image/jpeg:https://nbjp.org/wp-content/uploads/2017/07/carriejackson400.jpg
END:VEVENT
BEGIN:VEVENT
DTSTART;TZID=America/New_York:20180111T200000
DTEND;TZID=America/New_York:20180111T230000
DTSTAMP:20260421T143014
CREATED:20171205T171508Z
LAST-MODIFIED:20180108T151037Z
UID:4504-1515700800-1515711600@nbjp.org
SUMMARY:The Landham Brothers
DESCRIPTION:The Landham Brothers \nRobert Landham alto sax \nByron Landham drums \nMichael Bond  piano \nJustin Sekuleski  bass \nHyatt Regency – 2 Albany St. New Brunswick\, NJ \nNo cover charge.
URL:https://nbjp.org/event/the-landham-brothers-2/
LOCATION:Hyatt Regency\, 2 Albany St.\, New Brunswick\, NJ\, 08901\, United States
CATEGORIES:Music
ATTACH;FMTTYPE=image/jpeg:https://nbjp.org/wp-content/uploads/2016/12/landham-brothers.jpg
END:VEVENT
BEGIN:VEVENT
DTSTART;TZID=America/New_York:20180110T200000
DTEND;TZID=America/New_York:20180110T230000
DTSTAMP:20260421T143014
CREATED:20171205T170835Z
LAST-MODIFIED:20180110T194519Z
UID:4498-1515614400-1515625200@nbjp.org
SUMMARY:The Ladybugs
DESCRIPTION:THE LADYBUGS\nMartina DaSilva\, vocals/ukulele Vanessa Perea\, vocals/percussion Alex Goodman – guitar \nWednesday\, January 10\, 2018\n8:00pm – 11:00pm \nINC American Bar & Kitchen\, 302 George St. New Brunswick\, NJ\nNo cover charge. Reservations
URL:https://nbjp.org/event/the-ladybugs/
LOCATION:INC American Bar & Kitchen\, 302 George St. \, New Brunswick\, NJ\, 08901\, United States
CATEGORIES:Music
ATTACH;FMTTYPE=image/jpeg:https://nbjp.org/wp-content/uploads/2017/12/the-ladybugs.jpg
END:VEVENT
BEGIN:VEVENT
DTSTART;TZID=America/New_York:20180109T200000
DTEND;TZID=America/New_York:20180109T230000
DTSTAMP:20260421T143014
CREATED:20171205T170642Z
LAST-MODIFIED:20180108T202509Z
UID:4494-1515528000-1515538800@nbjp.org
SUMMARY:CANCELLED - Matt Gordeuk Band
DESCRIPTION:CANCELLED DUE TO WATER MAIN BREAK ON GEORGE ST. \nEmerging Artists & Open Session – Matt Gordeuk Band \n\nGeorge Street Ale House – 378 George St. New Brunswick\, NJ
URL:https://nbjp.org/event/emerging-artists-open-session-matt-gordeuk-band/
LOCATION:Garden State Ale House\, 378 George St.\, New Brunswick\, NJ\, 08901\, United States
CATEGORIES:Music
ATTACH;FMTTYPE=image/jpeg:https://nbjp.org/wp-content/uploads/2017/12/CANCELLED.jpg
END:VEVENT
BEGIN:VEVENT
DTSTART;TZID=America/New_York:20180105T183000
DTEND;TZID=America/New_York:20180105T213000
DTSTAMP:20260421T143014
CREATED:20171205T170327Z
LAST-MODIFIED:20171205T170327Z
UID:4489-1515177000-1515187800@nbjp.org
SUMMARY:Stephen Fuller Duo
DESCRIPTION:Stephen Fuller Duo \nDue Marie – 78 Albany St.  Brunswick\, NJ \nNo cover charge.
URL:https://nbjp.org/event/stephen-fuller-duo-3/
LOCATION:Due Mari\, 78 Albany St.\, New Brunswick\, NJ\, 08901\, United States
ATTACH;FMTTYPE=image/jpeg:https://nbjp.org/wp-content/uploads/2016/12/Stephen-Fuller.jpg
END:VEVENT
BEGIN:VEVENT
DTSTART;TZID=America/New_York:20180104T200000
DTEND;TZID=America/New_York:20180104T230000
DTSTAMP:20260421T143015
CREATED:20171205T170145Z
LAST-MODIFIED:20180104T181732Z
UID:4485-1515096000-1515106800@nbjp.org
SUMMARY:CANCELED - Brian Charette Quartet
DESCRIPTION:Canceled due to weather \n  \nHyatt Regency – 2 Albany St. New Brunswick\, NJ\nNo cover charge.
URL:https://nbjp.org/event/brian-charette-quartet-2/
LOCATION:Hyatt Regency\, 2 Albany St.\, New Brunswick\, NJ\, 08901\, United States
CATEGORIES:Music
ATTACH;FMTTYPE=image/jpeg:https://nbjp.org/wp-content/uploads/2017/07/briancharette400.jpg
END:VEVENT
BEGIN:VEVENT
DTSTART;TZID=America/New_York:20180103T200000
DTEND;TZID=America/New_York:20180103T230000
DTSTAMP:20260421T143015
CREATED:20171211T143204Z
LAST-MODIFIED:20171227T161953Z
UID:4603-1515009600-1515020400@nbjp.org
SUMMARY:Nat Adderly Jr. Trio
DESCRIPTION:Nat Adderly Jr. Trio \nNat Adderly Jr.  on keys\, Kenny Davis on bass\, and Rocky Bryant on drums \n  \n  \nINC American Bar & Kitchen\, 302 George St. New Brunswick\, NJ\nNo cover charge. Reservations
URL:https://nbjp.org/event/nat-adderly-jr-trio-3/
LOCATION:INC American Bar & Kitchen\, 302 George St. \, New Brunswick\, NJ\, 08901\, United States
CATEGORIES:Music
ATTACH;FMTTYPE=image/jpeg:https://nbjp.org/wp-content/uploads/2016/12/Nat-Adderly-Jr..jpg
END:VEVENT
BEGIN:VEVENT
DTSTART;TZID=America/New_York:20171231T180000
DTEND;TZID=America/New_York:20180101T000000
DTSTAMP:20260421T143015
CREATED:20171205T165222Z
LAST-MODIFIED:20171205T174813Z
UID:4474-1514743200-1514764800@nbjp.org
SUMMARY:Charlie Sigler Trio
DESCRIPTION:Charlie Sigler Trio \nDaniel Duke-Bass\, Aaron Seeber-Drums\, and Charlie Sigler – guitar \nNew Year’s Eve!! \nDue Mari\, 78 Albany St. New Brunswick\, NJ\nNo cover charge. Reservations 
URL:https://nbjp.org/event/charlie-sigler-trio/
LOCATION:Due Mari\, 78 Albany St.\, New Brunswick\, NJ\, 08901\, United States
CATEGORIES:Music,NYE
ATTACH;FMTTYPE=image/jpeg:https://nbjp.org/wp-content/uploads/2017/10/CharlieSigler.jpg
END:VEVENT
BEGIN:VEVENT
DTSTART;TZID=America/New_York:20171221T200000
DTEND;TZID=America/New_York:20171221T230000
DTSTAMP:20260421T143015
CREATED:20171030T031344Z
LAST-MODIFIED:20171207T144306Z
UID:4410-1513886400-1513897200@nbjp.org
SUMMARY:Charlie Sigler Quartet
DESCRIPTION:Charlie Sigler Quartet \nCharlie Sigler – guitar\nAkiko – organ\nAnthony Ware – sax\nWinard Harper – drums \nHyatt Regency – 2 Albany St. New Brunswick\, NJ\nNo cover charge.
URL:https://nbjp.org/event/charlie-sigler-quartet/
LOCATION:Hyatt Regency\, 2 Albany St.\, New Brunswick\, NJ\, 08901\, United States
CATEGORIES:Music
ATTACH;FMTTYPE=image/jpeg:https://nbjp.org/wp-content/uploads/2017/10/CharlieSigler.jpg
END:VEVENT
BEGIN:VEVENT
DTSTART;TZID=America/New_York:20171220T200000
DTEND;TZID=America/New_York:20171220T230000
DTSTAMP:20260421T143015
CREATED:20171123T183504Z
LAST-MODIFIED:20171123T183610Z
UID:4457-1513800000-1513810800@nbjp.org
SUMMARY:Greg Bufford Trio
DESCRIPTION:Greg Bufford – drums\, Dave Braham – keyboard and Belden Bullock – bass. \n 
URL:https://nbjp.org/event/greg-bufford-trio/
LOCATION:INC American Bar & Kitchen\, 302 George St. \, New Brunswick\, NJ\, 08901\, United States
CATEGORIES:Music
ATTACH;FMTTYPE=image/jpeg:https://nbjp.org/wp-content/uploads/2017/04/greg-bufford.jpg
END:VEVENT
BEGIN:VEVENT
DTSTART;TZID=America/New_York:20171219T200000
DTEND;TZID=America/New_York:20171219T230000
DTSTAMP:20260421T143015
CREATED:20171030T031133Z
LAST-MODIFIED:20171030T031133Z
UID:4406-1513713600-1513724400@nbjp.org
SUMMARY:Emerging Artists & Open Session – Greg DeAngelis Band
DESCRIPTION:Greg DeAngelis’ Holiday gig. \nOpen Jam Session at 9.30! \nGarden State Ale House – 378 George St. New Brunswick\, NJ
URL:https://nbjp.org/event/emerging-artists-open-session-greg-deangelis-band-3/
LOCATION:Garden State Ale House\, 378 George St.\, New Brunswick\, NJ\, 08901\, United States
CATEGORIES:Music
ATTACH;FMTTYPE=image/jpeg:https://nbjp.org/wp-content/uploads/2016/09/greg-deanglis-band.jpg
END:VEVENT
BEGIN:VEVENT
DTSTART;TZID=America/New_York:20171214T200000
DTEND;TZID=America/New_York:20171214T230000
DTSTAMP:20260421T143015
CREATED:20171030T030931Z
LAST-MODIFIED:20171030T030931Z
UID:4403-1513281600-1513292400@nbjp.org
SUMMARY:Dave Stryker Quartet
DESCRIPTION:Dave Stryker and his quartet. \nHyatt Regency – 2 Albany St. New Brunswick\, NJ\nNo cover charge.
URL:https://nbjp.org/event/dave-stryker-quartet-2/
LOCATION:Hyatt Regency\, 2 Albany St.\, New Brunswick\, NJ\, 08901\, United States
CATEGORIES:Music
ATTACH;FMTTYPE=image/jpeg:https://nbjp.org/wp-content/uploads/2016/12/Dave-Stryker-2-e1481131735527.jpeg
END:VEVENT
BEGIN:VEVENT
DTSTART;TZID=America/New_York:20171213T200000
DTEND;TZID=America/New_York:20171213T230000
DTSTAMP:20260421T143015
CREATED:20171012T033856Z
LAST-MODIFIED:20171012T033856Z
UID:4340-1513195200-1513206000@nbjp.org
SUMMARY:Molly Mason Trio
DESCRIPTION:Molly Mason – vocals. \n 
URL:https://nbjp.org/event/molly-mason-trio/
LOCATION:INC American Bar & Kitchen\, 302 George St. \, New Brunswick\, NJ\, 08901\, United States
CATEGORIES:Music
ATTACH;FMTTYPE=image/jpeg:https://nbjp.org/wp-content/uploads/2017/07/mollyMason400.jpg
END:VEVENT
BEGIN:VEVENT
DTSTART;TZID=America/New_York:20171212T200000
DTEND;TZID=America/New_York:20171212T230000
DTSTAMP:20260421T143015
CREATED:20171030T030711Z
LAST-MODIFIED:20171210T015526Z
UID:4398-1513108800-1513119600@nbjp.org
SUMMARY:Emerging Artists & Open Session – Grady Barber Quartet
DESCRIPTION:Saxophonist Grady Barber and his quartet. \nOpen Jam Session at 9.30!\nGarden State Ale House – 378 George St. New Brunswick\, NJ
URL:https://nbjp.org/event/emerging-artists-open-session-grady-barber-quartet/
LOCATION:Garden State Ale House\, 378 George St.\, New Brunswick\, NJ\, 08901\, United States
CATEGORIES:Music
ATTACH;FMTTYPE=image/jpeg:https://nbjp.org/wp-content/uploads/2016/10/Grady.jpg
END:VEVENT
BEGIN:VEVENT
DTSTART;TZID=America/New_York:20171207T200000
DTEND;TZID=America/New_York:20171207T230000
DTSTAMP:20260421T143015
CREATED:20171030T030510Z
LAST-MODIFIED:20171203T182253Z
UID:4395-1512676800-1512687600@nbjp.org
SUMMARY:Behn Gillece Quartet
DESCRIPTION:Behn Gillece – vibraphone\, Bob DeVos – guitar\, Matt Parrish – bass and Tim Horner – drums. \nHyatt Regency – 2 Albany St. New Brunswick\, NJ\nNo cover charge.
URL:https://nbjp.org/event/behn-gillece-quartet-2/
LOCATION:Hyatt Regency\, 2 Albany St.\, New Brunswick\, NJ\, 08901\, United States
CATEGORIES:Music
ATTACH;FMTTYPE=image/jpeg:https://nbjp.org/wp-content/uploads/2017/04/BehnGillece.jpg
END:VEVENT
BEGIN:VEVENT
DTSTART;TZID=America/New_York:20171206T200000
DTEND;TZID=America/New_York:20171206T230000
DTSTAMP:20260421T143015
CREATED:20171030T030221Z
LAST-MODIFIED:20171030T030321Z
UID:4389-1512590400-1512601200@nbjp.org
SUMMARY:Marianne Solivan Trio
DESCRIPTION:Marianne Solivan – vocals. \n 
URL:https://nbjp.org/event/marianne-solivan-trio/
LOCATION:INC American Bar & Kitchen\, 302 George St. \, New Brunswick\, NJ\, 08901\, United States
CATEGORIES:Music
ATTACH;FMTTYPE=image/jpeg:https://nbjp.org/wp-content/uploads/2016/12/MarianneSolivanSQ.jpg
END:VEVENT
BEGIN:VEVENT
DTSTART;TZID=America/New_York:20171205T200000
DTEND;TZID=America/New_York:20171205T230000
DTSTAMP:20260421T143015
CREATED:20171030T025957Z
LAST-MODIFIED:20171030T032949Z
UID:4384-1512504000-1512514800@nbjp.org
SUMMARY:Emerging Artists & Open Session – Nathan Bohach Band
DESCRIPTION:Nathan Bohach Band \nOpen Jam Session at 9.30!\nGarden State Ale House – 378 George St. New Brunswick\, NJ
URL:https://nbjp.org/event/emerging-artists-open-session-nathan-bohach-band/
LOCATION:Garden State Ale House\, 378 George St.\, New Brunswick\, NJ\, 08901\, United States
CATEGORIES:Music
ATTACH;FMTTYPE=image/jpeg:https://nbjp.org/wp-content/uploads/2017/10/NathanBohach400.jpg
END:VEVENT
BEGIN:VEVENT
DTSTART;TZID=America/New_York:20171130T200000
DTEND;TZID=America/New_York:20171130T230000
DTSTAMP:20260421T143015
CREATED:20171007T202004Z
LAST-MODIFIED:20171118T192554Z
UID:4325-1512072000-1512082800@nbjp.org
SUMMARY:Sanah Kadoura Quartet
DESCRIPTION:Sanah Kadoura – drums\, Tivon Pennicott sax\, Vic Juris – guitar and Pat Bianchi – organ. \nHyatt Regency – 2 Albany St. New Brunswick\, NJ\nNo cover charge.
URL:https://nbjp.org/event/sanah-kadoura-quartet-2/
LOCATION:Hyatt Regency\, 2 Albany St.\, New Brunswick\, NJ\, 08901\, United States
CATEGORIES:Music
ATTACH;FMTTYPE=image/jpeg:https://nbjp.org/wp-content/uploads/2016/10/SanahKadoura.jpg
END:VEVENT
BEGIN:VEVENT
DTSTART;TZID=America/New_York:20171129T200000
DTEND;TZID=America/New_York:20171129T230000
DTSTAMP:20260421T143015
CREATED:20171007T201715Z
LAST-MODIFIED:20171118T192404Z
UID:4321-1511985600-1511996400@nbjp.org
SUMMARY:Elise Wood Trio
DESCRIPTION:The Elise Wood Luminous Jazz Trio\nHonoring the Centennial Birthday of Thelonious Monk.\nElise Wood – flute\, Marvin Horne – guitar and Jon Roche – bass. \nINC American Bar & Kitchen\, 302 George St. New Brunswick\, NJ\nNo cover charge. Reservations
URL:https://nbjp.org/event/elise-wood-trio-2/
LOCATION:INC American Bar & Kitchen\, 302 George St. \, New Brunswick\, NJ\, 08901\, United States
CATEGORIES:Music
ATTACH;FMTTYPE=image/jpeg:https://nbjp.org/wp-content/uploads/2017/01/EliseWoodSq.jpg
END:VEVENT
BEGIN:VEVENT
DTSTART;TZID=America/New_York:20171128T200000
DTEND;TZID=America/New_York:20171128T230000
DTSTAMP:20260421T143015
CREATED:20171030T025623Z
LAST-MODIFIED:20171118T191628Z
UID:4379-1511899200-1511910000@nbjp.org
SUMMARY:Emerging Artists & Open Session – Nick Benitez Band
DESCRIPTION:Performing the music of Horace Silver. \nNick Benitez  – trumpet\, Chris Gold – tenor sax\, Will Gorman – keyboard\, Jake Morris – bass and Zach Lorelli – drums. \nOpen Jam Session at 9.30!\nGarden State Ale House – 378 George St. New Brunswick\, NJ
URL:https://nbjp.org/event/emerging-artists-open-session-nick-benitez-band-2/
LOCATION:Garden State Ale House\, 378 George St.\, New Brunswick\, NJ\, 08901\, United States
CATEGORIES:Music
ATTACH;FMTTYPE=image/jpeg:https://nbjp.org/wp-content/uploads/2017/07/NickBenitez400.jpg
END:VEVENT
BEGIN:VEVENT
DTSTART;TZID=America/New_York:20171124T183000
DTEND;TZID=America/New_York:20171124T213000
DTSTAMP:20260421T143015
CREATED:20170806T185513Z
LAST-MODIFIED:20171007T201344Z
UID:4038-1511548200-1511559000@nbjp.org
SUMMARY:No Jazz
DESCRIPTION:No Jazz – Holiday \nDue Mari\, 78 Albany St. New Brunswick\, NJ\nReservations
URL:https://nbjp.org/event/no-jazz/
LOCATION:Due Mari\, 78 Albany St.\, New Brunswick\, NJ\, 08901\, United States
CATEGORIES:Music
END:VEVENT
BEGIN:VEVENT
DTSTART;VALUE=DATE:20171123
DTEND;VALUE=DATE:20171124
DTSTAMP:20260421T143015
CREATED:20171007T201230Z
LAST-MODIFIED:20171010T191050Z
UID:4306-1511409600-1511420400@nbjp.org
SUMMARY:No Jazz - Happy Thanksgiving
DESCRIPTION:Holiday \nHyatt Regency – 2 Albany St. New Brunswick\, NJ
URL:https://nbjp.org/event/no-jazz-happy-thanksgiving/
LOCATION:Hyatt Regency\, 2 Albany St.\, New Brunswick\, NJ\, 08901\, United States
CATEGORIES:Music
END:VEVENT
BEGIN:VEVENT
DTSTART;TZID=America/New_York:20171122T200000
DTEND;TZID=America/New_York:20171122T230000
DTSTAMP:20260421T143015
CREATED:20171007T200953Z
LAST-MODIFIED:20171118T193151Z
UID:4302-1511380800-1511391600@nbjp.org
SUMMARY:Jerry Weldon Quartet
DESCRIPTION:Jerry Weldon – tenor sax\, Dave Schumacher – bari sax\, Kyle Koehler – organ and J. Taylor Leach – drums\nINC American Bar & Kitchen\, 302 George St. New Brunswick\, NJ\nNo cover charge. Reservations
URL:https://nbjp.org/event/jerry-weldon-trio/
LOCATION:INC American Bar & Kitchen\, 302 George St. \, New Brunswick\, NJ\, 08901\, United States
CATEGORIES:Music
ATTACH;FMTTYPE=image/jpeg:https://nbjp.org/wp-content/uploads/2016/08/jerry-weldon-quartet.jpg
END:VEVENT
BEGIN:VEVENT
DTSTART;TZID=America/New_York:20171121T200000
DTEND;TZID=America/New_York:20171121T230000
DTSTAMP:20260421T143015
CREATED:20171007T200734Z
LAST-MODIFIED:20171118T191338Z
UID:4297-1511294400-1511305200@nbjp.org
SUMMARY:Emerging Artists & Open Session – Will Comer Band
DESCRIPTION:Emerging Artists Night.\nWill Comer  – keyboard\, Zach Heinze – bass and Evan Tsioni – drums.  \nOpen Jam Session at 9.30!\nGarden State Ale House – 378 George St. New Brunswick\, NJ
URL:https://nbjp.org/event/emerging-artists-open-session-will-comer-band/
LOCATION:Garden State Ale House\, 378 George St.\, New Brunswick\, NJ\, 08901\, United States
CATEGORIES:Music
ATTACH;FMTTYPE=image/png:https://nbjp.org/wp-content/uploads/2016/08/logo-nbjpx2.png
END:VEVENT
BEGIN:VEVENT
DTSTART;TZID=America/New_York:20171117T183000
DTEND;TZID=America/New_York:20171117T213000
DTSTAMP:20260421T143015
CREATED:20171007T200520Z
LAST-MODIFIED:20171007T200520Z
UID:4292-1510943400-1510954200@nbjp.org
SUMMARY:Emma Larsson Duo
DESCRIPTION:Emma Larsson – vocals. \nDue Mari\, 78 Albany St. New Brunswick\, NJ\nNo cover charge. Reservations
URL:https://nbjp.org/event/emma-larsson-duo-5/
LOCATION:Due Mari\, 78 Albany St.\, New Brunswick\, NJ\, 08901\, United States
CATEGORIES:Music
ATTACH;FMTTYPE=image/jpeg:https://nbjp.org/wp-content/uploads/2016/09/Emma-Larsson.jpg
END:VEVENT
BEGIN:VEVENT
DTSTART;TZID=America/New_York:20171116T200000
DTEND;TZID=America/New_York:20171116T230000
DTSTAMP:20260421T143015
CREATED:20171007T200406Z
LAST-MODIFIED:20171007T200406Z
UID:4288-1510862400-1510873200@nbjp.org
SUMMARY:Sylvia Cuenca Quartet
DESCRIPTION:Sylvia Cuenca Quartet \nHyatt Regency – 2 Albany St. New Brunswick\, NJ\nNo cover charge.
URL:https://nbjp.org/event/sylvia-cuenca-quartet-2/
LOCATION:Hyatt Regency\, 2 Albany St.\, New Brunswick\, NJ\, 08901\, United States
CATEGORIES:Music
ATTACH;FMTTYPE=image/jpeg:https://nbjp.org/wp-content/uploads/2017/01/Sylvia-CuencaSq.jpg
END:VEVENT
BEGIN:VEVENT
DTSTART;TZID=America/New_York:20171115T200000
DTEND;TZID=America/New_York:20171115T230000
DTSTAMP:20260421T143015
CREATED:20171007T200244Z
LAST-MODIFIED:20171007T200244Z
UID:4284-1510776000-1510786800@nbjp.org
SUMMARY:Peter & Will Anderson Trio
DESCRIPTION:Peter & Will Anderson Trio \nWill Anderson – alto sax\, clarinet\, flute\nPeter Anderson – tenor sax\, clarinet \nINC American Bar & Kitchen\, 302 George St. New Brunswick\, NJ\nNo cover charge. Reservations
URL:https://nbjp.org/event/peter-will-anderson-trio-3/
LOCATION:INC American Bar & Kitchen\, 302 George St. \, New Brunswick\, NJ\, 08901\, United States
CATEGORIES:Music
ATTACH;FMTTYPE=image/jpeg:https://nbjp.org/wp-content/uploads/2016/12/PeterWillAnderson.jpg
END:VEVENT
BEGIN:VEVENT
DTSTART;TZID=America/New_York:20171114T200000
DTEND;TZID=America/New_York:20171114T230000
DTSTAMP:20260421T143015
CREATED:20171007T200124Z
LAST-MODIFIED:20171007T200124Z
UID:4279-1510689600-1510700400@nbjp.org
SUMMARY:Emerging Artists & Open Session – Dan Giannone Band
DESCRIPTION:Emerging Artists Night.\nDan Giannone Band \nOpen Jam Session at 9.30!\nGarden State Ale House – 378 George St. New Brunswick\, NJ
URL:https://nbjp.org/event/emerging-artists-open-session-dan-giannone-band-2/
LOCATION:Garden State Ale House\, 378 George St.\, New Brunswick\, NJ\, 08901\, United States
CATEGORIES:Music
ATTACH;FMTTYPE=image/jpeg:https://nbjp.org/wp-content/uploads/2017/04/Dan-Giannone.jpg
END:VEVENT
BEGIN:VEVENT
DTSTART;TZID=America/New_York:20171113T173000
DTEND;TZID=America/New_York:20171113T203000
DTSTAMP:20260421T143015
CREATED:20171007T195923Z
LAST-MODIFIED:20171030T203015Z
UID:4273-1510594200-1510605000@nbjp.org
SUMMARY:Jazzin for Funds - Stephen Yee Quartet
DESCRIPTION:  \nJazzin for Funds – 4th annual fundraiser to support Dina’s Dwellings\, a safe and supportive housing initiative for survivors of domestic violence and their children. Sip wine and enjoy authentic southern cuisine in the chic atmosphere of Delta’s\, one of the region’s best restaurants. Listen to the contemporary\, jazz styling of the Stephen Yee Quartet. Meet fellow business and non-profit professionals. \nWin amazing gifts from local theaters\, Starbucks\, Trader Joe’s\, Waterford\, over a dozen local restaurants\, and more.\nA great time…for a great cause! \nTickets $50 \n  \nDelta’s Restaurant – 19 Dennis St. New Brunswick\, NJ
URL:https://nbjp.org/event/stephen-yee-quartet-jazzin-for-funds/
LOCATION:Deltas\, 19 Dennis St.\, New Brunswick\, NJ\, 08901\, United States
CATEGORIES:Fund Raiser,Music
ATTACH;FMTTYPE=image/jpeg:https://nbjp.org/wp-content/uploads/2017/10/Jazzin-for-Funds-4.jpg
END:VEVENT
BEGIN:VEVENT
DTSTART;TZID=America/New_York:20171110T183000
DTEND;TZID=America/New_York:20171110T213000
DTSTAMP:20260421T143015
CREATED:20171007T195507Z
LAST-MODIFIED:20171007T195507Z
UID:4269-1510338600-1510349400@nbjp.org
SUMMARY:Kate Baker  Duo
DESCRIPTION:Kate Baker Duo \nDue Mari\, 78 Albany St. New Brunswick\, NJ\nNo cover charge. Reservations
URL:https://nbjp.org/event/kate-baker-duo-4/
LOCATION:Due Mari\, 78 Albany St.\, New Brunswick\, NJ\, 08901\, United States
CATEGORIES:Music
ATTACH;FMTTYPE=image/jpeg:https://nbjp.org/wp-content/uploads/2011/12/kate-baker-2.jpg
END:VEVENT
END:VCALENDAR