BEGIN:VCALENDAR
VERSION:2.0
PRODID:-//New Brunswick Jazz Project - ECPv6.15.18//NONSGML v1.0//EN
CALSCALE:GREGORIAN
METHOD:PUBLISH
X-WR-CALNAME:New Brunswick Jazz Project
X-ORIGINAL-URL:https://nbjp.org
X-WR-CALDESC:Events for New Brunswick Jazz Project
REFRESH-INTERVAL;VALUE=DURATION:PT1H
X-Robots-Tag:noindex
X-PUBLISHED-TTL:PT1H
BEGIN:VTIMEZONE
TZID:America/New_York
BEGIN:DAYLIGHT
TZOFFSETFROM:-0500
TZOFFSETTO:-0400
TZNAME:EDT
DTSTART:20160313T070000
END:DAYLIGHT
BEGIN:STANDARD
TZOFFSETFROM:-0400
TZOFFSETTO:-0500
TZNAME:EST
DTSTART:20161106T060000
END:STANDARD
BEGIN:DAYLIGHT
TZOFFSETFROM:-0500
TZOFFSETTO:-0400
TZNAME:EDT
DTSTART:20170312T070000
END:DAYLIGHT
BEGIN:STANDARD
TZOFFSETFROM:-0400
TZOFFSETTO:-0500
TZNAME:EST
DTSTART:20171105T060000
END:STANDARD
BEGIN:DAYLIGHT
TZOFFSETFROM:-0500
TZOFFSETTO:-0400
TZNAME:EDT
DTSTART:20180311T070000
END:DAYLIGHT
BEGIN:STANDARD
TZOFFSETFROM:-0400
TZOFFSETTO:-0500
TZNAME:EST
DTSTART:20181104T060000
END:STANDARD
END:VTIMEZONE
BEGIN:VEVENT
DTSTART;TZID=America/New_York:20171109T200000
DTEND;TZID=America/New_York:20171109T230000
DTSTAMP:20260421T192037
CREATED:20171007T195344Z
LAST-MODIFIED:20171007T195344Z
UID:4264-1510257600-1510268400@nbjp.org
SUMMARY:Lainie Cooke Quartet
DESCRIPTION:Lainie Cooke Quartet \nHyatt Regency – 2 Albany St. New Brunswick\, NJ\nNo cover charge.
URL:https://nbjp.org/event/lainie-cooke-quartet/
LOCATION:Hyatt Regency\, 2 Albany St.\, New Brunswick\, NJ\, 08901\, United States
CATEGORIES:Music
ATTACH;FMTTYPE=image/jpeg:https://nbjp.org/wp-content/uploads/2017/10/lainie-cooke-music-is-magic-album1.jpg
END:VEVENT
BEGIN:VEVENT
DTSTART;TZID=America/New_York:20171108T200000
DTEND;TZID=America/New_York:20171108T230000
DTSTAMP:20260421T192037
CREATED:20171007T194909Z
LAST-MODIFIED:20171007T194909Z
UID:4260-1510171200-1510182000@nbjp.org
SUMMARY:Keith Franklin Trio
DESCRIPTION:Keith Franklin Trio\nINC American Bar & Kitchen\, 302 George St. New Brunswick\, NJ\nNo cover charge. Reservations
URL:https://nbjp.org/event/keith-franklin-trio/
LOCATION:INC American Bar & Kitchen\, 302 George St. \, New Brunswick\, NJ\, 08901\, United States
CATEGORIES:Music
ATTACH;FMTTYPE=image/jpeg:https://nbjp.org/wp-content/uploads/2017/02/17014BFC-E9F0-4702-8748-91AFC3450837-388-00000044A490011B_tmp-e1682262895646.jpg
END:VEVENT
BEGIN:VEVENT
DTSTART;TZID=America/New_York:20171107T200000
DTEND;TZID=America/New_York:20171107T230000
DTSTAMP:20260421T192037
CREATED:20171007T194555Z
LAST-MODIFIED:20171009T001315Z
UID:4256-1510084800-1510095600@nbjp.org
SUMMARY:Emerging Artists & Open Jam\, David Bamber Band
DESCRIPTION:David Bamber Band \nJam session at 9.30!\nGarden State Ale House – 378 George St. New Brunswick\, NJ \nNo cover charge.
URL:https://nbjp.org/event/emerging-artists-open-jam-david-bamber-band/
LOCATION:Garden State Ale House\, 378 George St.\, New Brunswick\, NJ\, 08901\, United States
CATEGORIES:Music
ATTACH;FMTTYPE=image/jpeg:https://nbjp.org/wp-content/uploads/2017/10/DavidBamber400.jpg
END:VEVENT
BEGIN:VEVENT
DTSTART;TZID=America/New_York:20171103T183000
DTEND;TZID=America/New_York:20171103T213000
DTSTAMP:20260421T192037
CREATED:20171007T194349Z
LAST-MODIFIED:20171007T194349Z
UID:4251-1509733800-1509744600@nbjp.org
SUMMARY:Kate Curran Duo
DESCRIPTION:Kate Curran Duo \nKate Curran – vocals \n  \nDue Mari\, 78 Albany St. New Brunswick\, NJ\nNo cover charge. Reservations
URL:https://nbjp.org/event/kate-curran-duo-6/
LOCATION:Due Mari\, 78 Albany St.\, New Brunswick\, NJ\, 08901\, United States
CATEGORIES:Music
ATTACH;FMTTYPE=image/jpeg:https://nbjp.org/wp-content/uploads/2016/12/Kate-Curran.jpg
END:VEVENT
BEGIN:VEVENT
DTSTART;TZID=America/New_York:20171102T200000
DTEND;TZID=America/New_York:20171102T230000
DTSTAMP:20260421T192037
CREATED:20171007T193831Z
LAST-MODIFIED:20171030T024953Z
UID:4246-1509652800-1509663600@nbjp.org
SUMMARY:City Rhythm
DESCRIPTION:City Rhythm \nPete Spina\, sax Nick Vallerio\, sax Bob Gravener\, trumpet Dan Paul\, piano Jack Hegyi\, bass Tom DeShullo\, drums Steve Ritrovato\, vocals \nHyatt Regency – 2 Albany St. New Brunswick\, NJ\nNo cover charge.
URL:https://nbjp.org/event/city-rhythm-orchestra/
LOCATION:Hyatt Regency\, 2 Albany St.\, New Brunswick\, NJ\, 08901\, United States
CATEGORIES:Music
ATTACH;FMTTYPE=image/jpeg:https://nbjp.org/wp-content/uploads/2017/10/CityRhythmOrchestra.jpg
END:VEVENT
BEGIN:VEVENT
DTSTART;TZID=America/New_York:20171101T200000
DTEND;TZID=America/New_York:20171101T230000
DTSTAMP:20260421T192037
CREATED:20171007T193252Z
LAST-MODIFIED:20171020T181523Z
UID:4242-1509566400-1509577200@nbjp.org
SUMMARY:Anthony Nelson Jr. Trio
DESCRIPTION:Anthony Nelson Trio\n\nAnthony Nelson – sax\n\n\nVince Dupont on bass \n\n\nVince Ector on drums \n\nINC American Bar & Kitchen\, 302 George St. New Brunswick\, NJ\nNo cover charge. Reservations
URL:https://nbjp.org/event/anthony-nelson-jr-trio/
LOCATION:INC American Bar & Kitchen\, 302 George St. \, New Brunswick\, NJ\, 08901\, United States
CATEGORIES:Music
ATTACH;FMTTYPE=image/jpeg:https://nbjp.org/wp-content/uploads/2016/10/Anthony-Nelson.jpg
END:VEVENT
BEGIN:VEVENT
DTSTART;TZID=America/New_York:20171031T200000
DTEND;TZID=America/New_York:20171031T230000
DTSTAMP:20260421T192037
CREATED:20171004T041332Z
LAST-MODIFIED:20171030T025225Z
UID:4231-1509480000-1509490800@nbjp.org
SUMMARY:Mike Noordzy Band & Open Jam
DESCRIPTION:Halloween Night. \nfeaturing Chris Welcome – guitar and Mike Winnicki – drums. \nOpen Jam Session at 9.30! \nGarden State Ale House – 378 George St. New Brunswick\, NJ
URL:https://nbjp.org/event/mike-noordzy-band-open-jam/
LOCATION:Garden State Ale House\, 378 George St.\, New Brunswick\, NJ\, 08901\, United States
CATEGORIES:Music
ATTACH;FMTTYPE=image/jpeg:https://nbjp.org/wp-content/uploads/2017/10/Mike-Noordzy.jpg
END:VEVENT
BEGIN:VEVENT
DTSTART;TZID=America/New_York:20171027T183000
DTEND;TZID=America/New_York:20171027T213000
DTSTAMP:20260421T192037
CREATED:20170907T044019Z
LAST-MODIFIED:20170907T044019Z
UID:4180-1509129000-1509139800@nbjp.org
SUMMARY:Brynn Stanley Duo
DESCRIPTION:Brynn Stanley Duo  \nwith Arturo on guitar. \nDue Mari\, 78 Albany St. New Brunswick\, NJ\nNo cover charge. Reservations
URL:https://nbjp.org/event/brynn-stanley-duo-5/
LOCATION:Due Mari\, 78 Albany St.\, New Brunswick\, NJ\, 08901\, United States
CATEGORIES:Music
ATTACH;FMTTYPE=image/jpeg:https://nbjp.org/wp-content/uploads/2017/04/brynn-stanley.jpg
END:VEVENT
BEGIN:VEVENT
DTSTART;TZID=America/New_York:20171026T200000
DTEND;TZID=America/New_York:20171026T230000
DTSTAMP:20260421T192037
CREATED:20170806T192958Z
LAST-MODIFIED:20170806T192958Z
UID:4099-1509048000-1509058800@nbjp.org
SUMMARY:Bruce Williams Quartet
DESCRIPTION:Bruce Williams – alto sax \nHyatt Regency – 2 Albany St. New Brunswick\, NJ\nNo cover charge.
URL:https://nbjp.org/event/bruce-williams-quartet/
LOCATION:Hyatt Regency\, 2 Albany St.\, New Brunswick\, NJ\, 08901\, United States
CATEGORIES:Music
ATTACH;FMTTYPE=image/jpeg:https://nbjp.org/wp-content/uploads/2016/12/Bruce-Williams-2.jpg
END:VEVENT
BEGIN:VEVENT
DTSTART;TZID=America/New_York:20171025T200000
DTEND;TZID=America/New_York:20171025T230000
DTSTAMP:20260421T192037
CREATED:20170907T043708Z
LAST-MODIFIED:20170907T044907Z
UID:4176-1508961600-1508972400@nbjp.org
SUMMARY:Alvester C. Garnett Trio
DESCRIPTION:Drummer Alvester C. Garnett and his trio. \nINC American Bar & Kitchen\, 302 George St. New Brunswick\, NJ\nNo cover charge. Reservations
URL:https://nbjp.org/event/alvester-c-garnett-trio/
LOCATION:INC American Bar & Kitchen\, 302 George St. \, New Brunswick\, NJ\, 08901\, United States
CATEGORIES:Music
ATTACH;FMTTYPE=image/jpeg:https://nbjp.org/wp-content/uploads/2017/09/AlvesterGarnett400.jpg
END:VEVENT
BEGIN:VEVENT
DTSTART;TZID=America/New_York:20171024T200000
DTEND;TZID=America/New_York:20171024T230000
DTSTAMP:20260421T192037
CREATED:20171004T035847Z
LAST-MODIFIED:20171004T035847Z
UID:4225-1508875200-1508886000@nbjp.org
SUMMARY:Emerging Artists & Open Jam\, Grady Barber Band
DESCRIPTION:Grady Barber and his band \nJam session at 9.30!\nGarden State Ale House – 378 George St. New Brunswick\, NJ \nNo cover charge.
URL:https://nbjp.org/event/emerging-artists-open-jam-grady-barber-band/
LOCATION:Garden State Ale House\, 378 George St.\, New Brunswick\, NJ\, 08901\, United States
CATEGORIES:Music
ATTACH;FMTTYPE=image/jpeg:https://nbjp.org/wp-content/uploads/2016/10/Grady.jpg
END:VEVENT
BEGIN:VEVENT
DTSTART;TZID=America/New_York:20171020T183000
DTEND;TZID=America/New_York:20171020T213000
DTSTAMP:20260421T192037
CREATED:20170907T043424Z
LAST-MODIFIED:20170907T044719Z
UID:4170-1508524200-1508535000@nbjp.org
SUMMARY:Cynthia Soriano Duo
DESCRIPTION:Cynthia Soriano – vocals. \nDue Mari\, 78 Albany St. New Brunswick\, NJ\nNo cover charge. Reservations
URL:https://nbjp.org/event/cynthia-soriano-duo/
LOCATION:Due Mari\, 78 Albany St.\, New Brunswick\, NJ\, 08901\, United States
CATEGORIES:Music
ATTACH;FMTTYPE=image/jpeg:https://nbjp.org/wp-content/uploads/2017/09/CynthiaSoriano400.jpg
END:VEVENT
BEGIN:VEVENT
DTSTART;TZID=America/New_York:20171019T200000
DTEND;TZID=America/New_York:20171019T230000
DTSTAMP:20260421T192037
CREATED:20170806T192513Z
LAST-MODIFIED:20170806T195325Z
UID:4095-1508443200-1508454000@nbjp.org
SUMMARY:Yvette Norwood-Tiger Quintet
DESCRIPTION:Yvette Norwood- Tiger Quintet \nHyatt Regency – 2 Albany St. New Brunswick\, NJ\nNo cover charge.
URL:https://nbjp.org/event/yvette-norwood-tiger-quintet/
LOCATION:Hyatt Regency\, 2 Albany St.\, New Brunswick\, NJ\, 08901\, United States
CATEGORIES:Music
ATTACH;FMTTYPE=image/jpeg:https://nbjp.org/wp-content/uploads/2017/08/YvetteNorwood-tiger400.jpg
END:VEVENT
BEGIN:VEVENT
DTSTART;TZID=America/New_York:20171018T200000
DTEND;TZID=America/New_York:20171018T230000
DTSTAMP:20260421T192037
CREATED:20170806T192314Z
LAST-MODIFIED:20170806T193206Z
UID:4092-1508356800-1508367600@nbjp.org
SUMMARY:Pat Bianchi Trio
DESCRIPTION:Organist Pat Bianchi and his trio. \nINC American Bar & Kitchen\, 302 George St. New Brunswick\, NJ\nNo cover charge. Reservations
URL:https://nbjp.org/event/pat-bianchi-trio-2/
LOCATION:INC American Bar & Kitchen\, 302 George St. \, New Brunswick\, NJ\, 08901\, United States
CATEGORIES:Music
ATTACH;FMTTYPE=image/jpeg:https://nbjp.org/wp-content/uploads/2016/08/pat-bianchi-trio.jpg
END:VEVENT
BEGIN:VEVENT
DTSTART;TZID=America/New_York:20171017T200000
DTEND;TZID=America/New_York:20171017T230000
DTSTAMP:20260421T192037
CREATED:20171004T035630Z
LAST-MODIFIED:20171017T225022Z
UID:4221-1508270400-1508281200@nbjp.org
SUMMARY:Emerging Artists & Open Jam\, CANCELED
DESCRIPTION:CANCELED due to facility issue \nGarden State Ale House – 378 George St. New Brunswick\, NJ
URL:https://nbjp.org/event/emerging-artists-open-jam-nathan-bohach-groove-syndicate/
LOCATION:Garden State Ale House\, 378 George St.\, New Brunswick\, NJ\, 08901\, United States
CATEGORIES:Music
END:VEVENT
BEGIN:VEVENT
DTSTART;TZID=America/New_York:20171013T183000
DTEND;TZID=America/New_York:20171013T213000
DTSTAMP:20260421T192037
CREATED:20170907T043202Z
LAST-MODIFIED:20171012T034022Z
UID:4164-1507919400-1507930200@nbjp.org
SUMMARY:No Jazz - Private Party
DESCRIPTION:
URL:https://nbjp.org/event/molly-mason-duo-2/
LOCATION:Due Mari\, 78 Albany St.\, New Brunswick\, NJ\, 08901\, United States
CATEGORIES:Music
END:VEVENT
BEGIN:VEVENT
DTSTART;TZID=America/New_York:20171012T200000
DTEND;TZID=America/New_York:20171012T230000
DTSTAMP:20260421T192037
CREATED:20170907T043032Z
LAST-MODIFIED:20170907T043032Z
UID:4161-1507838400-1507849200@nbjp.org
SUMMARY:Benito Gonzalez Quartet
DESCRIPTION:Pianist Benito Gonzalez. \nHyatt Regency – 2 Albany St. New Brunswick\, NJ\nNo cover charge.
URL:https://nbjp.org/event/benito-gonzalez-quartet-2/
LOCATION:Hyatt Regency\, 2 Albany St.\, New Brunswick\, NJ\, 08901\, United States
CATEGORIES:Music
ATTACH;FMTTYPE=image/jpeg:https://nbjp.org/wp-content/uploads/2016/09/benito-gonzalez-quartet.jpg
END:VEVENT
BEGIN:VEVENT
DTSTART;TZID=America/New_York:20171011T200000
DTEND;TZID=America/New_York:20171011T230000
DTSTAMP:20260421T192037
CREATED:20170806T192138Z
LAST-MODIFIED:20170806T192157Z
UID:4088-1507752000-1507762800@nbjp.org
SUMMARY:JC Stylles Trio
DESCRIPTION:JC Stylles Trio \nINC American Bar & Kitchen\, 302 George St. New Brunswick\, NJ\nNo cover charge. Reservations
URL:https://nbjp.org/event/jc-stylles-trio-3/
LOCATION:INC American Bar & Kitchen\, 302 George St. \, New Brunswick\, NJ\, 08901\, United States
CATEGORIES:Music
ATTACH;FMTTYPE=image/jpeg:https://nbjp.org/wp-content/uploads/2016/08/jc-stylles-trio.jpg
END:VEVENT
BEGIN:VEVENT
DTSTART;TZID=America/New_York:20171010T200000
DTEND;TZID=America/New_York:20171010T230000
DTSTAMP:20260421T192037
CREATED:20170907T042836Z
LAST-MODIFIED:20170907T042836Z
UID:4157-1507665600-1507676400@nbjp.org
SUMMARY:Emerging Artists & Open Jam\, Dominic Palombi Band
DESCRIPTION:Dom Palombi Project \nDominic Palombi – Drums \nJam session at 9.30!\nGarden State Ale House – 378 George St. New Brunswick\, NJ \nNo cover charge.
URL:https://nbjp.org/event/emerging-artists-open-jam-dominic-palombi-band-2/
LOCATION:Garden State Ale House\, 378 George St.\, New Brunswick\, NJ\, 08901\, United States
CATEGORIES:Music
ATTACH;FMTTYPE=image/jpeg:https://nbjp.org/wp-content/uploads/2017/05/DomPalombi.jpg
END:VEVENT
BEGIN:VEVENT
DTSTART;TZID=America/New_York:20171006T183000
DTEND;TZID=America/New_York:20171006T213000
DTSTAMP:20260421T192037
CREATED:20170907T042728Z
LAST-MODIFIED:20170907T042728Z
UID:4154-1507314600-1507325400@nbjp.org
SUMMARY:Candice Reyes Duo
DESCRIPTION:Vocalist Candice Reyes \nDue Mari\, 78 Albany St. New Brunswick\, NJ  \nNo cover charge
URL:https://nbjp.org/event/candice-reyes-duo-4/
LOCATION:Due Mari\, 78 Albany St.\, New Brunswick\, NJ\, 08901\, United States
CATEGORIES:Music
ATTACH;FMTTYPE=image/jpeg:https://nbjp.org/wp-content/uploads/2016/08/candice-reyes-duo.jpg
END:VEVENT
BEGIN:VEVENT
DTSTART;TZID=America/New_York:20171004T200000
DTEND;TZID=America/New_York:20171004T230000
DTSTAMP:20260421T192037
CREATED:20170806T184859Z
LAST-MODIFIED:20170929T140530Z
UID:4026-1507147200-1507158000@nbjp.org
SUMMARY:Nat Adderley\, Jr. Trio
DESCRIPTION:Nat Adderley\, Jr. Trio \n\nNat Adderley\, Jr. – keyboard.\n\n\nRocky Bryant – drums\n\n\nKenny Davis – bass\n\nINC American Bar & Kitchen\, 302 George St. New Brunswick\, NJ\nNo cover charge. Reservations
URL:https://nbjp.org/event/nat-adderley-jr-trio-2/
LOCATION:INC American Bar & Kitchen\, 302 George St. \, New Brunswick\, NJ\, 08901\, United States
CATEGORIES:Music
ATTACH;FMTTYPE=image/jpeg:https://nbjp.org/wp-content/uploads/2016/12/Nat-Adderly-Jr..jpg
END:VEVENT
BEGIN:VEVENT
DTSTART;TZID=America/New_York:20171003T200000
DTEND;TZID=America/New_York:20171003T230000
DTSTAMP:20260421T192037
CREATED:20170907T042603Z
LAST-MODIFIED:20170907T042603Z
UID:4146-1507060800-1507071600@nbjp.org
SUMMARY:Emerging Artists & Open Session – Kyle Duppstadt Band
DESCRIPTION:Emerging Artists Night.\nKyle Duppstadt drums\, \nOpen Jam Session at 9.30!\nGarden State Ale House – 378 George St. New Brunswick\, NJ
URL:https://nbjp.org/event/emerging-artists-open-session-kyle-duppstadt-band-2/
LOCATION:Garden State Ale House\, 378 George St.\, New Brunswick\, NJ\, 08901\, United States
CATEGORIES:Music
ATTACH;FMTTYPE=image/jpeg:https://nbjp.org/wp-content/uploads/2016/10/KyleDuppstadt.jpg
END:VEVENT
BEGIN:VEVENT
DTSTART;TZID=America/New_York:20170929T183000
DTEND;TZID=America/New_York:20170929T213000
DTSTAMP:20260421T192037
CREATED:20170907T042348Z
LAST-MODIFIED:20170907T042348Z
UID:4141-1506709800-1506720600@nbjp.org
SUMMARY:Stephen Fuller Duo
DESCRIPTION:Stephen Fuller Duo \nDue Marie – 78 Albany St.  Brunswick\, NJ \nNo cover charge.
URL:https://nbjp.org/event/stephen-fuller-duo-2/
LOCATION:Due Mari\, 78 Albany St.\, New Brunswick\, NJ\, 08901\, United States
ATTACH;FMTTYPE=image/jpeg:https://nbjp.org/wp-content/uploads/2016/12/Stephen-Fuller.jpg
END:VEVENT
BEGIN:VEVENT
DTSTART;TZID=America/New_York:20170928T200000
DTEND;TZID=America/New_York:20170928T230000
DTSTAMP:20260421T192037
CREATED:20170806T191956Z
LAST-MODIFIED:20170921T031903Z
UID:4084-1506628800-1506639600@nbjp.org
SUMMARY:Jared Gold Quartet
DESCRIPTION:  \nJared Gold Quartet \nJared Gold Quartet featuring Steve Nelson – vibes\, Paul Bollenback – guitar and McClenty Hunter drums \nHyatt Regency – 2 Albany St. New Brunswick\, NJ\nNo cover charge.
URL:https://nbjp.org/event/dave-stryker-quartet/
LOCATION:Hyatt Regency\, 2 Albany St.\, New Brunswick\, NJ\, 08901\, United States
CATEGORIES:Music
ATTACH;FMTTYPE=image/jpeg:https://nbjp.org/wp-content/uploads/2017/08/JaredGold400.jpg
END:VEVENT
BEGIN:VEVENT
DTSTART;TZID=America/New_York:20170927T200000
DTEND;TZID=America/New_York:20170927T230000
DTSTAMP:20260421T192037
CREATED:20170806T191708Z
LAST-MODIFIED:20170806T191708Z
UID:4079-1506542400-1506553200@nbjp.org
SUMMARY:Mariel Bildsten Trio
DESCRIPTION:Mariel Bildsten Trio \n  \nINC American Bar & Kitchen\, 302 George St. New Brunswick\, NJ \nNo cover charge. Reservations
URL:https://nbjp.org/event/mariel-bildsten-trio-2/
LOCATION:NJ
CATEGORIES:Music
ATTACH;FMTTYPE=image/jpeg:https://nbjp.org/wp-content/uploads/2016/10/mariel.jpg
END:VEVENT
BEGIN:VEVENT
DTSTART;TZID=America/New_York:20170926T200000
DTEND;TZID=America/New_York:20170926T230000
DTSTAMP:20260421T192037
CREATED:20170907T042212Z
LAST-MODIFIED:20170907T042212Z
UID:4131-1506456000-1506466800@nbjp.org
SUMMARY:Emerging Artists & Open Session – Jonathan Kirschner Band
DESCRIPTION:Emerging Artists Night. \nJazzy Jon and the Hard Bop Hitters.\nGuitarist Jonathan Kirschner and his band. \nOpen Jam Session at 9.30! \nGarden State Ale House – 378 George St. New Brunswick\, NJ
URL:https://nbjp.org/event/emerging-artists-open-session-jonathan-kirschner-band-2/
LOCATION:Garden State Ale House\, 378 George St.\, New Brunswick\, NJ\, 08901\, United States
CATEGORIES:Music
ATTACH;FMTTYPE=image/jpeg:https://nbjp.org/wp-content/uploads/2016/11/JonathanKirschner.jpg
END:VEVENT
BEGIN:VEVENT
DTSTART;TZID=America/New_York:20170922T183000
DTEND;TZID=America/New_York:20170922T213000
DTSTAMP:20260421T192037
CREATED:20170907T041948Z
LAST-MODIFIED:20170907T041948Z
UID:4126-1506105000-1506115800@nbjp.org
SUMMARY:Kate Curran Duo
DESCRIPTION:Kate Curran Duo \nKate Curran – vocals \n  \nDue Mari\, 78 Albany St. New Brunswick\, NJ\nNo cover charge. Reservations
URL:https://nbjp.org/event/kate-curran-duo-5/
LOCATION:Due Mari\, 78 Albany St.\, New Brunswick\, NJ\, 08901\, United States
CATEGORIES:Music
ATTACH;FMTTYPE=image/jpeg:https://nbjp.org/wp-content/uploads/2016/12/Kate-Curran.jpg
END:VEVENT
BEGIN:VEVENT
DTSTART;TZID=America/New_York:20170921T200000
DTEND;TZID=America/New_York:20170921T230000
DTSTAMP:20260421T192037
CREATED:20170806T191531Z
LAST-MODIFIED:20170806T222420Z
UID:4075-1506024000-1506034800@nbjp.org
SUMMARY:Shirazette and Sonic Wallpaper
DESCRIPTION:Shirazette Tinnin \nHyatt Regency – 2 Albany St. New Brunswick\, NJ\nNo cover charge.
URL:https://nbjp.org/event/shirazette-and-sonic-wallpaper/
LOCATION:Hyatt Regency\, 2 Albany St.\, New Brunswick\, NJ\, 08901\, United States
CATEGORIES:Music
ATTACH;FMTTYPE=image/jpeg:https://nbjp.org/wp-content/uploads/2016/12/Shirazette-3.jpg
END:VEVENT
BEGIN:VEVENT
DTSTART;TZID=America/New_York:20170920T200000
DTEND;TZID=America/New_York:20170920T230000
DTSTAMP:20260421T192037
CREATED:20170806T191206Z
LAST-MODIFIED:20170806T194600Z
UID:4070-1505937600-1505948400@nbjp.org
SUMMARY:Vince Ector Trio
DESCRIPTION:Vince Ector Trio. \nINC American Bar & Kitchen\, 302 George St. New Brunswick\, NJ\nNo cover charge. Reservations
URL:https://nbjp.org/event/vince-ector-trio/
LOCATION:INC American Bar & Kitchen\, 302 George St. \, New Brunswick\, NJ\, 08901\, United States
CATEGORIES:Music
ATTACH;FMTTYPE=image/jpeg:https://nbjp.org/wp-content/uploads/2017/08/vincentector-organatomy.jpg
END:VEVENT
BEGIN:VEVENT
DTSTART;TZID=America/New_York:20170919T200000
DTEND;TZID=America/New_York:20170919T230000
DTSTAMP:20260421T192037
CREATED:20170907T041657Z
LAST-MODIFIED:20170918T135106Z
UID:4123-1505851200-1505862000@nbjp.org
SUMMARY:Mike Bernabe Band
DESCRIPTION:Pianist Mike Bernabe and his band. \nJam session at 9.30!\nGarden State Ale House – 378 George St. New Brunswick\, NJ
URL:https://nbjp.org/event/mike-bernabe-band-2/
LOCATION:Garden State Ale House\, 378 George St.\, New Brunswick\, NJ\, 08901\, United States
CATEGORIES:Music
ATTACH;FMTTYPE=image/jpeg:https://nbjp.org/wp-content/uploads/2016/08/mike-bernabe-band.jpg
END:VEVENT
END:VCALENDAR