BEGIN:VCALENDAR
VERSION:2.0
PRODID:-//New Brunswick Jazz Project - ECPv6.15.18//NONSGML v1.0//EN
CALSCALE:GREGORIAN
METHOD:PUBLISH
X-WR-CALNAME:New Brunswick Jazz Project
X-ORIGINAL-URL:https://nbjp.org
X-WR-CALDESC:Events for New Brunswick Jazz Project
REFRESH-INTERVAL;VALUE=DURATION:PT1H
X-Robots-Tag:noindex
X-PUBLISHED-TTL:PT1H
BEGIN:VTIMEZONE
TZID:America/New_York
BEGIN:DAYLIGHT
TZOFFSETFROM:-0500
TZOFFSETTO:-0400
TZNAME:EDT
DTSTART:20160313T070000
END:DAYLIGHT
BEGIN:STANDARD
TZOFFSETFROM:-0400
TZOFFSETTO:-0500
TZNAME:EST
DTSTART:20161106T060000
END:STANDARD
BEGIN:DAYLIGHT
TZOFFSETFROM:-0500
TZOFFSETTO:-0400
TZNAME:EDT
DTSTART:20170312T070000
END:DAYLIGHT
BEGIN:STANDARD
TZOFFSETFROM:-0400
TZOFFSETTO:-0500
TZNAME:EST
DTSTART:20171105T060000
END:STANDARD
BEGIN:DAYLIGHT
TZOFFSETFROM:-0500
TZOFFSETTO:-0400
TZNAME:EDT
DTSTART:20180311T070000
END:DAYLIGHT
BEGIN:STANDARD
TZOFFSETFROM:-0400
TZOFFSETTO:-0500
TZNAME:EST
DTSTART:20181104T060000
END:STANDARD
END:VTIMEZONE
BEGIN:VEVENT
DTSTART;TZID=America/New_York:20170228T160000
DTEND;TZID=America/New_York:20170301T020000
DTSTAMP:20260419T092510
CREATED:20170214T201002Z
LAST-MODIFIED:20170214T201002Z
UID:3264-1488297600-1488333600@nbjp.org
SUMMARY:The New Brunswick Jazz Project
DESCRIPTION:  \nThe New Brunswick Jazz Project  \nGreg DeAngelis-Bone\, Justin Jones- clarinet\, Anthony Fazio- trumpet\, Kyle Duppstadt- drums\, Matt Echols- sousaphone \nJoin Old Bay once again for their Annual Mardi Gras Celebration!\nLive music by The New Brunswick Jazz Project and The ON7 Band.\nNew Orleans Style Buffet\nMasks\, Beads\, Giveaways\, and more!!!\nThe Party starts at 4pm until 2am\nOnly $15 Cover \n  \nOld Bay Restaurant\n61 Church St New Brunswick\, New Jersey 08901 \n 
URL:https://nbjp.org/event/the-new-brunswick-jazz-project/
LOCATION:The Old Bay Restaurant\, 61 Church Street\, New Brunswick\, NJ\, 08901\, United States
CATEGORIES:Music
ATTACH;FMTTYPE=image/jpeg:https://nbjp.org/wp-content/uploads/2017/02/mardi-gras-ob.jpg
END:VEVENT
BEGIN:VEVENT
DTSTART;TZID=America/New_York:20170224T183000
DTEND;TZID=America/New_York:20170224T213000
DTSTAMP:20260419T092510
CREATED:20161220T204000Z
LAST-MODIFIED:20170214T214121Z
UID:2742-1487961000-1487971800@nbjp.org
SUMMARY:Michael Bond Duo
DESCRIPTION:Michael Bond & Kelly Green \nDue Mari\, 78 Albany St. New Brunswick\, NJ\nNo cover charge. Reservations
URL:https://nbjp.org/event/michael-bond-duo/
LOCATION:Due Mari\, 78 Albany St.\, New Brunswick\, NJ\, 08901\, United States
CATEGORIES:Music
ATTACH;FMTTYPE=image/jpeg:https://nbjp.org/wp-content/uploads/2016/12/michael-Bond.jpg
END:VEVENT
BEGIN:VEVENT
DTSTART;TZID=America/New_York:20170223T200000
DTEND;TZID=America/New_York:20170223T230000
DTSTAMP:20260419T092510
CREATED:20161220T210124Z
LAST-MODIFIED:20170123T153546Z
UID:2757-1487880000-1487890800@nbjp.org
SUMMARY:Dave Schumacher Quartet
DESCRIPTION:Dave Schumacher Quartet \n\nDave Schumacher- Baritone Saxophone\n\n\nCharlie Sigler- Guitar \n\n\nJamale D. Deshon- Bass\n\n\nJ. Taylor Leach- Drums\n\nHyatt Regency – 2 Albany St. New Brunswick\, NJ\nNo cover charge.
URL:https://nbjp.org/event/dave-schumacher-quartet/
LOCATION:Hyatt Regency\, 2 Albany St.\, New Brunswick\, NJ\, 08901\, United States
CATEGORIES:Music
ATTACH;FMTTYPE=image/jpeg:https://nbjp.org/wp-content/uploads/2016/12/Dave-Shumacher.jpg
END:VEVENT
BEGIN:VEVENT
DTSTART;TZID=America/New_York:20170222T200000
DTEND;TZID=America/New_York:20170222T230000
DTSTAMP:20260419T092510
CREATED:20161220T203320Z
LAST-MODIFIED:20170213T153629Z
UID:2736-1487793600-1487804400@nbjp.org
SUMMARY:Michael Bond Trio featuring Duane Eubanks
DESCRIPTION:Michael Bond Trio featuring Duane Eubanks \n  \n  \nINC American Bar & Kitchen\, 302 George St. New Brunswick\, NJ\nNo cover charge. Reservations
URL:https://nbjp.org/event/michael-bond-trio-featuring-duane-eubanks/
LOCATION:INC American Bar & Kitchen\, 302 George St. \, New Brunswick\, NJ\, 08901\, United States
CATEGORIES:Music
ATTACH;FMTTYPE=image/jpeg:https://nbjp.org/wp-content/uploads/2016/12/MikeDuane.jpg
END:VEVENT
BEGIN:VEVENT
DTSTART;TZID=America/New_York:20170221T200000
DTEND;TZID=America/New_York:20170221T230000
DTSTAMP:20260419T092510
CREATED:20170123T224316Z
LAST-MODIFIED:20170123T224316Z
UID:3086-1487707200-1487718000@nbjp.org
SUMMARY:Emerging Artists & Open Session – Nick Dekens Band
DESCRIPTION:Emerging Artists Night.\nNick Dekens and his band. \nOpen Jam Session at 9.30!\nGarden State Ale House – 378 George St. New Brunswick\, NJ
URL:https://nbjp.org/event/emerging-artists-open-session-nick-dekens-band/
LOCATION:Garden State Ale House\, 378 George St.\, New Brunswick\, NJ\, 08901\, United States
CATEGORIES:Music
ATTACH;FMTTYPE=image/jpeg:https://nbjp.org/wp-content/uploads/2017/01/NickDekensSq.jpg
END:VEVENT
BEGIN:VEVENT
DTSTART;TZID=America/New_York:20170217T183000
DTEND;TZID=America/New_York:20170217T213000
DTSTAMP:20260419T092510
CREATED:20170217T043719Z
LAST-MODIFIED:20170217T043719Z
UID:3278-1487356200-1487367000@nbjp.org
SUMMARY:Emma Larsson Duo
DESCRIPTION:Emma Larsson Duo \nEmma Larsson – vocals\, Matt Chertkoff -guitar \nDue Mari\, 78 Albany St. New Brunswick\, NJ\nNo cover charge. Reservations
URL:https://nbjp.org/event/emma-larsson-duo-3/
LOCATION:Due Mari\, 78 Albany St.\, New Brunswick\, NJ\, 08901\, United States
CATEGORIES:Music
ATTACH;FMTTYPE=image/jpeg:https://nbjp.org/wp-content/uploads/2016/09/Emma-Larsson.jpg
END:VEVENT
BEGIN:VEVENT
DTSTART;TZID=America/New_York:20170216T200000
DTEND;TZID=America/New_York:20170216T230000
DTSTAMP:20260419T092510
CREATED:20161220T205543Z
LAST-MODIFIED:20170212T202227Z
UID:2753-1487275200-1487286000@nbjp.org
SUMMARY:Steve Fidyk Quartet
DESCRIPTION:Steve Fidyk Quartet featuring Xavier Perez tenor sax\, Behn Gillece – vibes\, and Nathan Kawaller – bass. \nHyatt Regency – 2 Albany St. New Brunswick\, NJ\nNo cover charge.
URL:https://nbjp.org/event/steve-fidyk-quartet/
LOCATION:Hyatt Regency\, 2 Albany St.\, New Brunswick\, NJ\, 08901\, United States
CATEGORIES:Music
ATTACH;FMTTYPE=image/jpeg:https://nbjp.org/wp-content/uploads/2016/12/Steve-Fidyk-e1486655759248.jpg
END:VEVENT
BEGIN:VEVENT
DTSTART;TZID=America/New_York:20170215T200000
DTEND;TZID=America/New_York:20170215T230000
DTSTAMP:20260419T092510
CREATED:20161220T201521Z
LAST-MODIFIED:20170212T202409Z
UID:2731-1487188800-1487199600@nbjp.org
SUMMARY:Nat Adderly Jr. Trio
DESCRIPTION:Nat Adderly Jr. Trio featuring Kenny Davis – bass and Pheeroan AkLaff – drums. \n  \n  \nINC American Bar & Kitchen\, 302 George St. New Brunswick\, NJ\nNo cover charge. Reservations
URL:https://nbjp.org/event/nat-adderly-jr-trio-2/
LOCATION:INC American Bar & Kitchen\, 302 George St. \, New Brunswick\, NJ\, 08901\, United States
CATEGORIES:Music
ATTACH;FMTTYPE=image/jpeg:https://nbjp.org/wp-content/uploads/2016/12/Nat-Adderly-Jr..jpg
END:VEVENT
BEGIN:VEVENT
DTSTART;TZID=America/New_York:20170214T200000
DTEND;TZID=America/New_York:20170214T230000
DTSTAMP:20260419T092510
CREATED:20170121T231539Z
LAST-MODIFIED:20170212T212057Z
UID:3047-1487102400-1487113200@nbjp.org
SUMMARY:Emerging Artists & Open Session – Chris Gold Band
DESCRIPTION:Emerging Artists Night.\nChris Gold – alto sax with Tom Killackey – trumpet\, William Gorman – organ and Vince Evangelista – drums. \nOpen Jam Session at 9.30!\nGarden State Ale House – 378 George St. New Brunswick\, NJ
URL:https://nbjp.org/event/emerging-artists-open-session-chris-gold-band/
LOCATION:Garden State Ale House\, 378 George St.\, New Brunswick\, NJ\, 08901\, United States
CATEGORIES:Music
ATTACH;FMTTYPE=image/jpeg:https://nbjp.org/wp-content/uploads/2016/12/ChrisGoldSQ.jpg
END:VEVENT
BEGIN:VEVENT
DTSTART;TZID=America/New_York:20170214T180000
DTEND;TZID=America/New_York:20170214T220000
DTSTAMP:20260419T092510
CREATED:20170112T151145Z
LAST-MODIFIED:20170112T151145Z
UID:2914-1487095200-1487109600@nbjp.org
SUMMARY:Oscar Perez Duo
DESCRIPTION:Oscar Perez Duo \nDue Mari\, 78 Albany St. New Brunswick\, NJ\nNo cover charge. Reservations \n 
URL:https://nbjp.org/event/oscar-perez-duo/
LOCATION:Due Mari\, 78 Albany St.\, New Brunswick\, NJ\, 08901\, United States
CATEGORIES:Music
ATTACH;FMTTYPE=image/jpeg:https://nbjp.org/wp-content/uploads/2016/12/OscarPerezSQ.jpg
END:VEVENT
BEGIN:VEVENT
DTSTART;TZID=America/New_York:20170210T183000
DTEND;TZID=America/New_York:20170210T213000
DTSTAMP:20260419T092510
CREATED:20161220T200546Z
LAST-MODIFIED:20170201T213614Z
UID:2723-1486751400-1486762200@nbjp.org
SUMMARY:Emma Larsson Duo
DESCRIPTION:Emma Larsson Duo \nEmma Larsson – vocals\, Matt Chertkoff -guitar \nDue Mari\, 78 Albany St. New Brunswick\, NJ\nNo cover charge. Reservations
URL:https://nbjp.org/event/emma-larsson-duo/
LOCATION:Due Mari\, 78 Albany St.\, New Brunswick\, NJ\, 08901\, United States
CATEGORIES:Music
ATTACH;FMTTYPE=image/jpeg:https://nbjp.org/wp-content/uploads/2016/09/Emma-Larsson.jpg
END:VEVENT
BEGIN:VEVENT
DTSTART;TZID=America/New_York:20170209T200000
DTEND;TZID=America/New_York:20170209T230000
DTSTAMP:20260419T092510
CREATED:20161222T172830Z
LAST-MODIFIED:20170209T143614Z
UID:2786-1486670400-1486681200@nbjp.org
SUMMARY:Triangular III - Ralph Peterson Trio featuring The Curtis Brothers
DESCRIPTION:Tonight’s event is cancelled due to inclement weather. \nTriangular III – Ralph Peterson Trio featuring The Curtis Brothers \nHyatt Regency – 2 Albany St. New Brunswick\, NJ\nNo cover charge.
URL:https://nbjp.org/event/triangular-iii-ralph-peterson-trio-featuring-the-curtis-brothers/
LOCATION:Hyatt Regency\, 2 Albany St.\, New Brunswick\, NJ\, 08901\, United States
CATEGORIES:Music
ATTACH;FMTTYPE=image/jpeg:https://nbjp.org/wp-content/uploads/2016/12/Cancelled.jpg
END:VEVENT
BEGIN:VEVENT
DTSTART;TZID=America/New_York:20170208T200000
DTEND;TZID=America/New_York:20170208T230000
DTSTAMP:20260419T092510
CREATED:20161205T212058Z
LAST-MODIFIED:20170123T154852Z
UID:2616-1486584000-1486594800@nbjp.org
SUMMARY:Felix Peikli Trio
DESCRIPTION:Felix Peikli Trio \nFelix Peikli – clarinet\, Joseph Doubleday – vibes\,  Dag Markhus – drums \n  \n  \nINC American Bar & Kitchen\, 302 George St. New Brunswick\, NJ\nNo cover charge. Reservations
URL:https://nbjp.org/event/felix-peikli-trio/
LOCATION:INC American Bar & Kitchen\, 302 George St. \, New Brunswick\, NJ\, 08901\, United States
CATEGORIES:Music
ATTACH;FMTTYPE=image/jpeg:https://nbjp.org/wp-content/uploads/2016/12/Felix-Peikli.jpg
END:VEVENT
BEGIN:VEVENT
DTSTART;TZID=America/New_York:20170207T200000
DTEND;TZID=America/New_York:20170207T230000
DTSTAMP:20260419T092510
CREATED:20170201T212024Z
LAST-MODIFIED:20170201T213142Z
UID:3138-1486497600-1486508400@nbjp.org
SUMMARY:Emerging Artists & Open Session – Stephen Yee Band
DESCRIPTION:Emerging Artists Night.\nSaxophonist Stephen Yee and his band. \nJon Kirschner – Guitar\, Ryan Permaul – Bass\, Kyle Duppstadt – Drums \nOpen Jam Session at 9.30!\nGarden State Ale House – 378 George St. New Brunswick\, NJ
URL:https://nbjp.org/event/emerging-artists-open-session-stephen-yee-band-2/
LOCATION:Garden State Ale House\, 378 George St.\, New Brunswick\, NJ\, 08901\, United States
CATEGORIES:Music
ATTACH;FMTTYPE=image/jpeg:https://nbjp.org/wp-content/uploads/2016/10/StephenYee1.jpg
END:VEVENT
BEGIN:VEVENT
DTSTART;TZID=America/New_York:20170203T183000
DTEND;TZID=America/New_York:20170203T213000
DTSTAMP:20260419T092510
CREATED:20161220T195008Z
LAST-MODIFIED:20161220T195307Z
UID:2714-1486146600-1486157400@nbjp.org
SUMMARY:Kate Curran Duo
DESCRIPTION:Kate Curran Duo \nDue Mari\, 78 Albany St. New Brunswick\, NJ\nNo cover charge. Reservations
URL:https://nbjp.org/event/kate-curran-duo-2/
LOCATION:Due Mari\, 78 Albany St.\, New Brunswick\, NJ\, 08901\, United States
CATEGORIES:Music
ATTACH;FMTTYPE=image/jpeg:https://nbjp.org/wp-content/uploads/2016/12/Kate-Curran.jpg
END:VEVENT
BEGIN:VEVENT
DTSTART;TZID=America/New_York:20170202T200000
DTEND;TZID=America/New_York:20170202T230000
DTSTAMP:20260419T092510
CREATED:20161220T204736Z
LAST-MODIFIED:20161220T204736Z
UID:2747-1486065600-1486076400@nbjp.org
SUMMARY:Stephen Fuller Quartet
DESCRIPTION:Stephen Fuller Quartet \nHyatt Regency – 2 Albany St. New Brunswick\, NJ \nNo cover charge.
URL:https://nbjp.org/event/stephen-fuller-quartet-2/
LOCATION:Hyatt Regency\, 2 Albany St.\, New Brunswick\, NJ\, 08901\, United States
ATTACH;FMTTYPE=image/jpeg:https://nbjp.org/wp-content/uploads/2016/12/Stephen-Fuller.jpg
END:VEVENT
BEGIN:VEVENT
DTSTART;TZID=America/New_York:20170201T200000
DTEND;TZID=America/New_York:20170201T230000
DTSTAMP:20260419T092510
CREATED:20161222T174116Z
LAST-MODIFIED:20170123T154316Z
UID:2791-1485979200-1485990000@nbjp.org
SUMMARY:Jerome Jennings Trio
DESCRIPTION:Jerome Jennings Trio \n\nJerome Jennings – drums\n\n\nCraig Handy – sax\n\n\nBen Paterson- organ\n\n  \n  \nINC American Bar & Kitchen\, 302 George St. New Brunswick\, NJ\nNo cover charge. Reservations
URL:https://nbjp.org/event/jerome-jennings-trio/
LOCATION:INC American Bar & Kitchen\, 302 George St. \, New Brunswick\, NJ\, 08901\, United States
CATEGORIES:Music
ATTACH;FMTTYPE=image/jpeg:https://nbjp.org/wp-content/uploads/2016/10/jerome-jennings.jpg
END:VEVENT
BEGIN:VEVENT
DTSTART;TZID=America/New_York:20170131T200000
DTEND;TZID=America/New_York:20170131T230000
DTSTAMP:20260419T092510
CREATED:20161218T200051Z
LAST-MODIFIED:20161223T165935Z
UID:2695-1485892800-1485903600@nbjp.org
SUMMARY:Emerging Artists & Open Session – John Tyler Donathan Band
DESCRIPTION:Emerging Artists Night.\nJohn Tyler Donathan and his Band. \nOpen Jam Session at 9.30!\nGarden State Ale House – 378 George St. New Brunswick\, NJ
URL:https://nbjp.org/event/emerging-artists-open-session-john-tyler-donathan-band/
LOCATION:Garden State Ale House\, 378 George St.\, New Brunswick\, NJ\, 08901\, United States
CATEGORIES:Music
ATTACH;FMTTYPE=image/jpeg:https://nbjp.org/wp-content/uploads/2016/08/john-tyler-donathan-band-e1482091222725.jpg
END:VEVENT
BEGIN:VEVENT
DTSTART;TZID=America/New_York:20170128T190000
DTEND;TZID=America/New_York:20170128T220000
DTSTAMP:20260419T092510
CREATED:20161221T194626Z
LAST-MODIFIED:20170123T152012Z
UID:2777-1485630000-1485640800@nbjp.org
SUMMARY:Akiko Tsuruga Trio
DESCRIPTION:Akiko Tsuruga Trio \nAkiko – keys\, Jason Tiemann – drums\, Charlie Sigler – guitar \nChrisopher’s Lounge\, The Heldrich Hotel\, 10 Livingston Ave. New Brunswick\, NJ\nNo cover charge.
URL:https://nbjp.org/event/akiko-tsuruga-trio/
LOCATION:The Heldrich\, 10 Livingston Avenue\, New Brunwick\, NJ\, 08901
CATEGORIES:Music
ATTACH;FMTTYPE=image/jpeg:https://nbjp.org/wp-content/uploads/2016/11/AkikoFeatured.jpg
END:VEVENT
BEGIN:VEVENT
DTSTART;TZID=America/New_York:20170128T160000
DTEND;TZID=America/New_York:20170128T200000
DTSTAMP:20260419T092510
CREATED:20161218T201415Z
LAST-MODIFIED:20161221T200703Z
UID:2704-1485619200-1485633600@nbjp.org
SUMMARY:CRAFT BEER & SPIRIT FESTIVAL- Justin Jones Trio
DESCRIPTION:Craft & Spirit Festival \n\n\n\n\nHeldrich Craft & Spirit Festival\nWhen: Jan 28\, 2017 at 4:00pm\nWhere: Heldrich Hotel \n\n\nHeldrich Craft Beer & Spirit Festival\, January 28\, 2017\, 4 PM to 8 PM at The Heldrich Hotel.  Over 25 representatives from Craft Spirit & Craft Breweries will be in attendance!  A $40 ticket includes a custom tasting glass\, the tasting\, incredible food and live jazz. \nbenefiting Big Brothers Big Sisters of Monmouth & Middlesex Counties. \nThere will be over 25 representatives from Spirits & Craft Breweries in the Metro area \n For more information call 732-214-2206  www.theheldrich.com/festival \n\n\n\n\n\n Alto saxophonist Justin Jones and his Trio.
URL:https://nbjp.org/event/craft-beer-spirit-festival-justin-jones-trio/
LOCATION:The Heldrich\, 10 Livingston Avenue\, New Brunwick\, NJ\, 08901
CATEGORIES:Fund Raiser,Music
ATTACH;FMTTYPE=image/jpeg:https://nbjp.org/wp-content/uploads/2016/12/Heldrich-Craft-Spirit-Festival.jpg
END:VEVENT
BEGIN:VEVENT
DTSTART;TZID=America/New_York:20170127T183000
DTEND;TZID=America/New_York:20170127T213000
DTSTAMP:20260419T092510
CREATED:20161218T193027Z
LAST-MODIFIED:20170123T151752Z
UID:2678-1485541800-1485552600@nbjp.org
SUMMARY:Marianne Solivan Duo
DESCRIPTION:Marianne Solivan Duo\nJosh Richman – keys\, Marianne Solivan – vocals \n\nDue Mari\, 78 Albany St. New Brunswick\, NJ   \nNo cover charge. Reservations 
URL:https://nbjp.org/event/marianne-solivan-duo/
LOCATION:Due Mari\, 78 Albany St.\, New Brunswick\, NJ\, 08901\, United States
ATTACH;FMTTYPE=image/jpeg:https://nbjp.org/wp-content/uploads/2016/12/MarianneSolivanSQ.jpg
END:VEVENT
BEGIN:VEVENT
DTSTART;TZID=America/New_York:20170126T200000
DTEND;TZID=America/New_York:20170126T230000
DTSTAMP:20260419T092510
CREATED:20161218T193727Z
LAST-MODIFIED:20170123T151540Z
UID:2682-1485460800-1485471600@nbjp.org
SUMMARY:Todd Bashore Quartet
DESCRIPTION:Todd Bashore Quartet \nBenito Gonzalez – keys\, Carlo De Rosa – bass\, Jason Brown – drums\, Todd Bashore – sax \nHyatt Regency – 2 Albany St. New Brunswick\, NJ \nNo cover charge.
URL:https://nbjp.org/event/todd-bashore-quartet/
LOCATION:Hyatt Regency\, 2 Albany St.\, New Brunswick\, NJ\, 08901\, United States
ATTACH;FMTTYPE=image/jpeg:https://nbjp.org/wp-content/uploads/2016/12/ToddBashoreSQ.jpg
END:VEVENT
BEGIN:VEVENT
DTSTART;TZID=America/New_York:20170125T200000
DTEND;TZID=America/New_York:20170125T230000
DTSTAMP:20260419T092510
CREATED:20161205T200526Z
LAST-MODIFIED:20170112T151635Z
UID:2612-1485374400-1485385200@nbjp.org
SUMMARY:Kyle Koehler Trio
DESCRIPTION:Kyle Koehler Trio \n  \nKyle Koehler – organ \nEd Cherry – guitar \nJason Tiemann – drums \nINC American Bar & Kitchen\, 302 George St. New Brunswick\, NJ\nNo cover charge. Reservations
URL:https://nbjp.org/event/kyle-koehler-trio-2/
LOCATION:INC American Bar & Kitchen\, 302 George St. \, New Brunswick\, NJ\, 08901\, United States
CATEGORIES:Music
ATTACH;FMTTYPE=image/jpeg:https://nbjp.org/wp-content/uploads/2016/10/Kyle-Koehler.jpg
END:VEVENT
BEGIN:VEVENT
DTSTART;TZID=America/New_York:20170119T200000
DTEND;TZID=America/New_York:20170119T230000
DTSTAMP:20260419T092510
CREATED:20161218T190827Z
LAST-MODIFIED:20170117T145403Z
UID:2669-1484856000-1484866800@nbjp.org
SUMMARY:Rob Edwards Quartet
DESCRIPTION:Robert Edwards Quartet \nRobert Edwards – trombone \nCharlie Sigler – Guitar \nJared Gold – Organ \nColby Inzer – drums \nHyatt Regency – 2 Albany St. New Brunswick\, NJ \nNo cover charge.
URL:https://nbjp.org/event/rob-edwards-quartet/
LOCATION:Hyatt Regency\, 2 Albany St.\, New Brunswick\, NJ\, 08901\, United States
ATTACH;FMTTYPE=image/jpeg:https://nbjp.org/wp-content/uploads/2016/12/RobertEdwardsSQ.jpg
END:VEVENT
BEGIN:VEVENT
DTSTART;TZID=America/New_York:20170118T200000
DTEND;TZID=America/New_York:20170118T230000
DTSTAMP:20260419T092510
CREATED:20161218T190316Z
LAST-MODIFIED:20170115T211342Z
UID:2664-1484769600-1484780400@nbjp.org
SUMMARY:Oscar Perez Trio
DESCRIPTION:Oscar Perez Trio featuring Chris Berger on bass and Vince Ector on drums. \n  \nINC American Bar & Kitchen\, 302 George St. New Brunswick\, NJ\nNo cover charge. Reservations
URL:https://nbjp.org/event/oscar-perez-trio-2/
LOCATION:INC American Bar & Kitchen\, 302 George St. \, New Brunswick\, NJ\, 08901\, United States
CATEGORIES:Music
ATTACH;FMTTYPE=image/jpeg:https://nbjp.org/wp-content/uploads/2016/12/OscarPerezSQ.jpg
END:VEVENT
BEGIN:VEVENT
DTSTART;TZID=America/New_York:20170117T200000
DTEND;TZID=America/New_York:20170117T230000
DTSTAMP:20260419T092510
CREATED:20161022T234922Z
LAST-MODIFIED:20170115T211212Z
UID:2382-1484683200-1484694000@nbjp.org
SUMMARY:Emerging Artists & Open Session – Kyle Duppstadt Band
DESCRIPTION:Emerging Artists Night.\nKyle Duppstadt drums\, Mike Bernabe – keyboard\, Mike Noordzy – bass\, Porter Fitch – guitar and Shabnam Abedi – vocals. \nOpen Jam Session at 9.30!\nGarden State Ale House – 378 George St. New Brunswick\, NJ
URL:https://nbjp.org/event/emerging-artists-open-session-kyle-duppstadt-band/
LOCATION:Garden State Ale House\, 378 George St.\, New Brunswick\, NJ\, 08901\, United States
CATEGORIES:Music
ATTACH;FMTTYPE=image/jpeg:https://nbjp.org/wp-content/uploads/2016/10/KyleDuppstadt.jpg
END:VEVENT
BEGIN:VEVENT
DTSTART;TZID=America/New_York:20170113T183000
DTEND;TZID=America/New_York:20170113T213000
DTSTAMP:20260419T092510
CREATED:20161218T191425Z
LAST-MODIFIED:20170110T184444Z
UID:2672-1484332200-1484343000@nbjp.org
SUMMARY:Vanessa Perea Duo
DESCRIPTION:Vanessa Perea  & Rob Edwards Duo\n Vocals and keyboard.\nDue Mari\, 78 Albany St. New Brunswick\, NJ   \nNo cover charge. Reservations 
URL:https://nbjp.org/event/vanessa-pera-duo/
LOCATION:Due Mari\, 78 Albany St.\, New Brunswick\, NJ\, 08901\, United States
ATTACH;FMTTYPE=image/jpeg:https://nbjp.org/wp-content/uploads/2016/12/VanessaPereaSQ.jpg
END:VEVENT
BEGIN:VEVENT
DTSTART;TZID=America/New_York:20170112T200000
DTEND;TZID=America/New_York:20170112T230000
DTSTAMP:20260419T092510
CREATED:20161206T184114Z
LAST-MODIFIED:20170103T010104Z
UID:2622-1484251200-1484262000@nbjp.org
SUMMARY:Anthony Ware Quartet
DESCRIPTION:Anthony Ware Quartet \nAnthony Ware – sax \nMichael King – keys \nNimrod Speaks – bass \nAndrew Atkinson – drums \nHyatt Regency – 2 Albany St. New Brunswick\, NJ \nNo cover charge.
URL:https://nbjp.org/event/anthony-ware-quartet/
LOCATION:Hyatt Regency\, 2 Albany St.\, New Brunswick\, NJ\, 08901\, United States
ATTACH;FMTTYPE=image/jpeg:https://nbjp.org/wp-content/uploads/2016/08/anthony-ware-trio.jpg
END:VEVENT
BEGIN:VEVENT
DTSTART;TZID=America/New_York:20170111T200000
DTEND;TZID=America/New_York:20170111T230000
DTSTAMP:20260419T092510
CREATED:20161218T185444Z
LAST-MODIFIED:20170109T011819Z
UID:2660-1484164800-1484175600@nbjp.org
SUMMARY:Peter & Will Anderson Trio
DESCRIPTION:Peter & Will Anderson Trio \nWill Anderson – alto sax\, clarinet\, flute\nPeter Anderson – tenor sax\, clarinet\nAdam Moezinia – guitar \n  \nINC American Bar & Kitchen\, 302 George St. New Brunswick\, NJ\nNo cover charge. Reservations
URL:https://nbjp.org/event/peter-will-anderson-trio/
LOCATION:INC American Bar & Kitchen\, 302 George St. \, New Brunswick\, NJ\, 08901\, United States
CATEGORIES:Music
ATTACH;FMTTYPE=image/jpeg:https://nbjp.org/wp-content/uploads/2016/12/PeterWillAnderson.jpg
END:VEVENT
BEGIN:VEVENT
DTSTART;TZID=America/New_York:20170106T183000
DTEND;TZID=America/New_York:20170106T213000
DTSTAMP:20260419T092510
CREATED:20161205T143920Z
LAST-MODIFIED:20161205T143920Z
UID:2592-1483727400-1483738200@nbjp.org
SUMMARY:Misha Josephs  Duo
DESCRIPTION:Misha Josephs  Duo\n\nDue Mari\, 78 Albany St. New Brunswick\, NJ   \nNo cover charge. Reservations 
URL:https://nbjp.org/event/misha-josephs-duo/
LOCATION:Due Mari\, 78 Albany St.\, New Brunswick\, NJ\, 08901\, United States
ATTACH;FMTTYPE=image/jpeg:https://nbjp.org/wp-content/uploads/2016/09/misha-josephs-duo.jpg
END:VEVENT
END:VCALENDAR