BEGIN:VCALENDAR
VERSION:2.0
PRODID:-//New Brunswick Jazz Project - ECPv6.15.18//NONSGML v1.0//EN
CALSCALE:GREGORIAN
METHOD:PUBLISH
X-WR-CALNAME:New Brunswick Jazz Project
X-ORIGINAL-URL:https://nbjp.org
X-WR-CALDESC:Events for New Brunswick Jazz Project
REFRESH-INTERVAL;VALUE=DURATION:PT1H
X-Robots-Tag:noindex
X-PUBLISHED-TTL:PT1H
BEGIN:VTIMEZONE
TZID:America/New_York
BEGIN:DAYLIGHT
TZOFFSETFROM:-0500
TZOFFSETTO:-0400
TZNAME:EDT
DTSTART:20170312T070000
END:DAYLIGHT
BEGIN:STANDARD
TZOFFSETFROM:-0400
TZOFFSETTO:-0500
TZNAME:EST
DTSTART:20171105T060000
END:STANDARD
BEGIN:DAYLIGHT
TZOFFSETFROM:-0500
TZOFFSETTO:-0400
TZNAME:EDT
DTSTART:20180311T070000
END:DAYLIGHT
BEGIN:STANDARD
TZOFFSETFROM:-0400
TZOFFSETTO:-0500
TZNAME:EST
DTSTART:20181104T060000
END:STANDARD
BEGIN:DAYLIGHT
TZOFFSETFROM:-0500
TZOFFSETTO:-0400
TZNAME:EDT
DTSTART:20190310T070000
END:DAYLIGHT
BEGIN:STANDARD
TZOFFSETFROM:-0400
TZOFFSETTO:-0500
TZNAME:EST
DTSTART:20191103T060000
END:STANDARD
END:VTIMEZONE
BEGIN:VEVENT
DTSTART;TZID=America/New_York:20180911T200000
DTEND;TZID=America/New_York:20180911T230000
DTSTAMP:20260421T001956
CREATED:20180814T155827Z
LAST-MODIFIED:20180814T155827Z
UID:6075-1536696000-1536706800@nbjp.org
SUMMARY:Emerging Artists & Open Session - Grady Barber Quartet
DESCRIPTION:Saxophonist Grady Barber and his quartet. \nOpen Jam Session at 9.30 with special guest Ted Chubb!\nGarden State Ale House – 378 George St. New Brunswick\, NJ \n  \nFunding provided in part by Middlesex County Board of Chosen Freeholders.
URL:https://nbjp.org/event/emerging-artists-open-session-grady-barber-quartet-3/
LOCATION:Garden State Ale House\, 378 George St.\, New Brunswick\, NJ\, 08901\, United States
CATEGORIES:Music
ATTACH;FMTTYPE=image/jpeg:https://nbjp.org/wp-content/uploads/2018/03/Grady-28.jpg
END:VEVENT
BEGIN:VEVENT
DTSTART;TZID=America/New_York:20180909T120000
DTEND;TZID=America/New_York:20180909T130000
DTSTAMP:20260421T001956
CREATED:20180907T032933Z
LAST-MODIFIED:20180909T120619Z
UID:6342-1536494400-1536498000@nbjp.org
SUMMARY:Mark Gross Quartet
DESCRIPTION:Mark Gross Quartet  \nJazz in the Auditorium@Christ Church New Brunswick \nOpen to the public. Food and refreshments. 12.00 to 1.15 pm \n\nMark Gross\n\n\nMike Bond\n\n\nKenny Davis\n\n\nCorey Rawls\n\n 
URL:https://nbjp.org/event/mark-gross-quartet-3/
LOCATION:Christ Church\, 5 Paterson St.\, New Brunswick\, NJ\, 08901\, United States
CATEGORIES:Music
ATTACH;FMTTYPE=image/jpeg:https://nbjp.org/wp-content/uploads/2016/10/MarkGrossBlackside.jpeg
END:VEVENT
BEGIN:VEVENT
DTSTART;TZID=America/New_York:20180906T200000
DTEND;TZID=America/New_York:20180906T230000
DTSTAMP:20260421T001956
CREATED:20180716T202207Z
LAST-MODIFIED:20180716T202207Z
UID:5894-1536264000-1536274800@nbjp.org
SUMMARY:Mike Neer Quartet
DESCRIPTION:Mike Neer Quartet \nMike Neer – lap steel guitar\nTom Beckham – vibraphones\nMatt Pavolka – bass\nDiego Voglino – drums \nThursday\, September 6\n8:00 – 11:00pm\nHyatt Regency New Brunswick 2 Albany St\, New Brunswick\, NJ
URL:https://nbjp.org/event/mike-neer-quartet/
LOCATION:Hyatt Regency\, 2 Albany St.\, New Brunswick\, NJ\, 08901\, United States
CATEGORIES:Music
ATTACH;FMTTYPE=image/jpeg:https://nbjp.org/wp-content/uploads/2018/07/Mike-Neer2.jpg
END:VEVENT
BEGIN:VEVENT
DTSTART;TZID=America/New_York:20180905T200000
DTEND;TZID=America/New_York:20180905T230000
DTSTAMP:20260421T001956
CREATED:20180716T201608Z
LAST-MODIFIED:20180903T171441Z
UID:5887-1536177600-1536188400@nbjp.org
SUMMARY:Hendrik Meurkens Trio
DESCRIPTION:Hendrik Meurkens Trio\nFeaturing Misha Tsiganov – keyboard and Chris Berger – bass.\nWednesday\, September 5\n8:00 – 11:00pm\nTavern on George 361 George St\, New Brunswick\nNo cover charge. Reservations
URL:https://nbjp.org/event/hendrik-meurkens-trio/
LOCATION:Tavern on George\, 361 George St.\, New Brunswick\, NJ\, 08901\, United States
CATEGORIES:Music
ATTACH;FMTTYPE=image/jpeg:https://nbjp.org/wp-content/uploads/2017/06/HendrikMeurkens.jpg
END:VEVENT
BEGIN:VEVENT
DTSTART;TZID=America/New_York:20180904T170000
DTEND;TZID=America/New_York:20180904T210000
DTSTAMP:20260421T001956
CREATED:20180814T160744Z
LAST-MODIFIED:20180814T160744Z
UID:6103-1536080400-1536094800@nbjp.org
SUMMARY:New Brunswick Brass Band - Art After Hours: First Tuesdays Zimmerli Art Museum
DESCRIPTION:New Brunswick Brass Band\nArt After Hours: First Tuesdays\nZimmerli Art Museum at Rutgers University \nMusic sets\n5:15 – 5:45pm\n6:15 – 7:00pm\n7:30 – 8:15pm \nSeptember 4th / 5 to 9pm \nThis month\, Art After Hours offers curator-led tours and live music. The event is always free and open to the public\, and includes complimentary refreshments. We extend a special welcome to all members of Rutgers Religious and Spiritual Groups. \nLive Music / Throughout the Evening\nThe New Brunswick Brass Band via the New Brunswick Jazz Project performs lively New Orleans sounds. \nAdmission\, activities\, and refreshments are FREE TO ALL.
URL:https://nbjp.org/event/new-brunswick-brass-band-art-after-hours-first-tuesdays-zimmerli-art-museum/
LOCATION:Zimmerli Art Museum\, 71 Hamilton St.\, New Brynswick\, NJ\, 08901\, United States
CATEGORIES:Music
ATTACH;FMTTYPE=image/png:https://nbjp.org/wp-content/uploads/2018/08/instruments_flat_trans.png
END:VEVENT
BEGIN:VEVENT
DTSTART;TZID=America/New_York:20180830T200000
DTEND;TZID=America/New_York:20180830T230000
DTSTAMP:20260421T001956
CREATED:20180625T200259Z
LAST-MODIFIED:20180625T200259Z
UID:5819-1535659200-1535670000@nbjp.org
SUMMARY:Oscar Perez Quartet
DESCRIPTION:Oscar Perez Quartet \n  \nHyatt Regency – 2 Albany St. New Brunswick\, NJ\nNo cover charge.
URL:https://nbjp.org/event/oscar-perez-quartet/
LOCATION:Hyatt Regency\, 2 Albany St.\, New Brunswick\, NJ\, 08901\, United States
CATEGORIES:Music
ATTACH;FMTTYPE=image/jpeg:https://nbjp.org/wp-content/uploads/2016/09/oscar-perez-trio.jpg
END:VEVENT
BEGIN:VEVENT
DTSTART;TZID=America/New_York:20180829T200000
DTEND;TZID=America/New_York:20180829T230000
DTSTAMP:20260421T001956
CREATED:20180723T194002Z
LAST-MODIFIED:20180723T195511Z
UID:5951-1535572800-1535583600@nbjp.org
SUMMARY:Vince Ector Trio
DESCRIPTION:Vince Ector Trio\nWednesday\, August 29\n8:00 – 11:00pm\nTavern on George 361 George St\, New Brunswick\nNo cover charge. Reservations
URL:https://nbjp.org/event/vince-ector-trio-2/
LOCATION:Tavern on George\, 361 George St.\, New Brunswick\, NJ\, 08901\, United States
CATEGORIES:Music
ATTACH;FMTTYPE=image/jpeg:https://nbjp.org/wp-content/uploads/2018/06/Vince-ector.jpg
END:VEVENT
BEGIN:VEVENT
DTSTART;TZID=America/New_York:20180828T200000
DTEND;TZID=America/New_York:20180828T230000
DTSTAMP:20260421T001956
CREATED:20180727T144616Z
LAST-MODIFIED:20180824T044338Z
UID:6001-1535486400-1535497200@nbjp.org
SUMMARY:Emerging Artists & Open Jam\, Dominic Palombi Band
DESCRIPTION:Dom Palombi Project \nDominic Palombi – Drums \nJam session at 9.30! with special guest Ralph Bowen\nFunding provided in part by Middlesex County Board of Chosen Freeholders.\nGarden State Ale House – 378 George St. New Brunswick\, NJ \nNo cover charge.
URL:https://nbjp.org/event/emerging-artists-open-jam-dominic-palombi-band-4/
LOCATION:Garden State Ale House\, 378 George St.\, New Brunswick\, NJ\, 08901\, United States
CATEGORIES:Music
ATTACH;FMTTYPE=image/jpeg:https://nbjp.org/wp-content/uploads/2018/07/DomPalombi-1.jpg
END:VEVENT
BEGIN:VEVENT
DTSTART;TZID=America/New_York:20180826T163000
DTEND;TZID=America/New_York:20180826T193000
DTSTAMP:20260421T001956
CREATED:20170529T221216Z
LAST-MODIFIED:20180824T042443Z
UID:3726-1535301000-1535311800@nbjp.org
SUMMARY:Marianne Solivan
DESCRIPTION:Stage Left Sunday Evening
URL:https://nbjp.org/event/marianne-solivan/
LOCATION:Stage Left\, 5 Livingston Ave.\, New Brunswick\, NJ\, 08901\, United States
CATEGORIES:Music
ATTACH;FMTTYPE=image/jpeg:https://nbjp.org/wp-content/uploads/2016/12/MarianneSolivanSQ.jpg
END:VEVENT
BEGIN:VEVENT
DTSTART;TZID=America/New_York:20180824T183000
DTEND;TZID=America/New_York:20180824T213000
DTSTAMP:20260421T001956
CREATED:20180824T035516Z
LAST-MODIFIED:20180824T035516Z
UID:6118-1535135400-1535146200@nbjp.org
SUMMARY:Jackie Jones Duo
DESCRIPTION:Jackie Jones Duo \nDue Mari  – 78 Albany Street New Brunswick\, NJ\nNo cover charge.
URL:https://nbjp.org/event/jackie-jones-duo-9/
LOCATION:Due Mari\, 78 Albany St.\, New Brunswick\, NJ\, 08901\, United States
CATEGORIES:Music
ATTACH;FMTTYPE=image/jpeg:https://nbjp.org/wp-content/uploads/2017/03/JackieJones700-e1699640361490.jpg
END:VEVENT
BEGIN:VEVENT
DTSTART;TZID=America/New_York:20180823T200000
DTEND;TZID=America/New_York:20180823T230000
DTSTAMP:20260421T001956
CREATED:20180625T195947Z
LAST-MODIFIED:20180625T195947Z
UID:5830-1535054400-1535065200@nbjp.org
SUMMARY:Mike Lee Quartet
DESCRIPTION:Mike Lee Quartet \n  \nHyatt Regency – 2 Albany St. New Brunswick\, NJ\nNo cover charge.
URL:https://nbjp.org/event/mike-lee-quartet/
LOCATION:Hyatt Regency\, 2 Albany St.\, New Brunswick\, NJ\, 08901\, United States
CATEGORIES:Music
ATTACH;FMTTYPE=image/jpeg:https://nbjp.org/wp-content/uploads/2018/06/Mike-Lee.jpg
END:VEVENT
BEGIN:VEVENT
DTSTART;TZID=America/New_York:20180822T200000
DTEND;TZID=America/New_York:20180822T230000
DTSTAMP:20260421T001956
CREATED:20180625T193612Z
LAST-MODIFIED:20180719T181601Z
UID:5779-1534968000-1534978800@nbjp.org
SUMMARY:Nat Adderly Jr. Trio
DESCRIPTION:Nat Adderly Jr. Trio\n\nTavern on George\n361 George St. New Brunswick\nno cover charge. Reservations
URL:https://nbjp.org/event/nat-adderly-jr-trio-7/
LOCATION:Tavern on George\, 361 George St.\, New Brunswick\, NJ\, 08901\, United States
CATEGORIES:Music
ATTACH;FMTTYPE=image/jpeg:https://nbjp.org/wp-content/uploads/2016/12/Nat-Adderly-Jr..jpg
END:VEVENT
BEGIN:VEVENT
DTSTART;TZID=America/New_York:20180821T200000
DTEND;TZID=America/New_York:20180821T230000
DTSTAMP:20260421T001956
CREATED:20180625T200858Z
LAST-MODIFIED:20180625T201225Z
UID:5850-1534881600-1534892400@nbjp.org
SUMMARY:Emerging Artists & Open Session – Paul Cuffari Band
DESCRIPTION:Paul Cuffari Band \n  \nEmerging Artists Night.\nOpen Jam Session at 9.30! \nGeorge Street Ale House – 378 George St. New Brunswick\, NJ \n 
URL:https://nbjp.org/event/emerging-artists-open-session-paul-cuffari-band/
LOCATION:Garden State Ale House\, 378 George St.\, New Brunswick\, NJ\, 08901\, United States
CATEGORIES:Music
ATTACH;FMTTYPE=image/jpeg:https://nbjp.org/wp-content/uploads/2018/06/Paul-Cuffari-e1534443461797.jpg
END:VEVENT
BEGIN:VEVENT
DTSTART;TZID=America/New_York:20180817T183000
DTEND;TZID=America/New_York:20180817T213000
DTSTAMP:20260421T001956
CREATED:20180717T184229Z
LAST-MODIFIED:20180717T184229Z
UID:5905-1534530600-1534541400@nbjp.org
SUMMARY:Ellen LaFurn Duo
DESCRIPTION:Ellen LaFurn Duo \n  \nDue Mari\, 78 Albany St. New Brunswick\, NJ\nNo cover charge. Reservations
URL:https://nbjp.org/event/ellen-lafurn-duo/
LOCATION:Due Mari\, 78 Albany St.\, New Brunswick\, NJ\, 08901\, United States
CATEGORIES:Music
ATTACH;FMTTYPE=image/jpeg:https://nbjp.org/wp-content/uploads/2018/07/Ellen-LaFurn.jpg
END:VEVENT
BEGIN:VEVENT
DTSTART;TZID=America/New_York:20180816T200000
DTEND;TZID=America/New_York:20180816T230000
DTSTAMP:20260421T001956
CREATED:20180625T195510Z
LAST-MODIFIED:20180625T195629Z
UID:5810-1534449600-1534460400@nbjp.org
SUMMARY:Lance Bryant Quartet
DESCRIPTION:Lance Bryant Quartet \n  \nHyatt Regency – 2 Albany St. New Brunswick\, NJ\nNo cover charge.
URL:https://nbjp.org/event/lance-bryant-quartet/
LOCATION:Hyatt Regency\, 2 Albany St.\, New Brunswick\, NJ\, 08901\, United States
CATEGORIES:Music
ATTACH;FMTTYPE=image/jpeg:https://nbjp.org/wp-content/uploads/2018/06/Lance-Bryant.jpg
END:VEVENT
BEGIN:VEVENT
DTSTART;TZID=America/New_York:20180815T200000
DTEND;TZID=America/New_York:20180815T230000
DTSTAMP:20260421T001956
CREATED:20180625T193438Z
LAST-MODIFIED:20180723T150200Z
UID:5773-1534363200-1534374000@nbjp.org
SUMMARY:David Gibson Trio
DESCRIPTION:David Gibson Trio \nDavid Gibson – trombone\, Jared Gold – organ\, Anwar Marshall – drums  \n  \nTavern on George 361 George St. New Brunswick\, NJ\n8:00pm – 11:00pm
URL:https://nbjp.org/event/david-gibson-trio/
LOCATION:Tavern on George\, 361 George St.\, New Brunswick\, NJ\, 08901\, United States
CATEGORIES:Music
ATTACH;FMTTYPE=image/jpeg:https://nbjp.org/wp-content/uploads/2016/09/davidgibson800x480_2016-e1476292658745.jpg
END:VEVENT
BEGIN:VEVENT
DTSTART;TZID=America/New_York:20180814T200000
DTEND;TZID=America/New_York:20180814T230000
DTSTAMP:20260421T001956
CREATED:20180727T144258Z
LAST-MODIFIED:20180814T133712Z
UID:5994-1534276800-1534287600@nbjp.org
SUMMARY:Emerging Artists & Open Session – Charlie Barber Band
DESCRIPTION:Charlie Barber Band \n \nTonight’s gig sponsorsed by Jim Pansulla\nGrady Barber- alto sax\nIlan Eisenzweig- guitar\nStephen Pale- bass\nZach Lorelli- Drums\nOpen Jam Session at 9.30! With special guest Jerry Weldon\nGeorge Street Ale House – 378 George St. New Brunswick\, NJ \nFunding provided in part by Middlesex County Board of Chosen Freeholders \nEmerging Artists Night.\nOpen Jam Session at 9.30! \nGeorge Street Ale House – 378 George St. New Brunswick\, NJ
URL:https://nbjp.org/event/emerging-artists-open-session-charlie-barber-band-2/
LOCATION:Garden State Ale House\, 378 George St.\, New Brunswick\, NJ\, 08901\, United States
CATEGORIES:Music
ATTACH;FMTTYPE=image/jpeg:https://nbjp.org/wp-content/uploads/2018/07/charlie-barber-e1533492012412.jpg
END:VEVENT
BEGIN:VEVENT
DTSTART;TZID=America/New_York:20180810T183000
DTEND;TZID=America/New_York:20180810T213000
DTSTAMP:20260421T001956
CREATED:20180716T201037Z
LAST-MODIFIED:20180805T175716Z
UID:5882-1533925800-1533936600@nbjp.org
SUMMARY:Canceled - No Jazz
DESCRIPTION:
URL:https://nbjp.org/event/emma-larsson-duo-11/
LOCATION:Due Mari\, 78 Albany St.\, New Brunswick\, NJ\, 08901\, United States
CATEGORIES:Music
END:VEVENT
BEGIN:VEVENT
DTSTART;TZID=America/New_York:20180809T200000
DTEND;TZID=America/New_York:20180809T230000
DTSTAMP:20260421T001956
CREATED:20180625T195036Z
LAST-MODIFIED:20180625T195048Z
UID:5800-1533844800-1533855600@nbjp.org
SUMMARY:Nick Hempton Quartet
DESCRIPTION:Nick Hempton Quartet \n  \nHyatt Regency – 2 Albany St. New Brunswick\, NJ\nNo cover charge.
URL:https://nbjp.org/event/nick-hempton-quartet/
LOCATION:Hyatt Regency\, 2 Albany St.\, New Brunswick\, NJ\, 08901\, United States
CATEGORIES:Music
ATTACH;FMTTYPE=image/jpeg:https://nbjp.org/wp-content/uploads/2018/06/Nick-Hempton.jpg
END:VEVENT
BEGIN:VEVENT
DTSTART;TZID=America/New_York:20180808T200000
DTEND;TZID=America/New_York:20180808T230000
DTSTAMP:20260421T001956
CREATED:20180625T193005Z
LAST-MODIFIED:20180625T193029Z
UID:5766-1533758400-1533769200@nbjp.org
SUMMARY:Sharp Radway Trio
DESCRIPTION:Sharp Radway Trio \n  \nTavern on George 361 George St. New Brunswick\, NJ\n8:00pm – 11:00pm
URL:https://nbjp.org/event/sharp-radway-trio-2/
LOCATION:Tavern on George\, 361 George St.\, New Brunswick\, NJ\, 08901\, United States
CATEGORIES:Music
ATTACH;FMTTYPE=image/jpeg:https://nbjp.org/wp-content/uploads/2018/03/Sharp-Radway.jpg
END:VEVENT
BEGIN:VEVENT
DTSTART;TZID=America/New_York:20180807T200000
DTEND;TZID=America/New_York:20180807T230000
DTSTAMP:20260421T001956
CREATED:20180625T200610Z
LAST-MODIFIED:20180625T200610Z
UID:5843-1533672000-1533682800@nbjp.org
SUMMARY:Emerging Artists & Open Session – Dave Mosko Band
DESCRIPTION:Dave Mosko Band \nDave Mosko-Leader/Trombone \nEmerging Artists Night.\nOpen Jam Session at 9.30 with special guest Matt Chertkoff! \nFunding provided in part by Middlesex County Board of Chosen Freeholders. \nGeorge Street Ale House – 378 George St. New Brunswick\, NJ
URL:https://nbjp.org/event/emerging-artists-open-session-dave-mosko-band-3/
LOCATION:Garden State Ale House\, 378 George St.\, New Brunswick\, NJ\, 08901\, United States
CATEGORIES:Music
ATTACH;FMTTYPE=image/jpeg:https://nbjp.org/wp-content/uploads/2018/01/Dave-Mosko.jpg
END:VEVENT
BEGIN:VEVENT
DTSTART;TZID=America/New_York:20180803T183000
DTEND;TZID=America/New_York:20180803T213000
DTSTAMP:20260421T001956
CREATED:20180723T191242Z
LAST-MODIFIED:20180723T191242Z
UID:5943-1533321000-1533331800@nbjp.org
SUMMARY:Stephen Fuller Duo
DESCRIPTION:Stephen Fuller Duo \nDue Mari – 78 Albany St.  Brunswick\, NJ \nNo cover charge.
URL:https://nbjp.org/event/stephen-fuller-duo-5/
LOCATION:Due Mari\, 78 Albany St.\, New Brunswick\, NJ\, 08901\, United States
ATTACH;FMTTYPE=image/jpeg:https://nbjp.org/wp-content/uploads/2016/12/Stephen-Fuller.jpg
END:VEVENT
BEGIN:VEVENT
DTSTART;TZID=America/New_York:20180802T200000
DTEND;TZID=America/New_York:20180802T230000
DTSTAMP:20260421T001956
CREATED:20180625T194515Z
LAST-MODIFIED:20180716T145734Z
UID:5791-1533240000-1533250800@nbjp.org
SUMMARY:SMC Faculty Ensemble
DESCRIPTION:SMC Faculty Ensemble\nSpeakMusic Conservatory \nAaron Weiman\, Corey Rawls\, Anthony Ware\, Mike Noordzy \nHyatt Regency – 2 Albany St. New Brunswick\, NJ\nNo cover charge.
URL:https://nbjp.org/event/smc-faculty-ensemble/
LOCATION:Hyatt Regency\, 2 Albany St.\, New Brunswick\, NJ\, 08901\, United States
CATEGORIES:Music
ATTACH;FMTTYPE=image/jpeg:https://nbjp.org/wp-content/uploads/2018/06/IMG_2518.jpg
END:VEVENT
BEGIN:VEVENT
DTSTART;TZID=America/New_York:20180801T200000
DTEND;TZID=America/New_York:20180801T230000
DTSTAMP:20260421T001956
CREATED:20180625T192747Z
LAST-MODIFIED:20180719T181512Z
UID:5761-1533153600-1533164400@nbjp.org
SUMMARY:Jackie Jones Trio
DESCRIPTION:Jackie Jones Trio \nJackie Jones – vocals \nTavern on George 361 George St. New Brunswick\, NJ\nNo cover charge. Reservations
URL:https://nbjp.org/event/jackie-jones-trio-2/
LOCATION:Tavern on George\, 361 George St.\, New Brunswick\, NJ\, 08901\, United States
CATEGORIES:Music
ATTACH;FMTTYPE=image/jpeg:https://nbjp.org/wp-content/uploads/2017/03/JackieJones700-e1699640361490.jpg
END:VEVENT
BEGIN:VEVENT
DTSTART;TZID=America/New_York:20180731T200000
DTEND;TZID=America/New_York:20180731T230000
DTSTAMP:20260421T001956
CREATED:20180625T191122Z
LAST-MODIFIED:20180625T200645Z
UID:5723-1533067200-1533078000@nbjp.org
SUMMARY:Chelsea Hughey Band
DESCRIPTION:Chelsea Hughey Band \n  \nOpen jam starts at 9:30 pm with special guest Matt Chertkoff \nGeorge Street House – 378 George St. \nNew Brunswick\, NJ\nFunding provided in part by Middlesex County Board of Chosen Freeholders.
URL:https://nbjp.org/event/chelsea-hughey-band/
LOCATION:NJ
CATEGORIES:Music
ATTACH;FMTTYPE=image/jpeg:https://nbjp.org/wp-content/uploads/2018/01/Chelsea-Hughey.jpg
END:VEVENT
BEGIN:VEVENT
DTSTART;TZID=America/New_York:20180727T183000
DTEND;TZID=America/New_York:20180727T213000
DTSTAMP:20260421T001956
CREATED:20180625T192532Z
LAST-MODIFIED:20180727T141553Z
UID:5753-1532716200-1532727000@nbjp.org
SUMMARY:James Popik & Jenn Starr CANCELED
DESCRIPTION:James Popik & Jenn Starr \n  \nDue Mari\, 78 Albany St. New Brunswick\, NJ\nNo cover charge. Reservations
URL:https://nbjp.org/event/james-popik-jenn-starr/
LOCATION:Due Mari\, 78 Albany St.\, New Brunswick\, NJ\, 08901\, United States
CATEGORIES:Music
ATTACH;FMTTYPE=image/jpeg:https://nbjp.org/wp-content/uploads/2018/06/canceled.jpg
END:VEVENT
BEGIN:VEVENT
DTSTART;TZID=America/New_York:20180726T200000
DTEND;TZID=America/New_York:20180726T230000
DTSTAMP:20260421T001956
CREATED:20180625T191855Z
LAST-MODIFIED:20180625T191921Z
UID:5733-1532635200-1532646000@nbjp.org
SUMMARY:Ralph Lalama Quartet
DESCRIPTION:Ralph Lalama Quartet \n  \nHyatt Regency – 2 Albany St. New Brunswick\, NJ\nNo cover charge.
URL:https://nbjp.org/event/ralph-lalama-quartet/
LOCATION:Hyatt Regency\, 2 Albany St.\, New Brunswick\, NJ\, 08901\, United States
CATEGORIES:Music
ATTACH;FMTTYPE=image/jpeg:https://nbjp.org/wp-content/uploads/2018/06/ralph-Lalama.jpg
END:VEVENT
BEGIN:VEVENT
DTSTART;TZID=America/New_York:20180725T200000
DTEND;TZID=America/New_York:20180725T230000
DTSTAMP:20260421T001956
CREATED:20180615T203138Z
LAST-MODIFIED:20180719T181309Z
UID:5679-1532548800-1532559600@nbjp.org
SUMMARY:Najawa Parkins Trio
DESCRIPTION:Najawa Parkins Trio \nTavern on George. 361 George St. New Brunswick\, NJ\nNo cover charge. Reservations
URL:https://nbjp.org/event/najawa-parkins-trio/
LOCATION:Tavern on George\, 361 George St.\, New Brunswick\, NJ\, 08901\, United States
ATTACH;FMTTYPE=image/jpeg:https://nbjp.org/wp-content/uploads/2018/03/Najawa-44.jpg
END:VEVENT
BEGIN:VEVENT
DTSTART;TZID=America/New_York:20180724T200000
DTEND;TZID=America/New_York:20180724T230000
DTSTAMP:20260421T001956
CREATED:20180625T190909Z
LAST-MODIFIED:20180625T190909Z
UID:5716-1532462400-1532473200@nbjp.org
SUMMARY:Zach Lorelli Band
DESCRIPTION:Zach Lorelli Band with special guest Ted Chubb \nJam session at 9.30 with special guest Bruce Williams!\nGarden State Ale House – 378 George St. New Brunswick\, NJ \nFunding provided in part by Middlesex County Board of Chosen Freeholders. \nNo cover charge.
URL:https://nbjp.org/event/zach-lorelli-band/
LOCATION:Garden State Ale House\, 378 George St.\, New Brunswick\, NJ\, 08901\, United States
CATEGORIES:Music
ATTACH;FMTTYPE=image/jpeg:https://nbjp.org/wp-content/uploads/2018/06/zach-lorelli.jpg
END:VEVENT
BEGIN:VEVENT
DTSTART;TZID=America/New_York:20180720T183000
DTEND;TZID=America/New_York:20180720T213000
DTSTAMP:20260421T001956
CREATED:20180625T192231Z
LAST-MODIFIED:20180625T192253Z
UID:5746-1532111400-1532122200@nbjp.org
SUMMARY:Molly Mason Duo
DESCRIPTION:Molly Mason Duo \nMolly Mason – vocals. \n  \nDue Mari\, 78 Albany St. New Brunswick\, NJ\nNo cover charge. Reservations
URL:https://nbjp.org/event/molly-mason-duo-4/
LOCATION:Due Mari\, 78 Albany St.\, New Brunswick\, NJ\, 08901\, United States
CATEGORIES:Music
ATTACH;FMTTYPE=image/jpeg:https://nbjp.org/wp-content/uploads/2017/07/Molly-Mason-3.jpg
END:VEVENT
END:VCALENDAR