BEGIN:VCALENDAR
VERSION:2.0
PRODID:-//New Brunswick Jazz Project - ECPv6.15.18//NONSGML v1.0//EN
CALSCALE:GREGORIAN
METHOD:PUBLISH
X-WR-CALNAME:New Brunswick Jazz Project
X-ORIGINAL-URL:https://nbjp.org
X-WR-CALDESC:Events for New Brunswick Jazz Project
REFRESH-INTERVAL;VALUE=DURATION:PT1H
X-Robots-Tag:noindex
X-PUBLISHED-TTL:PT1H
BEGIN:VTIMEZONE
TZID:America/New_York
BEGIN:DAYLIGHT
TZOFFSETFROM:-0500
TZOFFSETTO:-0400
TZNAME:EDT
DTSTART:20160313T070000
END:DAYLIGHT
BEGIN:STANDARD
TZOFFSETFROM:-0400
TZOFFSETTO:-0500
TZNAME:EST
DTSTART:20161106T060000
END:STANDARD
BEGIN:DAYLIGHT
TZOFFSETFROM:-0500
TZOFFSETTO:-0400
TZNAME:EDT
DTSTART:20170312T070000
END:DAYLIGHT
BEGIN:STANDARD
TZOFFSETFROM:-0400
TZOFFSETTO:-0500
TZNAME:EST
DTSTART:20171105T060000
END:STANDARD
BEGIN:DAYLIGHT
TZOFFSETFROM:-0500
TZOFFSETTO:-0400
TZNAME:EDT
DTSTART:20180311T070000
END:DAYLIGHT
BEGIN:STANDARD
TZOFFSETFROM:-0400
TZOFFSETTO:-0500
TZNAME:EST
DTSTART:20181104T060000
END:STANDARD
END:VTIMEZONE
BEGIN:VEVENT
DTSTART;TZID=America/New_York:20170301T200000
DTEND;TZID=America/New_York:20170301T230000
DTSTAMP:20260423T192720
CREATED:20170117T194637Z
LAST-MODIFIED:20170117T194637Z
UID:3011-1488398400-1488409200@nbjp.org
SUMMARY:3Divas
DESCRIPTION:3Divas \nSherrie Maricle drums\nAmy Shook bass\nJackie Warren piano \n  \n  \nINC American Bar & Kitchen\, 302 George St. New Brunswick\, NJ\nNo cover charge. Reservations
URL:https://nbjp.org/event/3divas/
LOCATION:INC American Bar & Kitchen\, 302 George St. \, New Brunswick\, NJ\, 08901\, United States
CATEGORIES:Music
ATTACH;FMTTYPE=image/jpeg:https://nbjp.org/wp-content/uploads/2017/01/3divas.jpg
END:VEVENT
BEGIN:VEVENT
DTSTART;TZID=America/New_York:20170302T200000
DTEND;TZID=America/New_York:20170302T230000
DTSTAMP:20260423T192720
CREATED:20161220T194030Z
LAST-MODIFIED:20170223T141122Z
UID:2711-1488484800-1488495600@nbjp.org
SUMMARY:Mariel Bildsten Quartet
DESCRIPTION:Mariel Bildsten Quartet \nMariel Bildsten – trombone\, Mike Noordzy – bass\, Misha Josephs – guitar\, Mike Winnicki – drums \nHyatt Regency – 2 Albany St. New Brunswick\, NJ\nNo cover charge.
URL:https://nbjp.org/event/mariel-bildsten-quartet/
LOCATION:Hyatt Regency\, 2 Albany St.\, New Brunswick\, NJ\, 08901\, United States
CATEGORIES:Music
ATTACH;FMTTYPE=image/jpeg:https://nbjp.org/wp-content/uploads/2016/11/mariel-bildsten-e1535261817967.jpg
END:VEVENT
BEGIN:VEVENT
DTSTART;TZID=America/New_York:20170303T183000
DTEND;TZID=America/New_York:20170303T213000
DTSTAMP:20260423T192720
CREATED:20170130T172406Z
LAST-MODIFIED:20170223T141254Z
UID:3121-1488565800-1488576600@nbjp.org
SUMMARY:Kate Curran Duo
DESCRIPTION:Kate Curran Duo \nKate Curran – vocals \nMichael Bond – keys \nDue Mari\, 78 Albany St. New Brunswick\, NJ\nNo cover charge. Reservations
URL:https://nbjp.org/event/kate-curran-duo-3/
LOCATION:Due Mari\, 78 Albany St.\, New Brunswick\, NJ\, 08901\, United States
CATEGORIES:Music
ATTACH;FMTTYPE=image/jpeg:https://nbjp.org/wp-content/uploads/2016/12/Kate-Curran.jpg
END:VEVENT
BEGIN:VEVENT
DTSTART;TZID=America/New_York:20170307T200000
DTEND;TZID=America/New_York:20170307T230000
DTSTAMP:20260423T192720
CREATED:20170115T220614Z
LAST-MODIFIED:20170306T151756Z
UID:2987-1488916800-1488927600@nbjp.org
SUMMARY:Elise Wood Trio
DESCRIPTION:Elise Wood Trio. \nElise Wood – flute\, alto flute\,  Steve Malski Niles – keyboard\,  Jon Roch – bass \n\nGarden State Ale House – 378 George St. New Brunswick\, NJ
URL:https://nbjp.org/event/elise-wood-trio/
LOCATION:Garden State Ale House\, 378 George St.\, New Brunswick\, NJ\, 08901\, United States
CATEGORIES:Music
ATTACH;FMTTYPE=image/jpeg:https://nbjp.org/wp-content/uploads/2017/01/EliseWoodSq.jpg
END:VEVENT
BEGIN:VEVENT
DTSTART;TZID=America/New_York:20170308T200000
DTEND;TZID=America/New_York:20170308T230000
DTSTAMP:20260423T192720
CREATED:20170115T220056Z
LAST-MODIFIED:20170309T001942Z
UID:2981-1489003200-1489014000@nbjp.org
SUMMARY:Noah Bless Trio
DESCRIPTION:Noah Bless Trio \nNoah Bless – trombone\, Mike Karn – bass and Billy Mintz – drums \n  \n  \n  \n  \nINC American Bar & Kitchen\, 302 George St. New Brunswick\, NJ\nNo cover charge. Reservations
URL:https://nbjp.org/event/noah-bless-trio/
LOCATION:INC American Bar & Kitchen\, 302 George St. \, New Brunswick\, NJ\, 08901\, United States
CATEGORIES:Music
END:VEVENT
BEGIN:VEVENT
DTSTART;TZID=America/New_York:20170309T200000
DTEND;TZID=America/New_York:20170309T230000
DTSTAMP:20260423T192720
CREATED:20170121T232247Z
LAST-MODIFIED:20170306T152124Z
UID:3054-1489089600-1489100400@nbjp.org
SUMMARY:Sanah Kadoura Quartet
DESCRIPTION:Sanah Kadoura Quartet \nSanah Kadoura – drums\, Pat Bianchi – organ\, Vic Juris – guitar\, Corey Wallace – trombone \nHyatt Regency – 2 Albany St. New Brunswick\, NJ\nNo cover charge.
URL:https://nbjp.org/event/sanah-kadoura-quartet/
LOCATION:Hyatt Regency\, 2 Albany St.\, New Brunswick\, NJ\, 08901\, United States
CATEGORIES:Music
ATTACH;FMTTYPE=image/jpeg:https://nbjp.org/wp-content/uploads/2016/10/SanahKadoura.jpg
END:VEVENT
BEGIN:VEVENT
DTSTART;TZID=America/New_York:20170310T183000
DTEND;TZID=America/New_York:20170310T213000
DTSTAMP:20260423T192720
CREATED:20170115T215343Z
LAST-MODIFIED:20170224T151417Z
UID:2978-1489170600-1489181400@nbjp.org
SUMMARY:Danielle Illario Duo
DESCRIPTION:Vocalist Danielle Illario and guitarist Kevin Hill \n  \n-Due Mari\, 78 Albany St. New Brunswick\, NJ \nNo cover charge. Reservations
URL:https://nbjp.org/event/danielle-illario-duo/
LOCATION:Due Mari\, 78 Albany St.\, New Brunswick\, NJ\, 08901\, United States
CATEGORIES:Music
ATTACH;FMTTYPE=image/jpeg:https://nbjp.org/wp-content/uploads/2016/09/danielle-illarion-kevin-hill-duo.jpg
END:VEVENT
BEGIN:VEVENT
DTSTART;TZID=America/New_York:20170314T200000
DTEND;TZID=America/New_York:20170314T230000
DTSTAMP:20260423T192720
CREATED:20170121T232543Z
LAST-MODIFIED:20170313T173940Z
UID:3059-1489521600-1489532400@nbjp.org
SUMMARY:Alexis Morrast CANCELED due to weather
DESCRIPTION:CANCELED DUE TO WEATHER –  to be rescheduled \nAlexis Morrast Trio \n\nAlexis Morrast – vocals\, Mike Bond on keys\, Ben Rubens on bass\n\nGarden State Ale House – 378 George St. New Brunswick\, NJ
URL:https://nbjp.org/event/alexis-morrast-trio-2/
LOCATION:Garden State Ale House\, 378 George St.\, New Brunswick\, NJ\, 08901\, United States
CATEGORIES:Music
ATTACH;FMTTYPE=image/jpeg:https://nbjp.org/wp-content/uploads/2016/10/AlexisMorrast.jpg
END:VEVENT
BEGIN:VEVENT
DTSTART;TZID=America/New_York:20170315T200000
DTEND;TZID=America/New_York:20170315T230000
DTSTAMP:20260423T192720
CREATED:20170121T232803Z
LAST-MODIFIED:20170221T153351Z
UID:3062-1489608000-1489618800@nbjp.org
SUMMARY:Mimi Jones Trio
DESCRIPTION:Mimi Jones Trio \nMimi Jones – bass\, Shirazette Tinnin- drums\,  ArcoIris Sandoval – keys \nINC American Bar & Kitchen\, 302 George St. New Brunswick\, NJ\nNo cover charge. Reservations
URL:https://nbjp.org/event/mimi-jones-trio/
LOCATION:INC American Bar & Kitchen\, 302 George St. \, New Brunswick\, NJ\, 08901\, United States
CATEGORIES:Music
ATTACH;FMTTYPE=image/jpeg:https://nbjp.org/wp-content/uploads/2011/10/mimi-jones-cd-cover.jpg
END:VEVENT
BEGIN:VEVENT
DTSTART;TZID=America/New_York:20170316T200000
DTEND;TZID=America/New_York:20170316T230000
DTSTAMP:20260423T192720
CREATED:20170115T214950Z
LAST-MODIFIED:20170306T152908Z
UID:2973-1489694400-1489705200@nbjp.org
SUMMARY:Iris Ornig Quartet
DESCRIPTION:Iris Ornig Quartet \nIris Ornig – bass\, Jeremy Powell on tenor\, Billy Test on piano\,   Allan Mednard on drums. \nHyatt Regency – 2 Albany St. New Brunswick\, NJ\nNo cover charge.
URL:https://nbjp.org/event/iris-ornig-quartet/
LOCATION:Hyatt Regency\, 2 Albany St.\, New Brunswick\, NJ\, 08901\, United States
CATEGORIES:Music
ATTACH;FMTTYPE=image/jpeg:https://nbjp.org/wp-content/uploads/2017/01/Iris-Ornig-SQ.jpg
END:VEVENT
BEGIN:VEVENT
DTSTART;TZID=America/New_York:20170317T183000
DTEND;TZID=America/New_York:20170317T213000
DTSTAMP:20260423T192720
CREATED:20170115T224435Z
LAST-MODIFIED:20170318T184411Z
UID:2998-1489775400-1489786200@nbjp.org
SUMMARY:Vanessa Perea Duo
DESCRIPTION:Vanessa Perea  & Josh Richman Duo\n Vocals and keyboard.\nDue Mari\, 78 Albany St. New Brunswick\, NJ   \nNo cover charge. Reservations 
URL:https://nbjp.org/event/vanessa-perea-duo/
LOCATION:Due Mari\, 78 Albany St.\, New Brunswick\, NJ\, 08901\, United States
ATTACH;FMTTYPE=image/jpeg:https://nbjp.org/wp-content/uploads/2016/12/VanessaPereaSQ.jpg
END:VEVENT
BEGIN:VEVENT
DTSTART;TZID=America/New_York:20170321T200000
DTEND;TZID=America/New_York:20170321T230000
DTSTAMP:20260423T192720
CREATED:20170121T234002Z
LAST-MODIFIED:20170318T185620Z
UID:3069-1490126400-1490137200@nbjp.org
SUMMARY:Najwa Parkins Trio
DESCRIPTION:Vocalist Najwa Parkins featuring Dan Hanrahan – guitar and Joe Plowman bass. \nGarden State Ale House – 378 George St. New Brunswick\, NJ
URL:https://nbjp.org/event/najwa-parkins-trio/
LOCATION:Garden State Ale House\, 378 George St.\, New Brunswick\, NJ\, 08901\, United States
CATEGORIES:Music
ATTACH;FMTTYPE=image/jpeg:https://nbjp.org/wp-content/uploads/2017/01/najwaparkinsSQ.jpg
END:VEVENT
BEGIN:VEVENT
DTSTART;TZID=America/New_York:20170322T200000
DTEND;TZID=America/New_York:20170322T230000
DTSTAMP:20260423T192720
CREATED:20170115T232011Z
LAST-MODIFIED:20170318T193656Z
UID:3001-1490212800-1490223600@nbjp.org
SUMMARY:Elsa Nilsson Trio
DESCRIPTION:Elsa Nilsson Trio featuring Jeff McLaughlin – guitar and Alex Minier – bass. \nINC American Bar & Kitchen\, 302 George St. New Brunswick\, NJ\nNo cover charge. Reservations
URL:https://nbjp.org/event/elsa-nilsson-trio/
LOCATION:INC American Bar & Kitchen\, 302 George St. \, New Brunswick\, NJ\, 08901\, United States
CATEGORIES:Music
ATTACH;FMTTYPE=image/jpeg:https://nbjp.org/wp-content/uploads/2017/01/ElsaNielssonSq.jpg
END:VEVENT
BEGIN:VEVENT
DTSTART;TZID=America/New_York:20170323T200000
DTEND;TZID=America/New_York:20170323T230000
DTSTAMP:20260423T192720
CREATED:20170115T214322Z
LAST-MODIFIED:20170221T211505Z
UID:2969-1490299200-1490310000@nbjp.org
SUMMARY:Sylvia Cuenca Quartet
DESCRIPTION:Sylvia Cuenca Quartet \nWayne Escoffery – Saxophone\, Kyle Koehler -Organ\, Saul Rubin – Guitar\, Sylvia Cuenca – Drums \nHyatt Regency – 2 Albany St. New Brunswick\, NJ\nNo cover charge.
URL:https://nbjp.org/event/sylvia-cuenca-quartet/
LOCATION:Hyatt Regency\, 2 Albany St.\, New Brunswick\, NJ\, 08901\, United States
CATEGORIES:Music
ATTACH;FMTTYPE=image/jpeg:https://nbjp.org/wp-content/uploads/2017/01/Sylvia-CuencaSq.jpg
END:VEVENT
BEGIN:VEVENT
DTSTART;TZID=America/New_York:20170324T183000
DTEND;TZID=America/New_York:20170324T213000
DTSTAMP:20260423T192720
CREATED:20170115T211852Z
LAST-MODIFIED:20170318T184528Z
UID:2951-1490380200-1490391000@nbjp.org
SUMMARY:Jackie Jones Duo
DESCRIPTION:Jackie Jones & Courtney Sappington Duo \nVocals & Guitar \nDue Mari\, 78 Albany St. New Brunswick\, NJ\nNo cover charge. Reservations
URL:https://nbjp.org/event/jackie-jones-duo-2/
LOCATION:Due Mari\, 78 Albany St.\, New Brunswick\, NJ\, 08901\, United States
CATEGORIES:Music
ATTACH;FMTTYPE=image/jpeg:https://nbjp.org/wp-content/uploads/2016/09/jackiejones.jpg
END:VEVENT
BEGIN:VEVENT
DTSTART;TZID=America/New_York:20170328T200000
DTEND;TZID=America/New_York:20170328T230000
DTSTAMP:20260423T192720
CREATED:20170115T213226Z
LAST-MODIFIED:20170123T160245Z
UID:2958-1490731200-1490742000@nbjp.org
SUMMARY:Audrey Betsy Welber Trio
DESCRIPTION:Audrey Betsy Welber Trio. \nAudrey Betsy Welber – sax\, Miki Hayama – organ\, Webb Thomas – drums \n\nGarden State Ale House – 378 George St. New Brunswick\, NJ
URL:https://nbjp.org/event/audrey-betsy-welber-trio/
LOCATION:Garden State Ale House\, 378 George St.\, New Brunswick\, NJ\, 08901\, United States
CATEGORIES:Music
ATTACH;FMTTYPE=image/jpeg:https://nbjp.org/wp-content/uploads/2016/12/AudreybetsySq.jpg
END:VEVENT
BEGIN:VEVENT
DTSTART;TZID=America/New_York:20170329T200000
DTEND;TZID=America/New_York:20170329T230000
DTSTAMP:20260423T192720
CREATED:20170130T171220Z
LAST-MODIFIED:20170320T155112Z
UID:3108-1490817600-1490828400@nbjp.org
SUMMARY:Joanna Pascale Trio
DESCRIPTION:Joanna Pascale Trio \nMatt Parrish-bass\, Josh Richman-piano\, Joanna Pascale – vocals \nINC American Bar & Kitchen\, 302 George St. New Brunswick\, NJ\nNo cover charge. Reservations
URL:https://nbjp.org/event/joanna-pascale-trio/
LOCATION:INC American Bar & Kitchen\, 302 George St. \, New Brunswick\, NJ\, 08901\, United States
CATEGORIES:Music
ATTACH;FMTTYPE=image/jpeg:https://nbjp.org/wp-content/uploads/2017/01/joanna.jpg
END:VEVENT
BEGIN:VEVENT
DTSTART;TZID=America/New_York:20170330T200000
DTEND;TZID=America/New_York:20170330T230000
DTSTAMP:20260423T192720
CREATED:20170130T171915Z
LAST-MODIFIED:20170130T171915Z
UID:3117-1490904000-1490914800@nbjp.org
SUMMARY:Akiko Tsuruga Quartet
DESCRIPTION:Akiko Tsuruga Quartet \nAkiko – organ \nHyatt Regency – 2 Albany St. New Brunswick\, NJ\nNo cover charge.
URL:https://nbjp.org/event/akiko-tsuruga-quartet/
LOCATION:Hyatt Regency\, 2 Albany St.\, New Brunswick\, NJ\, 08901\, United States
CATEGORIES:Music
ATTACH;FMTTYPE=image/jpeg:https://nbjp.org/wp-content/uploads/2016/10/akiko.jpg
END:VEVENT
BEGIN:VEVENT
DTSTART;TZID=America/New_York:20170331T183000
DTEND;TZID=America/New_York:20170331T213000
DTSTAMP:20260423T192720
CREATED:20161220T200741Z
LAST-MODIFIED:20170221T155938Z
UID:2727-1490985000-1490995800@nbjp.org
SUMMARY:Emma Larsson Duo
DESCRIPTION:Emma Larsson Duo \nDue Mari\, 78 Albany St. New Brunswick\, NJ\nNo cover charge. Reservations
URL:https://nbjp.org/event/emma-larsson-duo-2/
LOCATION:Due Mari\, 78 Albany St.\, New Brunswick\, NJ\, 08901\, United States
CATEGORIES:Music
ATTACH;FMTTYPE=image/jpeg:https://nbjp.org/wp-content/uploads/2016/09/Emma-Larsson.jpg
END:VEVENT
END:VCALENDAR