BEGIN:VCALENDAR
VERSION:2.0
PRODID:-//New Brunswick Jazz Project - ECPv6.15.18//NONSGML v1.0//EN
CALSCALE:GREGORIAN
METHOD:PUBLISH
X-ORIGINAL-URL:https://nbjp.org
X-WR-CALDESC:Events for New Brunswick Jazz Project
REFRESH-INTERVAL;VALUE=DURATION:PT1H
X-Robots-Tag:noindex
X-PUBLISHED-TTL:PT1H
BEGIN:VTIMEZONE
TZID:America/New_York
BEGIN:DAYLIGHT
TZOFFSETFROM:-0500
TZOFFSETTO:-0400
TZNAME:EDT
DTSTART:20170312T070000
END:DAYLIGHT
BEGIN:STANDARD
TZOFFSETFROM:-0400
TZOFFSETTO:-0500
TZNAME:EST
DTSTART:20171105T060000
END:STANDARD
BEGIN:DAYLIGHT
TZOFFSETFROM:-0500
TZOFFSETTO:-0400
TZNAME:EDT
DTSTART:20180311T070000
END:DAYLIGHT
BEGIN:STANDARD
TZOFFSETFROM:-0400
TZOFFSETTO:-0500
TZNAME:EST
DTSTART:20181104T060000
END:STANDARD
BEGIN:DAYLIGHT
TZOFFSETFROM:-0500
TZOFFSETTO:-0400
TZNAME:EDT
DTSTART:20190310T070000
END:DAYLIGHT
BEGIN:STANDARD
TZOFFSETFROM:-0400
TZOFFSETTO:-0500
TZNAME:EST
DTSTART:20191103T060000
END:STANDARD
END:VTIMEZONE
BEGIN:VEVENT
DTSTART;TZID=America/New_York:20180301T200000
DTEND;TZID=America/New_York:20180301T230000
DTSTAMP:20260423T013310
CREATED:20180109T162053Z
LAST-MODIFIED:20180207T191859Z
UID:4753-1519934400-1519945200@nbjp.org
SUMMARY:Erena Terakubo Quartet
DESCRIPTION:Erena Terakubo Quartet \nErena Terakubo (saxophone) \nTakahiro Izumikawa (piano) \nSam Bevan (bass) \nNic Casioppo (drums) \nThursday\, March 1\n8:00pm – 11:00pm \nHyatt Regency – 2 Albany St. New Brunswick\, NJ\nNo cover charge.
URL:https://nbjp.org/event/erena-terakubo-quartet/
LOCATION:Hyatt Regency\, 2 Albany St.\, New Brunswick\, NJ\, 08901\, United States
CATEGORIES:Music
ATTACH;FMTTYPE=image/jpeg:https://nbjp.org/wp-content/uploads/2018/01/erena-terakubo-2.jpg
END:VEVENT
BEGIN:VEVENT
DTSTART;TZID=America/New_York:20180302T183000
DTEND;TZID=America/New_York:20180302T213000
DTSTAMP:20260423T013310
CREATED:20180109T162455Z
LAST-MODIFIED:20180302T185127Z
UID:4765-1520015400-1520026200@nbjp.org
SUMMARY:Kate Curran Duo CANCELLED
DESCRIPTION:CANCELLED TONIGHT\nKate Curran Duo \n  \n  \nDue Mari\, 78 Albany St. New Brunswick\, NJ\nNo cover charge. Reservations
URL:https://nbjp.org/event/kate-curran-duo-7/
LOCATION:Due Mari\, 78 Albany St.\, New Brunswick\, NJ\, 08901\, United States
CATEGORIES:Music
ATTACH;FMTTYPE=image/png:https://nbjp.org/wp-content/uploads/2017/01/kate-cancelled.png
END:VEVENT
BEGIN:VEVENT
DTSTART;TZID=America/New_York:20180306T200000
DTEND;TZID=America/New_York:20180306T230000
DTSTAMP:20260423T013310
CREATED:20180110T165804Z
LAST-MODIFIED:20180301T173607Z
UID:4826-1520366400-1520377200@nbjp.org
SUMMARY:Mariel Bildsten Trio
DESCRIPTION:Mariel Bildsten Trio \n\nMariel Bildsten\n\n\nMike Noordzy\n\n\nMike Winnicki\n\nOpen jam starts at 9:30 pm \nGeorge Street Ale House\, 378 George St. New Brunswick\, NJ \nNo cover charge.
URL:https://nbjp.org/event/mariel-bildsten-trio-3/
LOCATION:NJ
CATEGORIES:Music
ATTACH;FMTTYPE=image/jpeg:https://nbjp.org/wp-content/uploads/2018/01/Mariel-B.jpg
END:VEVENT
BEGIN:VEVENT
DTSTART;TZID=America/New_York:20180307T200000
DTEND;TZID=America/New_York:20180307T230000
DTSTAMP:20260423T013310
CREATED:20180225T000920Z
LAST-MODIFIED:20180306T020850Z
UID:5024-1520452800-1520463600@nbjp.org
SUMMARY:CANCELED due to weather
DESCRIPTION:CANCELED due to weather \nLucy Yeghiazaryan Trio \nLucy Yeghiazaryan\nCharlie Sigler – Guitar\nVince Dupont – Bass \n  \nINC Restaurant 302 George St. New Brunswick\, NJ\n8:00pm – 11:00pm
URL:https://nbjp.org/event/lucy-yeghiazaryan-trio/
LOCATION:INC American Bar & Kitchen\, 302 George St. \, New Brunswick\, NJ\, 08901\, United States
CATEGORIES:Music
ATTACH;FMTTYPE=image/png:https://nbjp.org/wp-content/uploads/2017/02/logo-NBJP-lg.png
END:VEVENT
BEGIN:VEVENT
DTSTART;TZID=America/New_York:20180308T200000
DTEND;TZID=America/New_York:20180308T230000
DTSTAMP:20260423T013310
CREATED:20171205T165816Z
LAST-MODIFIED:20180109T163507Z
UID:4479-1520539200-1520550000@nbjp.org
SUMMARY:Luba Mason Triangle
DESCRIPTION:Luba Mason Triangle\n\n\n\n\n\n\n\n\nThursday\, March 8 \n8:00pm – 11:00pm\n\n\n\n\n\n \nHyatt Regency New Brunswick 2 Albany St\, New Brunswick\,
URL:https://nbjp.org/event/luba-mason-triangle/
LOCATION:Hyatt Regency\, 2 Albany St.\, New Brunswick\, NJ\, 08901\, United States
CATEGORIES:Music
ATTACH;FMTTYPE=image/jpeg:https://nbjp.org/wp-content/uploads/2017/12/mason_luba_courtesy_767px.jpg
END:VEVENT
BEGIN:VEVENT
DTSTART;TZID=America/New_York:20180309T183000
DTEND;TZID=America/New_York:20180309T213000
DTSTAMP:20260423T013310
CREATED:20180109T165800Z
LAST-MODIFIED:20180201T024846Z
UID:4793-1520620200-1520631000@nbjp.org
SUMMARY:Jackie Jones Duo
DESCRIPTION:Jackie Jones Duo \nDue Mari  – 78 Albany Street New Brunswick\, NJ\nNo cover charge.
URL:https://nbjp.org/event/jackie-jones-duo-5/
LOCATION:Due Mari\, 78 Albany St.\, New Brunswick\, NJ\, 08901\, United States
CATEGORIES:Music
ATTACH;FMTTYPE=image/jpeg:https://nbjp.org/wp-content/uploads/2017/03/JackieJones700-e1699640361490.jpg
END:VEVENT
BEGIN:VEVENT
DTSTART;TZID=America/New_York:20180313T200000
DTEND;TZID=America/New_York:20180313T230000
DTSTAMP:20260423T013310
CREATED:20180110T154937Z
LAST-MODIFIED:20180302T185619Z
UID:4813-1520971200-1520982000@nbjp.org
SUMMARY:Seyeon Chang Band
DESCRIPTION:Seyeon Chang Band \nJustin Jones – Alto Sax. Sun Kim – Guitar Seyeon Chang – Piano Josh November – Bass Errold Lanier Jr. – Drums \n  \nOpen jam starts at 9:30 pm \nGeorge Street House – 378 George St. \nNew Brunswick\, NJ
URL:https://nbjp.org/event/seyeon-chang-trio/
LOCATION:George Street Ale House\, 378 George St.\, New Brunswick\, 08901
CATEGORIES:Music
ATTACH;FMTTYPE=image/jpeg:https://nbjp.org/wp-content/uploads/2018/01/Seyon-Chang.jpg
END:VEVENT
BEGIN:VEVENT
DTSTART;TZID=America/New_York:20180314T200000
DTEND;TZID=America/New_York:20180314T230000
DTSTAMP:20260423T013310
CREATED:20180110T150025Z
LAST-MODIFIED:20180302T212402Z
UID:4808-1521057600-1521068400@nbjp.org
SUMMARY:Nicole Glover Trio
DESCRIPTION:Nicole Glover Trio \nNicole Glover \nAdrian Moring on bass \nNic Cacioppo on drums.\n  \nINC Restaurant 302 George St. New Brunswick\, NJ\n8:00pm – 11:00pm
URL:https://nbjp.org/event/nicole-glover-trio/
LOCATION:INC American Bar & Kitchen\, 302 George St. \, New Brunswick\, NJ\, 08901\, United States
CATEGORIES:Music
ATTACH;FMTTYPE=image/jpeg:https://nbjp.org/wp-content/uploads/2018/01/Nicole-Glover.jpg
END:VEVENT
BEGIN:VEVENT
DTSTART;TZID=America/New_York:20180315T200000
DTEND;TZID=America/New_York:20180315T230000
DTSTAMP:20260423T013310
CREATED:20170806T185055Z
LAST-MODIFIED:20180302T171239Z
UID:4034-1521144000-1521154800@nbjp.org
SUMMARY:Akiko Tsuruga Quartet
DESCRIPTION:Akiko Tsuruga Quartet \n\nAkiko\n\n\nJerry Weldon\, Charlie Sigler and Byron Landham\n\n\n\n\n\nHyatt Regency – 2 Albany St. New Brunswick\, NJ\nNo cover charge.
URL:https://nbjp.org/event/akiko-tsuruga-quartet-2/
LOCATION:Hyatt Regency\, 2 Albany St.\, New Brunswick\, NJ\, 08901\, United States
CATEGORIES:Music
ATTACH;FMTTYPE=image/jpeg:https://nbjp.org/wp-content/uploads/2016/10/akiko.jpg
END:VEVENT
BEGIN:VEVENT
DTSTART;TZID=America/New_York:20180316T183000
DTEND;TZID=America/New_York:20180316T213000
DTSTAMP:20260423T013310
CREATED:20180109T170003Z
LAST-MODIFIED:20180109T170125Z
UID:4798-1521225000-1521235800@nbjp.org
SUMMARY:Emma Larsson Duo
DESCRIPTION:Emma Larsson – vocals. \nDue Mari\, 78 Albany St. New Brunswick\, NJ\nNo cover charge. Reservations
URL:https://nbjp.org/event/emma-larsson-duo-8/
LOCATION:Due Mari\, 78 Albany St.\, New Brunswick\, NJ\, 08901\, United States
CATEGORIES:Music
ATTACH;FMTTYPE=image/jpeg:https://nbjp.org/wp-content/uploads/2016/09/Emma-Larsson.jpg
END:VEVENT
BEGIN:VEVENT
DTSTART;TZID=America/New_York:20180320T200000
DTEND;TZID=America/New_York:20180320T230000
DTSTAMP:20260423T013310
CREATED:20180110T160217Z
LAST-MODIFIED:20180110T163205Z
UID:4820-1521576000-1521586800@nbjp.org
SUMMARY:Chelsea Hughey Trio
DESCRIPTION:Chelsea Hughey Trio \n  \nOpen jam starts at 9:30 pm \nGeorge Street House – 378 George St. \nNew Brunswick\, NJ
URL:https://nbjp.org/event/chelsea-hughey-trio/
LOCATION:NJ
CATEGORIES:Music
ATTACH;FMTTYPE=image/jpeg:https://nbjp.org/wp-content/uploads/2018/01/Chelsea-Hughey.jpg
END:VEVENT
BEGIN:VEVENT
DTSTART;TZID=America/New_York:20180321T200000
DTEND;TZID=America/New_York:20180321T230000
DTSTAMP:20260423T013310
CREATED:20180109T170512Z
LAST-MODIFIED:20180320T154231Z
UID:4803-1521662400-1521673200@nbjp.org
SUMMARY:Najwa Parkins Trio Cancelled
DESCRIPTION:Najwa Parkins Trio cancelled rescheduled for May 16th at INC. \n  \nINC Restaurant 302 George St. New Brunswick\, NJ\n8:00pm – 11:00pm
URL:https://nbjp.org/event/najwa-parkins-trio-2/
LOCATION:INC American Bar & Kitchen\, 302 George St. \, New Brunswick\, NJ\, 08901\, United States
CATEGORIES:Music
ATTACH;FMTTYPE=image/jpeg:https://nbjp.org/wp-content/uploads/2017/01/najwaparkinsSQ.jpg
END:VEVENT
BEGIN:VEVENT
DTSTART;TZID=America/New_York:20180322T200000
DTEND;TZID=America/New_York:20180322T230000
DTSTAMP:20260423T013310
CREATED:20180109T165304Z
LAST-MODIFIED:20180109T165359Z
UID:4785-1521748800-1521759600@nbjp.org
SUMMARY:Sylvia Cuenca Quartet
DESCRIPTION:Sylvia Cuenca Quartet \nHyatt Regency – 2 Albany St. New Brunswick\, NJ\nNo cover charge.
URL:https://nbjp.org/event/sylvia-cuenca-quartet-3/
LOCATION:Hyatt Regency\, 2 Albany St.\, New Brunswick\, NJ\, 08901\, United States
CATEGORIES:Music
ATTACH;FMTTYPE=image/jpeg:https://nbjp.org/wp-content/uploads/2017/01/Sylvia-CuencaSq.jpg
END:VEVENT
BEGIN:VEVENT
DTSTART;TZID=America/New_York:20180323T183000
DTEND;TZID=America/New_York:20180323T213000
DTSTAMP:20260423T013310
CREATED:20180109T165545Z
LAST-MODIFIED:20180109T165545Z
UID:4790-1521829800-1521840600@nbjp.org
SUMMARY:Candice Reyes Duo
DESCRIPTION:Candice Reyes Duo\n\nDue Mari\, 78 Albany St. New Brunswick\, NJ  \nNo cover charge. Reservations 
URL:https://nbjp.org/event/candice-reyes-duo-5/
LOCATION:Due Mari\, 78 Albany St.\, New Brunswick\, NJ\, 08901\, United States
CATEGORIES:Music
ATTACH;FMTTYPE=image/jpeg:https://nbjp.org/wp-content/uploads/2016/08/candice-reyes-duo.jpg
END:VEVENT
BEGIN:VEVENT
DTSTART;TZID=America/New_York:20180327T200000
DTEND;TZID=America/New_York:20180327T230000
DTSTAMP:20260423T013310
CREATED:20180126T165612Z
LAST-MODIFIED:20180126T165612Z
UID:4889-1522180800-1522191600@nbjp.org
SUMMARY:Diamond Anderson Band
DESCRIPTION:Diamond Anderson Band \nOpen jam starts at 9:30 pm \nGeorge Street House – 378 George St. \nNew Brunswick\, NJ
URL:https://nbjp.org/event/diamond-anderson-band/
LOCATION:NJ
CATEGORIES:Music
ATTACH;FMTTYPE=image/jpeg:https://nbjp.org/wp-content/uploads/2017/10/DiamondAnderson400.jpg
END:VEVENT
BEGIN:VEVENT
DTSTART;TZID=America/New_York:20180328T200000
DTEND;TZID=America/New_York:20180328T230000
DTSTAMP:20260423T013310
CREATED:20180105T163745Z
LAST-MODIFIED:20180224T235232Z
UID:4680-1522267200-1522278000@nbjp.org
SUMMARY:The DIVAS Jazz Trio
DESCRIPTION:The DIVAS Jazz Trio\nSherrie Maricle – drums\nTomoko Ohno – piano\nNoriko Ueda – bass \n\nWednesday\, March 28\, 2018\n8:00pm – 11:00pm\nHyatt Regency 2  Albany St. New Brunswick\, NJ \n\nNo cover charge.
URL:https://nbjp.org/event/the-divas-jazz-trio/
LOCATION:Hyatt Regency\, 2 Albany St.\, New Brunswick\, NJ\, 08901\, United States
CATEGORIES:Music
ATTACH;FMTTYPE=image/jpeg:https://nbjp.org/wp-content/uploads/2018/01/the-diva_jazz_trio_436x325.jpg
END:VEVENT
BEGIN:VEVENT
DTSTART;TZID=America/New_York:20180329T200000
DTEND;TZID=America/New_York:20180329T230000
DTSTAMP:20260423T013310
CREATED:20180125T153204Z
LAST-MODIFIED:20180323T192628Z
UID:4884-1522353600-1522364400@nbjp.org
SUMMARY:“The Black Madonna” Featuring Mimi Jones
DESCRIPTION:“The Black Madonna” Featuring Mimi Jones \nLeonor Falcón on viola\, Sean Harkness on guitar\, Darrian Douglas on drums\, Mimi Jones on bass\nThursday\, March 29\, 2018\n8:00pm – 11:00pm\n\nHyatt Regency – 2 Albany St. New Brunswick\, NJ\nNo cover charge.
URL:https://nbjp.org/event/the-black-madonna-featuring-mimi-jones/
LOCATION:Hyatt Regency\, 2 Albany St.\, New Brunswick\, NJ\, 08901\, United States
CATEGORIES:Music
ATTACH;FMTTYPE=image/jpeg:https://nbjp.org/wp-content/uploads/2018/01/IMG_0255.jpg
END:VEVENT
BEGIN:VEVENT
DTSTART;TZID=America/New_York:20180330T183000
DTEND;TZID=America/New_York:20180330T213000
DTSTAMP:20260423T013310
CREATED:20170702T144804Z
LAST-MODIFIED:20180201T024936Z
UID:3859-1522434600-1522445400@nbjp.org
SUMMARY:Molly Mason Duo
DESCRIPTION:Molly Mason Duo \nMolly Mason – vocals. \n  \nDue Mari\, 78 Albany St. New Brunswick\, NJ\nNo cover charge. Reservations
URL:https://nbjp.org/event/molly-mason-duo/
LOCATION:Due Mari\, 78 Albany St.\, New Brunswick\, NJ\, 08901\, United States
CATEGORIES:Music
ATTACH;FMTTYPE=image/jpeg:https://nbjp.org/wp-content/uploads/2017/07/Molly-Mason-3.jpg
END:VEVENT
END:VCALENDAR