BEGIN:VCALENDAR
VERSION:2.0
PRODID:-//New Brunswick Jazz Project - ECPv6.15.18//NONSGML v1.0//EN
CALSCALE:GREGORIAN
METHOD:PUBLISH
X-ORIGINAL-URL:https://nbjp.org
X-WR-CALDESC:Events for New Brunswick Jazz Project
REFRESH-INTERVAL;VALUE=DURATION:PT1H
X-Robots-Tag:noindex
X-PUBLISHED-TTL:PT1H
BEGIN:VTIMEZONE
TZID:America/New_York
BEGIN:DAYLIGHT
TZOFFSETFROM:-0500
TZOFFSETTO:-0400
TZNAME:EDT
DTSTART:20170312T070000
END:DAYLIGHT
BEGIN:STANDARD
TZOFFSETFROM:-0400
TZOFFSETTO:-0500
TZNAME:EST
DTSTART:20171105T060000
END:STANDARD
BEGIN:DAYLIGHT
TZOFFSETFROM:-0500
TZOFFSETTO:-0400
TZNAME:EDT
DTSTART:20180311T070000
END:DAYLIGHT
BEGIN:STANDARD
TZOFFSETFROM:-0400
TZOFFSETTO:-0500
TZNAME:EST
DTSTART:20181104T060000
END:STANDARD
BEGIN:DAYLIGHT
TZOFFSETFROM:-0500
TZOFFSETTO:-0400
TZNAME:EDT
DTSTART:20190310T070000
END:DAYLIGHT
BEGIN:STANDARD
TZOFFSETFROM:-0400
TZOFFSETTO:-0500
TZNAME:EST
DTSTART:20191103T060000
END:STANDARD
END:VTIMEZONE
BEGIN:VEVENT
DTSTART;TZID=America/New_York:20180403T200000
DTEND;TZID=America/New_York:20180403T230000
DTSTAMP:20260423T000828
CREATED:20180225T165057Z
LAST-MODIFIED:20180225T165057Z
UID:5051-1522785600-1522796400@nbjp.org
SUMMARY:Emerging Artists & Open Jam\, Dominic Palombi Band
DESCRIPTION:Dom Palombi Project \nDominic Palombi – Drums \nJam session at 9.30!\nGarden State Ale House – 378 George St. New Brunswick\, NJ \nNo cover charge.
URL:https://nbjp.org/event/emerging-artists-open-jam-dominic-palombi-band-3/
LOCATION:Garden State Ale House\, 378 George St.\, New Brunswick\, NJ\, 08901\, United States
CATEGORIES:Music
ATTACH;FMTTYPE=image/jpeg:https://nbjp.org/wp-content/uploads/2017/05/DomPalombi.jpg
END:VEVENT
BEGIN:VEVENT
DTSTART;TZID=America/New_York:20180404T200000
DTEND;TZID=America/New_York:20180404T230000
DTSTAMP:20260423T000828
CREATED:20180302T171650Z
LAST-MODIFIED:20180326T154051Z
UID:5097-1522872000-1522882800@nbjp.org
SUMMARY:Chris Berger Trio
DESCRIPTION:Chris Berger Trio \nAlvester C. Garnett- drums\, Paul Bollenback – guitar\, Chris Berger – bass \nINC Restaurant 302 George St. New Brunswick\, NJ\n8:00pm – 11:00pm
URL:https://nbjp.org/event/chris-berger-trio/
LOCATION:INC American Bar & Kitchen\, 302 George St. \, New Brunswick\, NJ\, 08901\, United States
CATEGORIES:Music
ATTACH;FMTTYPE=image/jpeg:https://nbjp.org/wp-content/uploads/2018/03/Chris-berger.jpg
END:VEVENT
BEGIN:VEVENT
DTSTART;TZID=America/New_York:20180405T200000
DTEND;TZID=America/New_York:20180405T230000
DTSTAMP:20260423T000828
CREATED:20180225T165241Z
LAST-MODIFIED:20180402T151609Z
UID:5055-1522958400-1522969200@nbjp.org
SUMMARY:Ark Ovrutski Quartet
DESCRIPTION:Ark Ovrutski Quartet \nBenny Benack III-trp\,vocal \nAdam Birnbaum-piano \nCharles Goold-drums \nArk Ovrutski-bass\, compositions \nHyatt Regency – 2 Albany St. New Brunswick\, NJ\nNo cover charge.
URL:https://nbjp.org/event/ark-ovrutski-quartet/
LOCATION:Hyatt Regency\, 2 Albany St.\, New Brunswick\, NJ\, 08901\, United States
CATEGORIES:Music
ATTACH;FMTTYPE=image/jpeg:https://nbjp.org/wp-content/uploads/2018/02/ArkOvrutski.jpg
END:VEVENT
BEGIN:VEVENT
DTSTART;TZID=America/New_York:20180406T183000
DTEND;TZID=America/New_York:20180406T213000
DTSTAMP:20260423T000828
CREATED:20180313T183613Z
LAST-MODIFIED:20180421T004341Z
UID:5200-1523039400-1523050200@nbjp.org
SUMMARY:Stephen Fuller Duo
DESCRIPTION:Stephen Fuller Duo \nDue Mari – 78 Albany St.  Brunswick\, NJ \nNo cover charge.
URL:https://nbjp.org/event/stephen-fuller-duo-4/
LOCATION:Due Mari\, 78 Albany St.\, New Brunswick\, NJ\, 08901\, United States
ATTACH;FMTTYPE=image/jpeg:https://nbjp.org/wp-content/uploads/2016/12/Stephen-Fuller.jpg
END:VEVENT
BEGIN:VEVENT
DTSTART;TZID=America/New_York:20180410T200000
DTEND;TZID=America/New_York:20180410T230000
DTSTAMP:20260423T000828
CREATED:20180313T183237Z
LAST-MODIFIED:20180313T183237Z
UID:5197-1523390400-1523401200@nbjp.org
SUMMARY:Emerging Artists & Open Session – Stephen Yee Band
DESCRIPTION:Emerging Artists Night.\nSaxophonist Stephen Yee and his band. \nOpen Jam Session at 9.30! \nGarden State Ale House – 378 George St. New Brunswick\, NJ
URL:https://nbjp.org/event/emerging-artists-open-session-stephen-yee-band-4/
LOCATION:Garden State Ale House\, 378 George St.\, New Brunswick\, NJ\, 08901\, United States
CATEGORIES:Music
ATTACH;FMTTYPE=image/jpeg:https://nbjp.org/wp-content/uploads/2016/10/StephenYee1.jpg
END:VEVENT
BEGIN:VEVENT
DTSTART;TZID=America/New_York:20180411T200000
DTEND;TZID=America/New_York:20180411T230000
DTSTAMP:20260423T000828
CREATED:20180313T183103Z
LAST-MODIFIED:20180313T183103Z
UID:5192-1523476800-1523487600@nbjp.org
SUMMARY:Nat Adderly Jr. Trio
DESCRIPTION:Nat Adderly Jr. Trio \nNat Adderly Jr.  on keys \n  \n  \nINC American Bar & Kitchen\, 302 George St. New Brunswick\, NJ\nNo cover charge. Reservations
URL:https://nbjp.org/event/nat-adderly-jr-trio-4/
LOCATION:INC American Bar & Kitchen\, 302 George St. \, New Brunswick\, NJ\, 08901\, United States
CATEGORIES:Music
ATTACH;FMTTYPE=image/jpeg:https://nbjp.org/wp-content/uploads/2016/12/Nat-Adderly-Jr..jpg
END:VEVENT
BEGIN:VEVENT
DTSTART;TZID=America/New_York:20180412T200000
DTEND;TZID=America/New_York:20180412T230000
DTSTAMP:20260423T000828
CREATED:20180313T182856Z
LAST-MODIFIED:20180403T153839Z
UID:5187-1523563200-1523574000@nbjp.org
SUMMARY:Dave Schumacher Quartet
DESCRIPTION:Dave Shumacher Quartet \nDave Shumacher – baritone sax.\nCharlie Sigler – guitar\, Jamale Davis – bass\, J. Taylor Leach – drums. \nHyatt Regency – 2 Albany St. New Brunswick\, NJ\nNo cover charge.
URL:https://nbjp.org/event/dave-schumacher-quartet-2/
LOCATION:Hyatt Regency\, 2 Albany St.\, New Brunswick\, NJ\, 08901\, United States
CATEGORIES:Music
ATTACH;FMTTYPE=image/jpeg:https://nbjp.org/wp-content/uploads/2017/07/DaveShumacher400.jpg
END:VEVENT
BEGIN:VEVENT
DTSTART;TZID=America/New_York:20180413T183000
DTEND;TZID=America/New_York:20180413T213000
DTSTAMP:20260423T000828
CREATED:20180313T183742Z
LAST-MODIFIED:20180313T183742Z
UID:5205-1523644200-1523655000@nbjp.org
SUMMARY:Marianne Solivan Duo
DESCRIPTION:Marianne Solivan Duo\nMarianne Solivan – vocals \n\nDue Mari\, 78 Albany St. New Brunswick\, NJ   \nNo cover charge. Reservations 
URL:https://nbjp.org/event/marianne-solivan-duo-3/
LOCATION:Due Mari\, 78 Albany St.\, New Brunswick\, NJ\, 08901\, United States
ATTACH;FMTTYPE=image/jpeg:https://nbjp.org/wp-content/uploads/2016/12/MarianneSolivanSQ.jpg
END:VEVENT
BEGIN:VEVENT
DTSTART;TZID=America/New_York:20180414T190000
DTEND;TZID=America/New_York:20180414T220000
DTSTAMP:20260423T000828
CREATED:20170215T223111Z
LAST-MODIFIED:20180227T212453Z
UID:3272-1523732400-1523743200@nbjp.org
SUMMARY:NBJP Anniversary Celebration and Fundraiser!
DESCRIPTION:The New Brunswick Jazz Project\nEighth Anniversary Celebration and Fundraiser\nHonoring\nStephen K. Jones\nMember\, NBJP Board of Trustees\,\nFormer President & CEO of Robert Wood Johnson University Hospital/Barnabas Health\nwith\nThe Honorable E. Ronald Wright Community Impresario Award\nIn recognition and appreciation of his continuous support of\nThe New Brunswick Jazz Project \nMusic by:\nThe Winard Harper Group \nWine and refreshments by:\nDue Mari – 78 Albany St. New Brunswick\nINC American Bar and Kitchen – 302 George St. New Brunswick\nGeorge Street State Ale House – 378 George St. New Brunswick\nVerve – 18 E Main St. Somerville\nThe Hyatt – 2 Albany Street \nCost:\n$150 per person* \nGive your payment to Mike\, Virginia or Jimmy\nOr\nPay online via PayPal \n\nOr\n mail check to:\nNBJP 8 Hiram Square\, New Brunswick\, NJ 08901\n*$100 of your contribution is tax deductible. The New Brunswick Jazz Project NPO is a recognized tax exempt organization under section 501(c)(3) of the Internal Revenue Code. \n 
URL:https://nbjp.org/event/nbjp-anniversary-celebration-and-fundraiser/
LOCATION:The Barn\, 1225 Easton Avenue\, Somerset\, NJ\, 08873\, United States
CATEGORIES:Fund Raiser
ATTACH;FMTTYPE=image/png:https://nbjp.org/wp-content/uploads/2017/02/logo-NBJP-lg.png
END:VEVENT
BEGIN:VEVENT
DTSTART;TZID=America/New_York:20180417T200000
DTEND;TZID=America/New_York:20180417T230000
DTSTAMP:20260423T000828
CREATED:20180225T161636Z
LAST-MODIFIED:20180225T161636Z
UID:5029-1523995200-1524006000@nbjp.org
SUMMARY:Emerging Artists & Open Session – Benjamin Weise Band
DESCRIPTION:Benjamin Weise Band \nEmerging Artists Night.\nGuitarist Benjamin Weise \nOpen Jam Session at 9.30!\nGarden State Ale House – 378 George St. New Brunswick\, NJ
URL:https://nbjp.org/event/emerging-artists-open-session-benjamin-weise-band-3/
LOCATION:Garden State Ale House\, 378 George St.\, New Brunswick\, NJ\, 08901\, United States
CATEGORIES:Music
ATTACH;FMTTYPE=image/jpeg:https://nbjp.org/wp-content/uploads/2017/02/BenjaminWeise.jpg
END:VEVENT
BEGIN:VEVENT
DTSTART;TZID=America/New_York:20180418T180000
DTEND;TZID=America/New_York:20180418T200000
DTSTAMP:20260423T000828
CREATED:20180405T164428Z
LAST-MODIFIED:20180405T164428Z
UID:5388-1524074400-1524081600@nbjp.org
SUMMARY:Swingadelic
DESCRIPTION:Swingadelic \nCome out for an evening of swing music and swing dancing. \n  \nThe Yard\n40 College Ave\, New Brunswick\, NJ 08901\nThe Yard @ College Avenue is located at the corner of College Avenue and Hamilton Street\, just steps from the Voorhees Mall\, Old Queens College\, and the busiest bus stop at Rutgers University. \n  \n 
URL:https://nbjp.org/event/swingadelic/
LOCATION:The Yard at College Ave\, 40 College Ave\, New Brunswick\, NJ\, 08901\, United States
CATEGORIES:Music
ATTACH;FMTTYPE=image/jpeg:https://nbjp.org/wp-content/uploads/2018/04/IMG_1246-1.jpg
END:VEVENT
BEGIN:VEVENT
DTSTART;TZID=America/New_York:20180418T200000
DTEND;TZID=America/New_York:20180418T230000
DTSTAMP:20260423T000828
CREATED:20180306T014645Z
LAST-MODIFIED:20180410T180008Z
UID:5161-1524081600-1524092400@nbjp.org
SUMMARY:Kyle Koehler Trio
DESCRIPTION:Kyle Koehler Trio \nKyle Koehler – organ\, Jason Tiemann on Drums\, -Nick Hempton on saxophone \n  \nINC American Bar & Kitchen\, 302 George St. New Brunswick\, NJ\nNo cover charge. Reservations
URL:https://nbjp.org/event/kyle-koehler-trio-3/
LOCATION:INC American Bar & Kitchen\, 302 George St. \, New Brunswick\, NJ\, 08901\, United States
CATEGORIES:Music
ATTACH;FMTTYPE=image/jpeg:https://nbjp.org/wp-content/uploads/2016/10/Kyle-Koehler.jpg
END:VEVENT
BEGIN:VEVENT
DTSTART;TZID=America/New_York:20180419T200000
DTEND;TZID=America/New_York:20180419T230000
DTSTAMP:20260423T000828
CREATED:20180225T165432Z
LAST-MODIFIED:20180416T141321Z
UID:5059-1524168000-1524178800@nbjp.org
SUMMARY:Gruppo di Musicisti
DESCRIPTION:Gruppo di Musicisti \nByron Landham – drums\, Robert Landham – sax\, Massimo Farao – piano\,  Nicola Barbon – bass \nHyatt Regency – 2 Albany St. New Brunswick\, NJ\nNo cover charge.
URL:https://nbjp.org/event/gruppo-di-musicisti/
LOCATION:Hyatt Regency\, 2 Albany St.\, New Brunswick\, NJ\, 08901\, United States
CATEGORIES:Music
ATTACH;FMTTYPE=image/jpeg:https://nbjp.org/wp-content/uploads/2018/04/grouppo.jpg
END:VEVENT
BEGIN:VEVENT
DTSTART;TZID=America/New_York:20180420T183000
DTEND;TZID=America/New_York:20180420T213000
DTSTAMP:20260423T000828
CREATED:20180313T183908Z
LAST-MODIFIED:20180421T004200Z
UID:5209-1524249000-1524259800@nbjp.org
SUMMARY:Carrie Jackson Duo
DESCRIPTION:Carrie Jackson Duo \nFeaturing Carrie Jackson \nDue Mari – 78 Albany St.  Brunswick\, NJ \nNo cover charge.
URL:https://nbjp.org/event/carrie-jackson-duo-2/
LOCATION:Due Mari\, 78 Albany St.\, New Brunswick\, NJ\, 08901\, United States
ATTACH;FMTTYPE=image/jpeg:https://nbjp.org/wp-content/uploads/2017/07/carriejackson400.jpg
END:VEVENT
BEGIN:VEVENT
DTSTART;TZID=America/New_York:20180424T200000
DTEND;TZID=America/New_York:20180424T230000
DTSTAMP:20260423T000828
CREATED:20180313T184034Z
LAST-MODIFIED:20180313T184034Z
UID:5214-1524600000-1524610800@nbjp.org
SUMMARY:Emerging Artists & Open Session – Dave Mosko Band
DESCRIPTION:Dave Mosko Band \nDave Mosko-Leader/Trombone \nEmerging Artists Night.\nOpen Jam Session at 9.30! \nGeorge Street Ale House – 378 George St. New Brunswick\, NJ
URL:https://nbjp.org/event/emerging-artists-open-session-dave-mosko-band-2/
LOCATION:Garden State Ale House\, 378 George St.\, New Brunswick\, NJ\, 08901\, United States
CATEGORIES:Music
ATTACH;FMTTYPE=image/jpeg:https://nbjp.org/wp-content/uploads/2018/01/Dave-Mosko.jpg
END:VEVENT
BEGIN:VEVENT
DTSTART;TZID=America/New_York:20180425T200000
DTEND;TZID=America/New_York:20180425T230000
DTSTAMP:20260423T000828
CREATED:20180302T192946Z
LAST-MODIFIED:20180410T175920Z
UID:5107-1524686400-1524697200@nbjp.org
SUMMARY:Sharp Radway Trio
DESCRIPTION:Sharp Radway Trio \nSharp Radway\, Camille Gainer-Jones (drums) and Mimi Jones (bass) \nINC Restaurant 302 George St. New Brunswick\, NJ\n8:00pm – 11:00pm
URL:https://nbjp.org/event/sharp-radway-trio/
LOCATION:INC American Bar & Kitchen\, 302 George St. \, New Brunswick\, NJ\, 08901\, United States
CATEGORIES:Music
ATTACH;FMTTYPE=image/jpeg:https://nbjp.org/wp-content/uploads/2018/03/Sharp-Radway.jpg
END:VEVENT
BEGIN:VEVENT
DTSTART;TZID=America/New_York:20180426T200000
DTEND;TZID=America/New_York:20180426T230000
DTSTAMP:20260423T000828
CREATED:20180306T014228Z
LAST-MODIFIED:20180306T014446Z
UID:5158-1524772800-1524783600@nbjp.org
SUMMARY:Ralph Bowen Quartet
DESCRIPTION:Saxophonist Ralph Bowen and his quartet. \nHyatt Regency – 2 Albany St. New Brunswick\, NJ\nNo cover charge.
URL:https://nbjp.org/event/ralph-bowen-quartet-2/
LOCATION:Hyatt Regency\, 2 Albany St.\, New Brunswick\, NJ\, 08901\, United States
CATEGORIES:Music
ATTACH;FMTTYPE=image/jpeg:https://nbjp.org/wp-content/uploads/2016/08/ralph-bowen-quartet.jpg
END:VEVENT
BEGIN:VEVENT
DTSTART;TZID=America/New_York:20180427T183000
DTEND;TZID=America/New_York:20180427T213000
DTSTAMP:20260423T000829
CREATED:20180313T184154Z
LAST-MODIFIED:20180313T184227Z
UID:5220-1524853800-1524864600@nbjp.org
SUMMARY:Molly Mason Duo
DESCRIPTION:Molly Mason Duo \nMolly Mason – vocals. \n  \nDue Mari\, 78 Albany St. New Brunswick\, NJ\nNo cover charge. Reservations
URL:https://nbjp.org/event/molly-mason-duo-3/
LOCATION:Due Mari\, 78 Albany St.\, New Brunswick\, NJ\, 08901\, United States
CATEGORIES:Music
ATTACH;FMTTYPE=image/jpeg:https://nbjp.org/wp-content/uploads/2017/07/Molly-Mason-3.jpg
END:VEVENT
END:VCALENDAR