BEGIN:VCALENDAR
VERSION:2.0
PRODID:-//New Brunswick Jazz Project - ECPv6.15.18//NONSGML v1.0//EN
CALSCALE:GREGORIAN
METHOD:PUBLISH
X-ORIGINAL-URL:https://nbjp.org
X-WR-CALDESC:Events for New Brunswick Jazz Project
REFRESH-INTERVAL;VALUE=DURATION:PT1H
X-Robots-Tag:noindex
X-PUBLISHED-TTL:PT1H
BEGIN:VTIMEZONE
TZID:America/New_York
BEGIN:DAYLIGHT
TZOFFSETFROM:-0500
TZOFFSETTO:-0400
TZNAME:EDT
DTSTART:20190310T070000
END:DAYLIGHT
BEGIN:STANDARD
TZOFFSETFROM:-0400
TZOFFSETTO:-0500
TZNAME:EST
DTSTART:20191103T060000
END:STANDARD
BEGIN:DAYLIGHT
TZOFFSETFROM:-0500
TZOFFSETTO:-0400
TZNAME:EDT
DTSTART:20200308T070000
END:DAYLIGHT
BEGIN:STANDARD
TZOFFSETFROM:-0400
TZOFFSETTO:-0500
TZNAME:EST
DTSTART:20201101T060000
END:STANDARD
BEGIN:DAYLIGHT
TZOFFSETFROM:-0500
TZOFFSETTO:-0400
TZNAME:EDT
DTSTART:20210314T070000
END:DAYLIGHT
BEGIN:STANDARD
TZOFFSETFROM:-0400
TZOFFSETTO:-0500
TZNAME:EST
DTSTART:20211107T060000
END:STANDARD
END:VTIMEZONE
BEGIN:VEVENT
DTSTART;TZID=America/New_York:20200204T200000
DTEND;TZID=America/New_York:20200204T230000
DTSTAMP:20260421T125539
CREATED:20200122T212641Z
LAST-MODIFIED:20200122T212641Z
UID:8697-1580846400-1580857200@nbjp.org
SUMMARY:Emerging Artists & Open Session – Hank Allen-Barfield Band
DESCRIPTION:Hank Allen-Barfield Band\nTuesday\, February 4⋅8:00 – 11:00pm\nWeekly on Tuesday\n\n\n\n\n\n \n\nGeorge Street Ale House 378 George St\, New Brunswick\,\n\n\n\n\nOpen Jam Session at 9.30.\n\n\n\n\n\n\n\n\n\nGeorge Street Ale House – 378 George St.
URL:https://nbjp.org/event/emerging-artists-open-session-hank-allen-barfield-band/
LOCATION:George Street Ale House\, 378 George St.\, New Brunswick\, 08901
CATEGORIES:Music
ATTACH;FMTTYPE=image/jpeg:https://nbjp.org/wp-content/uploads/2020/01/Hank-Allen-Barfield.jpg
END:VEVENT
BEGIN:VEVENT
DTSTART;TZID=America/New_York:20200205T200000
DTEND;TZID=America/New_York:20200205T230000
DTSTAMP:20260421T125539
CREATED:20200105T234008Z
LAST-MODIFIED:20200106T162839Z
UID:8662-1580932800-1580943600@nbjp.org
SUMMARY:Victor Gould Trio
DESCRIPTION:Victor Gould Trio \n  \nTavern on George 361 George St. New Brunswick\, NJ\n8:00pm – 11:00pm
URL:https://nbjp.org/event/victor-gould-trio/
LOCATION:Tavern on George\, 361 George St.\, New Brunswick\, NJ\, 08901\, United States
CATEGORIES:Music
ATTACH;FMTTYPE=image/jpeg:https://nbjp.org/wp-content/uploads/2020/01/VictorGould-1024x595-1.jpg
END:VEVENT
BEGIN:VEVENT
DTSTART;TZID=America/New_York:20200206T200000
DTEND;TZID=America/New_York:20200206T230000
DTSTAMP:20260421T125539
CREATED:20191217T193648Z
LAST-MODIFIED:20200130T153754Z
UID:8544-1581019200-1581030000@nbjp.org
SUMMARY:Behn Gillece Quartet
DESCRIPTION:Behn Gillece Quartet \nBehn Gillece – vibraphone Bob DeVos – guitar Chris Simonini – organ Tim Horner – drums \nTavern on George\n361 George St. New Brunswick\nno cover charge. Reservations
URL:https://nbjp.org/event/behn-gillece-quartet-5/
LOCATION:Hyatt Regency\, 2 Albany St.\, New Brunswick\, NJ\, 08901\, United States
CATEGORIES:Music
ATTACH;FMTTYPE=image/jpeg:https://nbjp.org/wp-content/uploads/2017/04/BehnGillece.jpg
END:VEVENT
BEGIN:VEVENT
DTSTART;TZID=America/New_York:20200211T200000
DTEND;TZID=America/New_York:20200211T230000
DTSTAMP:20260421T125539
CREATED:20200122T213019Z
LAST-MODIFIED:20200212T000148Z
UID:8705-1581451200-1581462000@nbjp.org
SUMMARY:Emerging Artist & Open Jam - Liam Sutcliffe Band
DESCRIPTION:Liam Sucliffe Band  \nLiam Sutcliffe Quintet\, 8-11PM. Open session @ 9:30. \nJam session at 9.30\nMoved to Tavern on George 302 George St. New Brunswick\, NJ \nNo cover charge.
URL:https://nbjp.org/event/emerging-artist-open-jam-liam-sutcliffe-band-2/
LOCATION:Tavern on George\, 361 George St.\, New Brunswick\, NJ\, 08901\, United States
CATEGORIES:Music
ATTACH;FMTTYPE=image/jpeg:https://nbjp.org/wp-content/uploads/2019/05/LiamSutcliffe.jpg
END:VEVENT
BEGIN:VEVENT
DTSTART;TZID=America/New_York:20200212T200000
DTEND;TZID=America/New_York:20200212T230000
DTSTAMP:20260421T125539
CREATED:20191118T200957Z
LAST-MODIFIED:20191118T200957Z
UID:6161-1581537600-1581548400@nbjp.org
SUMMARY:Keith Franklin Trio
DESCRIPTION:Keith Franklin Trio\nTavern on George\n361 George St. New Brunswick\nno cover charge. Reservations highly recommended
URL:https://nbjp.org/event/keith-franklin-trio-3/
LOCATION:Tavern on George\, 361 George St.\, New Brunswick\, NJ\, 08901\, United States
CATEGORIES:Music
ATTACH;FMTTYPE=image/jpeg:https://nbjp.org/wp-content/uploads/2017/02/17014BFC-E9F0-4702-8748-91AFC3450837-388-00000044A490011B_tmp-e1682262895646.jpg
END:VEVENT
BEGIN:VEVENT
DTSTART;TZID=America/New_York:20200213T200000
DTEND;TZID=America/New_York:20200213T230000
DTSTAMP:20260421T125539
CREATED:20191118T185355Z
LAST-MODIFIED:20191118T185355Z
UID:8333-1581624000-1581634800@nbjp.org
SUMMARY:Lucy Yeghiazaryan Quartet
DESCRIPTION:Lucy Yeghiazaryan Quartet\nTavern on George – 361 George St. New Brunswick\, NJ. \n8:00pm – 11:00pm \nNO COVER Reservations
URL:https://nbjp.org/event/lucy-yeghiazaryan-quartet/
LOCATION:Tavern on George\, 361 George St.\, New Brunswick\, NJ\, 08901\, United States
CATEGORIES:Music
ATTACH;FMTTYPE=image/jpeg:https://nbjp.org/wp-content/uploads/2019/03/Lucy23456.jpg
END:VEVENT
BEGIN:VEVENT
DTSTART;TZID=America/New_York:20200218T200000
DTEND;TZID=America/New_York:20200218T230000
DTSTAMP:20260421T125539
CREATED:20200122T213318Z
LAST-MODIFIED:20200122T213318Z
UID:8712-1582056000-1582066800@nbjp.org
SUMMARY:Emerging Artists & Open Jam - Graham Kozak Band
DESCRIPTION:Graham Kozak Band \nJam session at 9.30\nGarden State Ale House – 378 George St. New Brunswick\, NJ \nNo cover charge.
URL:https://nbjp.org/event/emerging-artists-open-jam-graham-kozak-band/
LOCATION:Garden State Ale House\, 378 George St.\, New Brunswick\, NJ\, 08901\, United States
CATEGORIES:Music
ATTACH;FMTTYPE=image/jpeg:https://nbjp.org/wp-content/uploads/2019/05/GrahamKozak.jpg
END:VEVENT
BEGIN:VEVENT
DTSTART;TZID=America/New_York:20200219T200000
DTEND;TZID=America/New_York:20200219T230000
DTSTAMP:20260421T125539
CREATED:20191118T203223Z
LAST-MODIFIED:20200218T150127Z
UID:8404-1582142400-1582153200@nbjp.org
SUMMARY:Benito Gonzalez Trio
DESCRIPTION:Benito Gonzalez Trio \nSanti Debriano – Bass\, Juan Chivasa – drums\, Benito Gonzalez – piano \nTavern on George. 361 George St. New Brunswick\, NJ\nNo cover charge.
URL:https://nbjp.org/event/benito-gonzalez-trio-3/
LOCATION:Tavern on George\, 361 George St.\, New Brunswick\, NJ\, 08901\, United States
ATTACH;FMTTYPE=image/jpeg:https://nbjp.org/wp-content/uploads/2016/09/benito-gonzalez-quartet.jpg
END:VEVENT
BEGIN:VEVENT
DTSTART;TZID=America/New_York:20200220T200000
DTEND;TZID=America/New_York:20200220T230000
DTSTAMP:20260421T125539
CREATED:20191217T194132Z
LAST-MODIFIED:20200123T213407Z
UID:8554-1582228800-1582239600@nbjp.org
SUMMARY:Hendrik Meurkens Quartet
DESCRIPTION:Hendrik Meurkens – harmonics\, vibes\n\n\n\n\n\n\n\n\n\n\n\n\n\n\n\n\n\n\n\nTavern on George 361 George St. New Brunswick\, NJ\nNo cover charge.
URL:https://nbjp.org/event/hendrik-meurkens-quartet-4/
LOCATION:Tavern on George\, 361 George St.\, New Brunswick\, NJ\, 08901\, United States
CATEGORIES:Music
ATTACH;FMTTYPE=image/jpeg:https://nbjp.org/wp-content/uploads/2017/06/HendrikMeurkens.jpg
END:VEVENT
BEGIN:VEVENT
DTSTART;TZID=America/New_York:20200225T180000
DTEND;TZID=America/New_York:20200226T020000
DTSTAMP:20260421T125539
CREATED:20200224T183735Z
LAST-MODIFIED:20200224T183735Z
UID:8900-1582653600-1582682400@nbjp.org
SUMMARY:Mardi Gras Celebration
DESCRIPTION:Mardi Gras Celebration \nJoin us for our second annual Fat Tuesday Mardi Gras Celebration and Old Bay Reunion!!! We’ll have live music by New Brunswick Jazz Project to kick things off at 6pm\, and The Do Rights to keep the party going all night long!!! \n$15 Cover Includes\nNew Orleans Style Buffet 6pm to 10pm\nLive Entertainment \nNew Brunswick Jazz Brass 6-9 pm \nThe Do Rights 10- til………\nSpecials and Giveaways from Abita\, Captain Morgan\, and Ketel One\nHurricane and Hand Grenade Specials\nBourbon Specials \nAll Ages 6pm to 10pm\nFace painting & Balloon Animals\n21+ 10pm until Closing \nBlackthorn Pub \n61 Church St\, New Brunswick\nNew Brunswick\, New Jersey 08901 \n 
URL:https://nbjp.org/event/mardi-gras-celebration/
LOCATION:Blackthorn Restaurant and Irish Pub – New Brunswick\, 61 Church St\, New Brunswick\, NJ\, 08901
CATEGORIES:Music
ATTACH;FMTTYPE=image/jpeg:https://nbjp.org/wp-content/uploads/2020/02/mardi-gras-blackthorn.jpg
END:VEVENT
BEGIN:VEVENT
DTSTART;TZID=America/New_York:20200225T200000
DTEND;TZID=America/New_York:20200225T230000
DTSTAMP:20260421T125539
CREATED:20200122T213550Z
LAST-MODIFIED:20200122T213550Z
UID:8719-1582660800-1582671600@nbjp.org
SUMMARY:Emerging Artists & Open Session – Ryan Permaul Band
DESCRIPTION:Emerging Artists Night.\nRyan Permaul and his band. \nOpen Jam Session at 9.30!\nGarden State Ale House – 378 George St. New Brunswick\, NJ
URL:https://nbjp.org/event/emerging-artists-open-session-ryan-permaul-band-2/
LOCATION:Garden State Ale House\, 378 George St.\, New Brunswick\, NJ\, 08901\, United States
CATEGORIES:Music
ATTACH;FMTTYPE=image/jpeg:https://nbjp.org/wp-content/uploads/2017/02/RyanPermaul.jpg
END:VEVENT
BEGIN:VEVENT
DTSTART;TZID=America/New_York:20200226T200000
DTEND;TZID=America/New_York:20200226T230000
DTSTAMP:20260421T125539
CREATED:20191217T195021Z
LAST-MODIFIED:20200213T202448Z
UID:8562-1582747200-1582758000@nbjp.org
SUMMARY:Victor Jones Trio
DESCRIPTION:Victor Jones Trio \nVictor Jones – drums\, Roberta Piket – keys\, Shin Sakaino – bass \nTavern on George 361 George St. New Brunswick\, NJ\n8:00pm – 11:00pm
URL:https://nbjp.org/event/victor-jones-trio-2/
LOCATION:Tavern on George\, 361 George St.\, New Brunswick\, NJ\, 08901\, United States
CATEGORIES:Music
ATTACH;FMTTYPE=image/jpeg:https://nbjp.org/wp-content/uploads/2019/12/Victor-jones-2.jpg
END:VEVENT
BEGIN:VEVENT
DTSTART;TZID=America/New_York:20200227T200000
DTEND;TZID=America/New_York:20200227T230000
DTSTAMP:20260421T125539
CREATED:20200105T234543Z
LAST-MODIFIED:20200226T194659Z
UID:8670-1582833600-1582844400@nbjp.org
SUMMARY:Gerry Gibbs  Quartet
DESCRIPTION:Gerry Gibbs Quartet  \nErena Terakubo flute \, alto and soprano Sax\, Jean Baptiste-Bocle on vibes \, Paul Odeh on Organ. Gerry Gibbs – drums \nTavern on George \n361 George St. New Brunswick\, NJ\n8:00pm – 11:00pm \n 
URL:https://nbjp.org/event/gerry-gibbs-quartet/
LOCATION:Tavern on George\, 361 George St.\, New Brunswick\, NJ\, 08901\, United States
CATEGORIES:Music
ATTACH;FMTTYPE=image/jpeg:https://nbjp.org/wp-content/uploads/2018/02/Gerry-Gibbs.jpg
END:VEVENT
END:VCALENDAR