BEGIN:VCALENDAR
VERSION:2.0
PRODID:-//New Brunswick Jazz Project - ECPv6.15.18//NONSGML v1.0//EN
CALSCALE:GREGORIAN
METHOD:PUBLISH
X-ORIGINAL-URL:https://nbjp.org
X-WR-CALDESC:Events for New Brunswick Jazz Project
REFRESH-INTERVAL;VALUE=DURATION:PT1H
X-Robots-Tag:noindex
X-PUBLISHED-TTL:PT1H
BEGIN:VTIMEZONE
TZID:America/New_York
BEGIN:DAYLIGHT
TZOFFSETFROM:-0500
TZOFFSETTO:-0400
TZNAME:EDT
DTSTART:20210314T070000
END:DAYLIGHT
BEGIN:STANDARD
TZOFFSETFROM:-0400
TZOFFSETTO:-0500
TZNAME:EST
DTSTART:20211107T060000
END:STANDARD
BEGIN:DAYLIGHT
TZOFFSETFROM:-0500
TZOFFSETTO:-0400
TZNAME:EDT
DTSTART:20220313T070000
END:DAYLIGHT
BEGIN:STANDARD
TZOFFSETFROM:-0400
TZOFFSETTO:-0500
TZNAME:EST
DTSTART:20221106T060000
END:STANDARD
BEGIN:DAYLIGHT
TZOFFSETFROM:-0500
TZOFFSETTO:-0400
TZNAME:EDT
DTSTART:20230312T070000
END:DAYLIGHT
BEGIN:STANDARD
TZOFFSETFROM:-0400
TZOFFSETTO:-0500
TZNAME:EST
DTSTART:20231105T060000
END:STANDARD
END:VTIMEZONE
BEGIN:VEVENT
DTSTART;TZID=America/New_York:20220705T190000
DTEND;TZID=America/New_York:20220705T220000
DTSTAMP:20260419T135730
CREATED:20220613T150029Z
LAST-MODIFIED:20220613T150046Z
UID:11942-1657047600-1657058400@nbjp.org
SUMMARY:Emerging Artists & Open Session – Charlie Barber Band
DESCRIPTION:Charlie Barber Band  \nOpen Jam Session at 8.30!\nTavern on George – 361 George St. New Brunswick\, NJ
URL:https://nbjp.org/event/emerging-artists-open-session-charlie-barber-band-6/
LOCATION:Tavern on George\, 361 George St.\, New Brunswick\, NJ\, 08901\, United States
CATEGORIES:Music
ATTACH;FMTTYPE=image/jpeg:https://nbjp.org/wp-content/uploads/2018/07/charlie-barber-e1533492012412.jpg
END:VEVENT
BEGIN:VEVENT
DTSTART;TZID=America/New_York:20220707T190000
DTEND;TZID=America/New_York:20220707T220000
DTSTAMP:20260419T135730
CREATED:20220309T200824Z
LAST-MODIFIED:20220621T185701Z
UID:11830-1657220400-1657231200@nbjp.org
SUMMARY:Jerry Weldon Sextet
DESCRIPTION:Jerry Weldon Sextet\nTavern on George  \n\n$15 cover if indoors\n7-10 pm\n361 George St. New Brunswick\, NJ\nReservations highly recommended.
URL:https://nbjp.org/event/jerry-weldon-sextet-4/
LOCATION:Tavern on George\, 361 George St.\, New Brunswick\, NJ\, 08901\, United States
CATEGORIES:Music
ATTACH;FMTTYPE=image/jpeg:https://nbjp.org/wp-content/uploads/2022/03/Jerrry-weldon22.jpg
END:VEVENT
BEGIN:VEVENT
DTSTART;TZID=America/New_York:20220712T190000
DTEND;TZID=America/New_York:20220712T220000
DTSTAMP:20260419T135730
CREATED:20220613T150709Z
LAST-MODIFIED:20220613T150709Z
UID:11944-1657652400-1657663200@nbjp.org
SUMMARY:Tristan Voitcu Sextet
DESCRIPTION:Tristan Voitcu Sextet\nSara Gaudino- Trumpet\, Kyle Courter- Trombone\, Jacob Hurlock- Keyboard\, Don Solomon- Drums\, Christos Kokolis – Guitar. \nOpen Jam Session at 8.30!\nTavern on George – 361 George St. New Brunswick\, NJ
URL:https://nbjp.org/event/tristan-voitcu-sextet/
LOCATION:Tavern on George\, 361 George St.\, New Brunswick\, NJ\, 08901\, United States
CATEGORIES:Music
ATTACH;FMTTYPE=image/jpeg:https://nbjp.org/wp-content/uploads/2022/06/Tristan-V.jpg
END:VEVENT
BEGIN:VEVENT
DTSTART;TZID=America/New_York:20220714T190000
DTEND;TZID=America/New_York:20220714T220000
DTSTAMP:20260419T135730
CREATED:20220613T144931Z
LAST-MODIFIED:20220621T190611Z
UID:11935-1657825200-1657836000@nbjp.org
SUMMARY:Marianne Solivan  Quartet
DESCRIPTION:Marianne Solivan Quartet \nOutside Tavern on George \n7-10 pm\n361 George St. New Brunswick\, NJ\n\n 
URL:https://nbjp.org/event/marianne-solivan-quartet-4/
LOCATION:Tavern on George\, 361 George St.\, New Brunswick\, NJ\, 08901\, United States
ATTACH;FMTTYPE=image/jpeg:https://nbjp.org/wp-content/uploads/2018/06/marianne-solivan46.jpg
END:VEVENT
BEGIN:VEVENT
DTSTART;TZID=America/New_York:20220719T190000
DTEND;TZID=America/New_York:20220719T220000
DTSTAMP:20260419T135730
CREATED:20220613T150944Z
LAST-MODIFIED:20220706T141703Z
UID:11947-1658257200-1658268000@nbjp.org
SUMMARY:Ilan Eisenzweig Band
DESCRIPTION:Ilan Eisenzweig Band\nOpen Jam Session at 8.30!\nTavern on George – 361 George St. New Brunswick\, NJ
URL:https://nbjp.org/event/will-comer-trio-4/
LOCATION:Tavern on George\, 361 George St.\, New Brunswick\, NJ\, 08901\, United States
CATEGORIES:Music
ATTACH;FMTTYPE=image/jpeg:https://nbjp.org/wp-content/uploads/2020/10/Ilan-23-e1682263256638.jpg
END:VEVENT
BEGIN:VEVENT
DTSTART;TZID=America/New_York:20220721T190000
DTEND;TZID=America/New_York:20220721T220000
DTSTAMP:20260419T135730
CREATED:20220613T145102Z
LAST-MODIFIED:20220721T182702Z
UID:11937-1658430000-1658440800@nbjp.org
SUMMARY:Winard Harper & Jeli Posse
DESCRIPTION:Winard Harper & Jeli Posse\nInside upstairs at Tavern on George  \n7.00 – 10.00 pm\n361 George St. New Brunswick\, NJ\nNo cover charge \n  \n 
URL:https://nbjp.org/event/winard-harper-jeli-posse-5/
LOCATION:Tavern on George\, 361 George St.\, New Brunswick\, NJ\, 08901\, United States
CATEGORIES:Music
ATTACH;FMTTYPE=image/jpeg:https://nbjp.org/wp-content/uploads/2016/12/Winard-Harper-2-e1682262982309.jpg
END:VEVENT
BEGIN:VEVENT
DTSTART;TZID=America/New_York:20220726T190000
DTEND;TZID=America/New_York:20220726T220000
DTSTAMP:20260419T135730
CREATED:20220613T151202Z
LAST-MODIFIED:20220613T151202Z
UID:11949-1658862000-1658872800@nbjp.org
SUMMARY:Solomon Alber Quartet
DESCRIPTION:Solomon Alber Quartet\nEmerging Artists & Open Jam Session!!\nJam session at 8:45 pm!\nTavern on George 7-10:00 pm\n361 George St. New Brunswick\, NJ\n 
URL:https://nbjp.org/event/solomon-alber-quartet-2/
LOCATION:Tavern on George\, 361 George St.\, New Brunswick\, NJ\, 08901\, United States
CATEGORIES:Music
ATTACH;FMTTYPE=image/jpeg:https://nbjp.org/wp-content/uploads/2022/01/Solomon-22.jpg
END:VEVENT
BEGIN:VEVENT
DTSTART;TZID=America/New_York:20220728T190000
DTEND;TZID=America/New_York:20220728T220000
DTSTAMP:20260419T135730
CREATED:20220613T145422Z
LAST-MODIFIED:20220621T190722Z
UID:11939-1659034800-1659045600@nbjp.org
SUMMARY:Swingadelic
DESCRIPTION:Swingadelic\nOutside Tavern on George St.\n7-10 pm\n361 George St. New Brunswick\, NJ\n\n  \n 
URL:https://nbjp.org/event/swingadelic-3/
LOCATION:Tavern on George\, 361 George St\, New Brunswick\, NJ\, 08901\, United States
CATEGORIES:Music
ATTACH;FMTTYPE=image/jpeg:https://nbjp.org/wp-content/uploads/2018/04/IMG_1246-1.jpg
END:VEVENT
END:VCALENDAR