BEGIN:VCALENDAR
VERSION:2.0
PRODID:-//New Brunswick Jazz Project - ECPv6.15.18//NONSGML v1.0//EN
CALSCALE:GREGORIAN
METHOD:PUBLISH
X-ORIGINAL-URL:https://nbjp.org
X-WR-CALDESC:Events for New Brunswick Jazz Project
REFRESH-INTERVAL;VALUE=DURATION:PT1H
X-Robots-Tag:noindex
X-PUBLISHED-TTL:PT1H
BEGIN:VTIMEZONE
TZID:America/New_York
BEGIN:DAYLIGHT
TZOFFSETFROM:-0500
TZOFFSETTO:-0400
TZNAME:EDT
DTSTART:20200308T070000
END:DAYLIGHT
BEGIN:STANDARD
TZOFFSETFROM:-0400
TZOFFSETTO:-0500
TZNAME:EST
DTSTART:20201101T060000
END:STANDARD
BEGIN:DAYLIGHT
TZOFFSETFROM:-0500
TZOFFSETTO:-0400
TZNAME:EDT
DTSTART:20210314T070000
END:DAYLIGHT
BEGIN:STANDARD
TZOFFSETFROM:-0400
TZOFFSETTO:-0500
TZNAME:EST
DTSTART:20211107T060000
END:STANDARD
BEGIN:DAYLIGHT
TZOFFSETFROM:-0500
TZOFFSETTO:-0400
TZNAME:EDT
DTSTART:20220313T070000
END:DAYLIGHT
BEGIN:STANDARD
TZOFFSETFROM:-0400
TZOFFSETTO:-0500
TZNAME:EST
DTSTART:20221106T060000
END:STANDARD
END:VTIMEZONE
BEGIN:VEVENT
DTSTART;TZID=America/New_York:20210221T123000
DTEND;TZID=America/New_York:20210221T153000
DTSTAMP:20260423T052606
CREATED:20210122T111518Z
LAST-MODIFIED:20210219T031227Z
UID:10315-1613910600-1613921400@nbjp.org
SUMMARY: Jackson Grundt Band
DESCRIPTION:  \nJackson Grundt Band\nEmerging Artists & Open Jam Session!!\nJam session at 2:15 pm!\nOutside Tavern under heated tent\n12:30-3:30 pm\n361 George St. New Brunswick\, NJ\nTables are socially distanced and face masks required.\n  \n  \n 
URL:https://nbjp.org/event/jackson-grundt-band/
LOCATION:George Street Ale House\, 378 George St.\, New Brunswick\, 08901
CATEGORIES:Music
ATTACH;FMTTYPE=image/jpeg:https://nbjp.org/wp-content/uploads/2019/12/Jackson-Grundt.jpg
END:VEVENT
END:VCALENDAR