BEGIN:VCALENDAR
VERSION:2.0
PRODID:-//New Brunswick Jazz Project - ECPv6.15.18//NONSGML v1.0//EN
CALSCALE:GREGORIAN
METHOD:PUBLISH
X-ORIGINAL-URL:https://nbjp.org
X-WR-CALDESC:Events for New Brunswick Jazz Project
REFRESH-INTERVAL;VALUE=DURATION:PT1H
X-Robots-Tag:noindex
X-PUBLISHED-TTL:PT1H
BEGIN:VTIMEZONE
TZID:America/New_York
BEGIN:DAYLIGHT
TZOFFSETFROM:-0500
TZOFFSETTO:-0400
TZNAME:EDT
DTSTART:20180311T070000
END:DAYLIGHT
BEGIN:STANDARD
TZOFFSETFROM:-0400
TZOFFSETTO:-0500
TZNAME:EST
DTSTART:20181104T060000
END:STANDARD
BEGIN:DAYLIGHT
TZOFFSETFROM:-0500
TZOFFSETTO:-0400
TZNAME:EDT
DTSTART:20190310T070000
END:DAYLIGHT
BEGIN:STANDARD
TZOFFSETFROM:-0400
TZOFFSETTO:-0500
TZNAME:EST
DTSTART:20191103T060000
END:STANDARD
BEGIN:DAYLIGHT
TZOFFSETFROM:-0500
TZOFFSETTO:-0400
TZNAME:EDT
DTSTART:20200308T070000
END:DAYLIGHT
BEGIN:STANDARD
TZOFFSETFROM:-0400
TZOFFSETTO:-0500
TZNAME:EST
DTSTART:20201101T060000
END:STANDARD
END:VTIMEZONE
BEGIN:VEVENT
DTSTART;TZID=America/New_York:20191231T200000
DTEND;TZID=America/New_York:20191231T234500
DTSTAMP:20260419T185207
CREATED:20191215T211651Z
LAST-MODIFIED:20191215T212101Z
UID:8425-1577822400-1577835900@nbjp.org
SUMMARY:A Night in New Orleans
DESCRIPTION:New Year’s Eve Special Event \nJoin us before the New Brunswick fire works for a A Night in New Orleans! \nJerry Weldon – Marl Braud Quintet* \nFour Course Meal & Champagne toast. For tickets see Virginia\, Mike\, Jimmy or click Reservations \nTavern on George 361 George St. New Brunswick\n*Mark Braud led the legendary Preservation Hall Jazz Band for 9 years!
URL:https://nbjp.org/event/a-night-in-new-orleans/
LOCATION:Tavern on George\, 361 George St.\, New Brunswick\, NJ\, 08901\, United States
CATEGORIES:Music
ATTACH;FMTTYPE=image/jpeg:https://nbjp.org/wp-content/uploads/2019/12/MarkBraud.jpg
END:VEVENT
END:VCALENDAR