BEGIN:VCALENDAR
VERSION:2.0
PRODID:-//New Brunswick Jazz Project - ECPv6.15.18//NONSGML v1.0//EN
CALSCALE:GREGORIAN
METHOD:PUBLISH
X-ORIGINAL-URL:https://nbjp.org
X-WR-CALDESC:Events for New Brunswick Jazz Project
REFRESH-INTERVAL;VALUE=DURATION:PT1H
X-Robots-Tag:noindex
X-PUBLISHED-TTL:PT1H
BEGIN:VTIMEZONE
TZID:America/New_York
BEGIN:DAYLIGHT
TZOFFSETFROM:-0500
TZOFFSETTO:-0400
TZNAME:EDT
DTSTART:20220313T070000
END:DAYLIGHT
BEGIN:STANDARD
TZOFFSETFROM:-0400
TZOFFSETTO:-0500
TZNAME:EST
DTSTART:20221106T060000
END:STANDARD
BEGIN:DAYLIGHT
TZOFFSETFROM:-0500
TZOFFSETTO:-0400
TZNAME:EDT
DTSTART:20230312T070000
END:DAYLIGHT
BEGIN:STANDARD
TZOFFSETFROM:-0400
TZOFFSETTO:-0500
TZNAME:EST
DTSTART:20231105T060000
END:STANDARD
BEGIN:DAYLIGHT
TZOFFSETFROM:-0500
TZOFFSETTO:-0400
TZNAME:EDT
DTSTART:20240310T070000
END:DAYLIGHT
BEGIN:STANDARD
TZOFFSETFROM:-0400
TZOFFSETTO:-0500
TZNAME:EST
DTSTART:20241103T060000
END:STANDARD
END:VTIMEZONE
BEGIN:VEVENT
DTSTART;TZID=America/New_York:20230930T130000
DTEND;TZID=America/New_York:20230930T173000
DTSTAMP:20260421T083938
CREATED:20230703T150612Z
LAST-MODIFIED:20230925T202042Z
UID:12434-1696078800-1696095000@nbjp.org
SUMMARY:Middlesex County Jazz Festival
DESCRIPTION:Middlesex County Jazz Festival\nSaturday’s All-Star Lineup in New Brunswick:\nNat Adderley Jr. Quartet\nNat Adderley Jr. keys\, Mike Lee -Sax/flute\, Chris Berger -bass\, & Dwayne “Cook” Broadnax – drum\n4:00pm to 5:30pm\n     Conrad Herwig Latin Side All-Stars\nConrad Herwig – trombone\, Bill O’Connell – keys\, Robbie Ameen -drums\,\nLincoln Goines -bass\, & Ivan Renta – sax\n2:00pm to 3:30pm\n  New Brunswick Jazz Project Brass\n1:00pm to 1:40pm\n\nFestival produced & hosted by The New Brunswick Jazz Project – NBJP.ORG \nLocation; \nNEW BRUNSWICK – SATURDAY\, SEPTEMBER 30 \, 2023\n1-5:30 PM Rain or shine.\nOn Livingston St. (in front of New Brunswick performing Arts Center) New Brunswick\, NJ 08901\n(on NJ Transit’s Northeast Corridor line) \n  \n \n  \n“Grant funding has been provided by the Middlesex County Board of County Commissioners through a grant award from Middlesex County Cultural and Arts Trust Fund.”
URL:https://nbjp.org/event/middlesex-county-jazz-festival/
LOCATION:New Brunswick Performing Arts Center\, 11 Livingston Ave.\, New Brunswick\, NJ\, 08901\, United States
CATEGORIES:Music
ATTACH;FMTTYPE=image/png:https://nbjp.org/wp-content/uploads/2023/07/MCJF-black-logo-6.png
END:VEVENT
END:VCALENDAR