BEGIN:VCALENDAR
VERSION:2.0
PRODID:-//New Brunswick Jazz Project - ECPv6.15.18//NONSGML v1.0//EN
CALSCALE:GREGORIAN
METHOD:PUBLISH
X-ORIGINAL-URL:https://nbjp.org
X-WR-CALDESC:Events for New Brunswick Jazz Project
REFRESH-INTERVAL;VALUE=DURATION:PT1H
X-Robots-Tag:noindex
X-PUBLISHED-TTL:PT1H
BEGIN:VTIMEZONE
TZID:America/New_York
BEGIN:DAYLIGHT
TZOFFSETFROM:-0500
TZOFFSETTO:-0400
TZNAME:EDT
DTSTART:20150308T070000
END:DAYLIGHT
BEGIN:STANDARD
TZOFFSETFROM:-0400
TZOFFSETTO:-0500
TZNAME:EST
DTSTART:20151101T060000
END:STANDARD
BEGIN:DAYLIGHT
TZOFFSETFROM:-0500
TZOFFSETTO:-0400
TZNAME:EDT
DTSTART:20160313T070000
END:DAYLIGHT
BEGIN:STANDARD
TZOFFSETFROM:-0400
TZOFFSETTO:-0500
TZNAME:EST
DTSTART:20161106T060000
END:STANDARD
BEGIN:DAYLIGHT
TZOFFSETFROM:-0500
TZOFFSETTO:-0400
TZNAME:EDT
DTSTART:20170312T070000
END:DAYLIGHT
BEGIN:STANDARD
TZOFFSETFROM:-0400
TZOFFSETTO:-0500
TZNAME:EST
DTSTART:20171105T060000
END:STANDARD
END:VTIMEZONE
BEGIN:VEVENT
DTSTART;TZID=America/New_York:20161103T200000
DTEND;TZID=America/New_York:20161103T230000
DTSTAMP:20260420T031742
CREATED:20161014T043814Z
LAST-MODIFIED:20161105T152240Z
UID:2247-1478203200-1478214000@nbjp.org
SUMMARY:Mark Gross Quartet
DESCRIPTION:MGQ – Mark Gross Quartet featuring Benito Gonzalez -keyboard\, Chris Berger – bass and Vincent Ector – drums. \nHyatt Regency – 2 Albany St. New Brunswick\, NJ\nNo cover charge.
URL:https://nbjp.org/event/mark-gross-quartet/
LOCATION:Hyatt Regency\, 2 Albany St.\, New Brunswick\, NJ\, 08901\, United States
CATEGORIES:Music
ATTACH;FMTTYPE=image/jpeg:https://nbjp.org/wp-content/uploads/2016/10/MarkGrossBlackside.jpeg
END:VEVENT
BEGIN:VEVENT
DTSTART;TZID=America/New_York:20161106T170000
DTEND;TZID=America/New_York:20161106T210000
DTSTAMP:20260420T031742
CREATED:20161017T140457Z
LAST-MODIFIED:20161021T032406Z
UID:2319-1478451600-1478466000@nbjp.org
SUMMARY:Jazzin' for Funds
DESCRIPTION:Come support Town Clock CDC’s annual fundraiser Jazzin’ for Funds! Their event runs from 5 – 9 PM with gift baskets\, raffles\, great music\, food\, drinks and community! Our musicians for the evening will be the Dave Gibson Quartet – featuring  Jared Gold\, Freddie Hendrix\, and Anwar Marshall. Tickets are $45 in advance and $50 at the door. \nWith Dina’s Dwellings opening earlier this year\, they have a lot to celebrate (and raise money for)! Your support helps them provide 10 permanent\, supportive and affordable homes for survivors of domestic violence and their families! Please buy your tickets today and invite your friends! \nOld Bay Restaurant 7 Church St\, New Brunswick
URL:https://nbjp.org/event/jazzin-for-funds/
LOCATION:NJ
ATTACH;FMTTYPE=image/jpeg:https://nbjp.org/wp-content/uploads/2016/10/jazzin-for-funds3.jpg
END:VEVENT
BEGIN:VEVENT
DTSTART;TZID=America/New_York:20161108T200000
DTEND;TZID=America/New_York:20161108T230000
DTSTAMP:20260420T031742
CREATED:20161015T013955Z
LAST-MODIFIED:20161105T142706Z
UID:2301-1478635200-1478646000@nbjp.org
SUMMARY:Emerging Artists & Open Session – Scott O'Brien Band
DESCRIPTION:Emerging Artists Night.\nBass trombonist Scott O’Brien with Eric Graber – tenor sax\, Josh Siegel – guitar\, Louis Pettinelli – bass and Daniel Gianonne – drums. \nOpen Jam Session at 9.30!\nGarden State Ale House – 378 George St. New Brunswick\, NJ
URL:https://nbjp.org/event/emerging-artists-open-session-scott-obrien-band/
LOCATION:Garden State Ale House\, 378 George St.\, New Brunswick\, NJ\, 08901\, United States
CATEGORIES:Music
ATTACH;FMTTYPE=image/jpeg:https://nbjp.org/wp-content/uploads/2016/10/Scottobrien-e1477253512999.jpg
END:VEVENT
BEGIN:VEVENT
DTSTART;TZID=America/New_York:20161109T200000
DTEND;TZID=America/New_York:20161109T230000
DTSTAMP:20260420T031742
CREATED:20161014T161202Z
LAST-MODIFIED:20161105T152029Z
UID:2252-1478721600-1478732400@nbjp.org
SUMMARY:John Bianculli Trio
DESCRIPTION:Pianist John Bianculli featuring Brynn Stanley – vocals and Jonathan Peretz – drums. \n  \n  \nINC American Bar & Kitchen\, 302 George St. New Brunswick\, NJ\nNo cover charge. Reservations
URL:https://nbjp.org/event/john-bianculli-trio/
LOCATION:INC American Bar & Kitchen\, 302 George St. \, New Brunswick\, NJ\, 08901\, United States
CATEGORIES:Music
ATTACH;FMTTYPE=image/jpeg:https://nbjp.org/wp-content/uploads/2016/10/John-Bianculli-1_n.jpg
END:VEVENT
BEGIN:VEVENT
DTSTART;TZID=America/New_York:20161110T200000
DTEND;TZID=America/New_York:20161110T230000
DTSTAMP:20260420T031742
CREATED:20161014T162838Z
LAST-MODIFIED:20161105T143349Z
UID:2259-1478808000-1478818800@nbjp.org
SUMMARY:Tom Tallitsch Quartet
DESCRIPTION:Tenor saxophinist Tom Tallitsch featuring Greg Snyder – guitar\, Jason Fratacelli – bass and Bill Avayou – drums. \n  \nHyatt Regency – 2 Albany St. New Brunswick\, NJ\nNo cover charge.
URL:https://nbjp.org/event/tom-tallitsch-quartet/
LOCATION:Hyatt Regency\, 2 Albany St.\, New Brunswick\, NJ\, 08901\, United States
ATTACH;FMTTYPE=image/jpeg:https://nbjp.org/wp-content/uploads/2016/10/Tom-Tallitsch1.jpg
END:VEVENT
BEGIN:VEVENT
DTSTART;TZID=America/New_York:20161111T183000
DTEND;TZID=America/New_York:20161111T213000
DTSTAMP:20260420T031742
CREATED:20161014T164258Z
LAST-MODIFIED:20161105T142819Z
UID:2261-1478889000-1478899800@nbjp.org
SUMMARY:Kate Baker & Vic Juris
DESCRIPTION:Vocals and guitar. \nDue Mari\, 78 Albany St. New Brunswick\, NJ\nNo cover charge. Reservations
URL:https://nbjp.org/event/kate-baker-duo/
LOCATION:NJ
CATEGORIES:Music
ATTACH;FMTTYPE=image/jpeg:https://nbjp.org/wp-content/uploads/2011/12/kate-baker-2.jpg
END:VEVENT
BEGIN:VEVENT
DTSTART;TZID=America/New_York:20161115T200000
DTEND;TZID=America/New_York:20161115T230000
DTSTAMP:20260420T031742
CREATED:20161015T013629Z
LAST-MODIFIED:20161105T153015Z
UID:2294-1479240000-1479250800@nbjp.org
SUMMARY:Emerging Artists & Open Session – Stephen Yee Band
DESCRIPTION:Emerging Artists Night.\nAlto saxophonist Stephen Yee with Jonathan Kirschner – guitar\, Ryan Permaul – bass and Kyle Duppstadt – Drums. \nOpen Jam Session at 9.30!\nGarden State Ale House – 378 George St. New Brunswick\, NJ
URL:https://nbjp.org/event/emerging-artists-open-session-stephen-yee-band/
LOCATION:Garden State Ale House\, 378 George St.\, New Brunswick\, NJ\, 08901\, United States
CATEGORIES:Music
ATTACH;FMTTYPE=image/jpeg:https://nbjp.org/wp-content/uploads/2016/10/StephenYee1.jpg
END:VEVENT
BEGIN:VEVENT
DTSTART;TZID=America/New_York:20161116T200000
DTEND;TZID=America/New_York:20161116T230000
DTSTAMP:20260420T031742
CREATED:20161014T171040Z
LAST-MODIFIED:20161115T192139Z
UID:2263-1479326400-1479337200@nbjp.org
SUMMARY:Kyle Koehler Trio
DESCRIPTION:Kyle Koehler Trio \nHoward Wiley on tenor sax \nJason Tiemann on drums \nKyle Koehler – organ \nINC American Bar & Kitchen\, 302 George St. New Brunswick\, NJ\nNo cover charge. Reservations
URL:https://nbjp.org/event/kyle-koehler-trio/
LOCATION:INC American Bar & Kitchen\, 302 George St. \, New Brunswick\, NJ\, 08901\, United States
CATEGORIES:Music
ATTACH;FMTTYPE=image/jpeg:https://nbjp.org/wp-content/uploads/2016/10/Kyle-Koehler.jpg
END:VEVENT
BEGIN:VEVENT
DTSTART;TZID=America/New_York:20161117T200000
DTEND;TZID=America/New_York:20161117T230000
DTSTAMP:20260420T031742
CREATED:20161014T172028Z
LAST-MODIFIED:20161115T172904Z
UID:2266-1479412800-1479423600@nbjp.org
SUMMARY:Akiko Quartet
DESCRIPTION:Akiko Quartet \nAkiko – organ\nBob DeVos – guitar\nMyron Walden- sax\nJason Tiemann- drums \nHyatt Regency – 2 Albany St. New Brunswick\, NJ\nNo cover charge.
URL:https://nbjp.org/event/akiko-quartet/
LOCATION:Hyatt Regency\, 2 Albany St.\, New Brunswick\, NJ\, 08901\, United States
CATEGORIES:Music
ATTACH;FMTTYPE=image/jpeg:https://nbjp.org/wp-content/uploads/2016/10/akiko.jpg
END:VEVENT
BEGIN:VEVENT
DTSTART;TZID=America/New_York:20161122T200000
DTEND;TZID=America/New_York:20161122T230000
DTSTAMP:20260420T031742
CREATED:20161115T023319Z
LAST-MODIFIED:20161120T204503Z
UID:2505-1479844800-1479855600@nbjp.org
SUMMARY:Emerging Artists & Open Session – Jimmy Merchant Band
DESCRIPTION:Emerging Artists Night.\nSaxophonist Jimmy Merchant with George Maher – trumpet\, John Nunez – guitar\, Ian Keneslaar – bass and Michael Winnicki – drums. \nOpen Jam Session at 9.30! \nGarden State Ale House – 378 George St. New Brunswick\, NJ
URL:https://nbjp.org/event/emerging-artists-open-session-jimmy-merchant-band-2/
LOCATION:Garden State Ale House\, 378 George St.\, New Brunswick\, NJ\, 08901\, United States
CATEGORIES:Music
ATTACH;FMTTYPE=image/jpeg:https://nbjp.org/wp-content/uploads/2016/11/JimmyMerchant600.jpg
END:VEVENT
BEGIN:VEVENT
DTSTART;TZID=America/New_York:20161123T200000
DTEND;TZID=America/New_York:20161123T230000
DTSTAMP:20260420T031742
CREATED:20161015T004919Z
LAST-MODIFIED:20161124T054953Z
UID:2280-1479931200-1479942000@nbjp.org
SUMMARY:Irwin Hall Trio
DESCRIPTION:Saxophonist Irwin Hall with Lee Hogans – trumpet and Eitan Levine – keyboard. \nINC American Bar & Kitchen\, 302 George St. New Brunswick\, NJ\nNo cover charge. Reservations
URL:https://nbjp.org/event/irwin-hall-trio/
LOCATION:NJ
CATEGORIES:Music
ATTACH;FMTTYPE=image/jpeg:https://nbjp.org/wp-content/uploads/2016/10/IrwinHall3.jpg
END:VEVENT
BEGIN:VEVENT
DTSTART;TZID=America/New_York:20161129T200000
DTEND;TZID=America/New_York:20161129T230000
DTSTAMP:20260420T031742
CREATED:20161023T191806Z
LAST-MODIFIED:20161124T054608Z
UID:2397-1480449600-1480460400@nbjp.org
SUMMARY:Emerging Artists & Open Session – Grady Barber Band
DESCRIPTION:Emerging Artists Night.\nGrady Barber alto sax with Charlie Barber – trumpet\, Nick Masters – keyboard\, Michael Toppings – bass and KyleDuppstadt. \nOpen Jam Session at 9.30!\nGarden State Ale House – 378 George St. New Brunswick\, NJ
URL:https://nbjp.org/event/emerging-artists-open-session-grady-barber-band/
LOCATION:Garden State Ale House\, 378 George St.\, New Brunswick\, NJ\, 08901\, United States
CATEGORIES:Music
ATTACH;FMTTYPE=image/jpeg:https://nbjp.org/wp-content/uploads/2016/10/Grady.jpg
END:VEVENT
BEGIN:VEVENT
DTSTART;TZID=America/New_York:20161130T200000
DTEND;TZID=America/New_York:20161130T230000
DTSTAMP:20260420T031742
CREATED:20161015T005916Z
LAST-MODIFIED:20161128T160447Z
UID:2284-1480536000-1480546800@nbjp.org
SUMMARY:Sanah Kadoura Trio
DESCRIPTION:Sanah Kadoura Trio \nfeaturing \nPat Bianchi – organ \nPaul Bollenback – guitar \nSanah Kadoura – drums \n  \nINC American Bar & Kitchen\, 302 George St. New Brunswick\, NJ\nNo cover charge. Reservations
URL:https://nbjp.org/event/sanah-kadoura-trio/
LOCATION:NJ
CATEGORIES:Music
ATTACH;FMTTYPE=image/jpeg:https://nbjp.org/wp-content/uploads/2016/10/Sanah-Kadoura-1.jpg
END:VEVENT
END:VCALENDAR