BEGIN:VCALENDAR
VERSION:2.0
PRODID:-//New Brunswick Jazz Project - ECPv6.15.18//NONSGML v1.0//EN
CALSCALE:GREGORIAN
METHOD:PUBLISH
X-ORIGINAL-URL:https://nbjp.org
X-WR-CALDESC:Events for New Brunswick Jazz Project
REFRESH-INTERVAL;VALUE=DURATION:PT1H
X-Robots-Tag:noindex
X-PUBLISHED-TTL:PT1H
BEGIN:VTIMEZONE
TZID:America/New_York
BEGIN:DAYLIGHT
TZOFFSETFROM:-0500
TZOFFSETTO:-0400
TZNAME:EDT
DTSTART:20150308T070000
END:DAYLIGHT
BEGIN:STANDARD
TZOFFSETFROM:-0400
TZOFFSETTO:-0500
TZNAME:EST
DTSTART:20151101T060000
END:STANDARD
BEGIN:DAYLIGHT
TZOFFSETFROM:-0500
TZOFFSETTO:-0400
TZNAME:EDT
DTSTART:20160313T070000
END:DAYLIGHT
BEGIN:STANDARD
TZOFFSETFROM:-0400
TZOFFSETTO:-0500
TZNAME:EST
DTSTART:20161106T060000
END:STANDARD
BEGIN:DAYLIGHT
TZOFFSETFROM:-0500
TZOFFSETTO:-0400
TZNAME:EDT
DTSTART:20170312T070000
END:DAYLIGHT
BEGIN:STANDARD
TZOFFSETFROM:-0400
TZOFFSETTO:-0500
TZNAME:EST
DTSTART:20171105T060000
END:STANDARD
BEGIN:DAYLIGHT
TZOFFSETFROM:-0500
TZOFFSETTO:-0400
TZNAME:EDT
DTSTART:20180311T070000
END:DAYLIGHT
BEGIN:STANDARD
TZOFFSETFROM:-0400
TZOFFSETTO:-0500
TZNAME:EST
DTSTART:20181104T060000
END:STANDARD
END:VTIMEZONE
BEGIN:VEVENT
DTSTART;TZID=America/New_York:20161201T200000
DTEND;TZID=America/New_York:20161201T230000
DTSTAMP:20260420T014248
CREATED:20161023T000153Z
LAST-MODIFIED:20161120T204233Z
UID:2389-1480622400-1480633200@nbjp.org
SUMMARY:Keith Franklin Jazz Group
DESCRIPTION:Pianist Keith Franklin featuring Scot Hornick – bass\, Rob Henke – trumpet\, Tom Papadatos – drums and special guest Catrice Joseph – vocals. \nHyatt Regency – 2 Albany St. New Brunswick\, NJ \nNo cover charge.
URL:https://nbjp.org/event/franklin-alison-quartet/
LOCATION:Hyatt Regency\, 2 Albany St.\, New Brunswick\, NJ\, 08901\, United States
CATEGORIES:Music
ATTACH;FMTTYPE=image/jpeg:https://nbjp.org/wp-content/uploads/2016/10/FranklinAlsion.jpg
END:VEVENT
BEGIN:VEVENT
DTSTART;TZID=America/New_York:20161206T200000
DTEND;TZID=America/New_York:20161206T230000
DTSTAMP:20260420T014248
CREATED:20161124T055446Z
LAST-MODIFIED:20161124T060405Z
UID:2545-1481054400-1481065200@nbjp.org
SUMMARY:Emerging Artists & Open Session – Jonathan Kirschner Band
DESCRIPTION:Emerging Artists Night. \nJazzy Jon and the Hard Bop Hitters.\nGuitarist Jonathan Kirschner with Stephen Yee – alto sax\, Ryan Permaul – bass and Kyle Duppstadt – drums. \nOpen Jam Session at 9.30! \nGarden State Ale House – 378 George St. New Brunswick\, NJ
URL:https://nbjp.org/event/emerging-artists-open-session-john-kirschner-band/
LOCATION:Garden State Ale House\, 378 George St.\, New Brunswick\, NJ\, 08901\, United States
CATEGORIES:Music
ATTACH;FMTTYPE=image/jpeg:https://nbjp.org/wp-content/uploads/2016/11/JonathanKirschner.jpg
END:VEVENT
BEGIN:VEVENT
DTSTART;TZID=America/New_York:20161207T200000
DTEND;TZID=America/New_York:20161207T230000
DTSTAMP:20260420T014248
CREATED:20161015T010311Z
LAST-MODIFIED:20161125T135850Z
UID:2289-1481140800-1481151600@nbjp.org
SUMMARY:Mariel Bildsten Trio
DESCRIPTION:Mariel Bildsten Trio \nMariel Bildsten – trombone \nMike Noordzy – bass \nMisha Josephs – guitar \nINC American Bar & Kitchen\, 302 George St. New Brunswick\, NJ \nNo cover charge. Reservations
URL:https://nbjp.org/event/mariel-bildsten-trio/
LOCATION:NJ
CATEGORIES:Music
ATTACH;FMTTYPE=image/jpeg:https://nbjp.org/wp-content/uploads/2016/10/mariel.jpg
END:VEVENT
BEGIN:VEVENT
DTSTART;TZID=America/New_York:20161208T200000
DTEND;TZID=America/New_York:20161208T230000
DTSTAMP:20260420T014248
CREATED:20161020T104604Z
LAST-MODIFIED:20161205T141327Z
UID:2353-1481227200-1481238000@nbjp.org
SUMMARY:Arnetta Johnson Quartet
DESCRIPTION:Arnetta Johnson Quartet \n\nArnetta Johnson – trumpet\n\n\nNick Salcido-bass \n\n\nJeremy Simon-drums \n\n\nWesley Robinson-piano\n\nHyatt Regency – 2 Albany St. New Brunswick\, NJ \nNo cover charge.
URL:https://nbjp.org/event/arnetta-johnson-quartet/
LOCATION:Hyatt Regency\, 2 Albany St.\, New Brunswick\, NJ\, 08901\, United States
CATEGORIES:Music
ATTACH;FMTTYPE=image/jpeg:https://nbjp.org/wp-content/uploads/2016/10/IMG_6496.jpg
END:VEVENT
BEGIN:VEVENT
DTSTART;TZID=America/New_York:20161213T200000
DTEND;TZID=America/New_York:20161213T230000
DTSTAMP:20260420T014248
CREATED:20161124T061102Z
LAST-MODIFIED:20171030T033524Z
UID:2570-1481659200-1481670000@nbjp.org
SUMMARY:Emerging Artists & Open Session – William Gorman Band
DESCRIPTION:Emerging Artists Night.\nWilliam Gorman and his Band. \nOpen Jam Session at 9.30!\nGarden State Ale House – 378 George St. New Brunswick\, NJ
URL:https://nbjp.org/event/emerging-artists-open-session-william-gorman-band/
LOCATION:Garden State Ale House\, 378 George St.\, New Brunswick\, NJ\, 08901\, United States
CATEGORIES:Music
ATTACH;FMTTYPE=image/jpeg:https://nbjp.org/wp-content/uploads/2016/11/WillGorman400.jpg
END:VEVENT
BEGIN:VEVENT
DTSTART;TZID=America/New_York:20161214T200000
DTEND;TZID=America/New_York:20161214T230000
DTSTAMP:20260420T014248
CREATED:20161023T191610Z
LAST-MODIFIED:20161023T201406Z
UID:2395-1481745600-1481756400@nbjp.org
SUMMARY:Sheryl Bailey Trio
DESCRIPTION:Sheryl Bailey Trio \n  \nINC American Bar & Kitchen\, 302 George St. New Brunswick\, NJ\nNo cover charge. Reservations
URL:https://nbjp.org/event/sheryl-bailey-trio/
LOCATION:INC American Bar & Kitchen\, 302 George St. \, New Brunswick\, NJ\, 08901\, United States
ATTACH;FMTTYPE=image/jpeg:https://nbjp.org/wp-content/uploads/2016/10/SherylBailey.jpg
END:VEVENT
BEGIN:VEVENT
DTSTART;TZID=America/New_York:20161215T200000
DTEND;TZID=America/New_York:20161215T230000
DTSTAMP:20260420T014248
CREATED:20161023T191413Z
LAST-MODIFIED:20161209T181534Z
UID:2392-1481832000-1481842800@nbjp.org
SUMMARY:The Landham Brothers
DESCRIPTION:The Landham Brothers \nRobert Landham alto sax \nByron Landham drums \nJoshua Richman piano \nMadison Rast bass \nHyatt Regency – 2 Albany St. New Brunswick\, NJ \nNo cover charge.
URL:https://nbjp.org/event/the-landham-brothers/
LOCATION:Hyatt Regency\, 2 Albany St.\, New Brunswick\, NJ\, 08901\, United States
CATEGORIES:Music
ATTACH;FMTTYPE=image/jpeg:https://nbjp.org/wp-content/uploads/2016/12/landham-brothers.jpg
END:VEVENT
BEGIN:VEVENT
DTSTART;TZID=America/New_York:20161221T200000
DTEND;TZID=America/New_York:20161221T230000
DTSTAMP:20260420T014248
CREATED:20161020T105732Z
LAST-MODIFIED:20161207T181919Z
UID:2357-1482350400-1482361200@nbjp.org
SUMMARY:Dave Stryker Trio
DESCRIPTION:Dave Stryker Trio \nDave Styker – guitar \nJared Gold – organ \nChris Beck – drums \n  \nINC American Bar & Kitchen\, 302 George St. New Brunswick\, NJ\nNo cover charge. Reservations
URL:https://nbjp.org/event/dave-stryker-trio/
LOCATION:INC American Bar & Kitchen\, 302 George St. \, New Brunswick\, NJ\, 08901\, United States
ATTACH;FMTTYPE=image/jpeg:https://nbjp.org/wp-content/uploads/2011/12/dave-stryker-1-72dpi.jpg
END:VEVENT
BEGIN:VEVENT
DTSTART;TZID=America/New_York:20161222T200000
DTEND;TZID=America/New_York:20161222T230000
DTSTAMP:20260420T014248
CREATED:20161018T134032Z
LAST-MODIFIED:20161215T144709Z
UID:2328-1482436800-1482447600@nbjp.org
SUMMARY:Winard Harper and Jeli Posse
DESCRIPTION:Winard Harper and Jeli Posse \nWinard Harper – drums \nAnthony Ware- sax\nTedd Chubb – trumpet \nTadataka Unno – keys \nVince Dupont – bass \nHyatt Regency – 2 Albany St. New Brunswick\, NJ\nNo cover charge.
URL:https://nbjp.org/event/winard-harper-and-jeli-posse/
LOCATION:Hyatt Regency\, 2 Albany St.\, New Brunswick\, NJ\, 08901\, United States
CATEGORIES:Music
ATTACH;FMTTYPE=image/jpeg:https://nbjp.org/wp-content/uploads/2016/08/winard-harper-group.jpg
END:VEVENT
BEGIN:VEVENT
DTSTART;TZID=America/New_York:20161231T180000
DTEND;TZID=America/New_York:20170101T001500
DTSTAMP:20260420T014248
CREATED:20161218T184423Z
LAST-MODIFIED:20161223T160404Z
UID:2658-1483207200-1483229700@nbjp.org
SUMMARY:Michael Bond Trio
DESCRIPTION:Michael Bond Trio \nMichael Bond – piano \nBryon Landham – drums \nAdrian Mooring – bass \nNew Years Eve Band. \nDue Mari\, 78 Albany St. New Brunswick\, NJ\nNo cover charge. Reservations
URL:https://nbjp.org/event/mike-bond-trio/
LOCATION:Due Mari\, 78 Albany St.\, New Brunswick\, NJ\, 08901\, United States
CATEGORIES:Music
ATTACH;FMTTYPE=image/jpeg:https://nbjp.org/wp-content/uploads/2011/10/mikebond-smaller.jpg
END:VEVENT
BEGIN:VEVENT
DTSTART;TZID=America/New_York:20161231T203000
DTEND;TZID=America/New_York:20170101T123000
DTSTAMP:20260420T014248
CREATED:20161230T004349Z
LAST-MODIFIED:20161230T004349Z
UID:2831-1483216200-1483273800@nbjp.org
SUMMARY:Justin Jones Trio
DESCRIPTION:Justin Jones Trio \nNew Years Eve at Verve! \n  \n  \nVerve – 18 East Main St. Somerville\, NJ 
URL:https://nbjp.org/event/justin-jones-trio/
LOCATION:Verve\, 18 East Main Street\, Somerville\, NJ\, 08876\, United States
CATEGORIES:Music
ATTACH;FMTTYPE=image/jpeg:https://nbjp.org/wp-content/uploads/2016/12/justin-jones.jpg
ORGANIZER;CN="Verve":MAILTO:Info@vervestyle.com
END:VEVENT
END:VCALENDAR