BEGIN:VCALENDAR
VERSION:2.0
PRODID:-//New Brunswick Jazz Project - ECPv6.15.18//NONSGML v1.0//EN
CALSCALE:GREGORIAN
METHOD:PUBLISH
X-ORIGINAL-URL:https://nbjp.org
X-WR-CALDESC:Events for New Brunswick Jazz Project
REFRESH-INTERVAL;VALUE=DURATION:PT1H
X-Robots-Tag:noindex
X-PUBLISHED-TTL:PT1H
BEGIN:VTIMEZONE
TZID:America/New_York
BEGIN:DAYLIGHT
TZOFFSETFROM:-0500
TZOFFSETTO:-0400
TZNAME:EDT
DTSTART:20160313T070000
END:DAYLIGHT
BEGIN:STANDARD
TZOFFSETFROM:-0400
TZOFFSETTO:-0500
TZNAME:EST
DTSTART:20161106T060000
END:STANDARD
BEGIN:DAYLIGHT
TZOFFSETFROM:-0500
TZOFFSETTO:-0400
TZNAME:EDT
DTSTART:20170312T070000
END:DAYLIGHT
BEGIN:STANDARD
TZOFFSETFROM:-0400
TZOFFSETTO:-0500
TZNAME:EST
DTSTART:20171105T060000
END:STANDARD
BEGIN:DAYLIGHT
TZOFFSETFROM:-0500
TZOFFSETTO:-0400
TZNAME:EDT
DTSTART:20180311T070000
END:DAYLIGHT
BEGIN:STANDARD
TZOFFSETFROM:-0400
TZOFFSETTO:-0500
TZNAME:EST
DTSTART:20181104T060000
END:STANDARD
END:VTIMEZONE
BEGIN:VEVENT
DTSTART;TZID=America/New_York:20170405T200000
DTEND;TZID=America/New_York:20170405T230000
DTSTAMP:20260419T195151
CREATED:20170205T200839Z
LAST-MODIFIED:20170403T010314Z
UID:3143-1491422400-1491433200@nbjp.org
SUMMARY:Robert Landham Quartet
DESCRIPTION:Robert Landham Quartet \nRobert Landham – sax\, Michael Bond – keys\, Nathan Pence – bass \nINC American Bar & Kitchen\, 302 George St. New Brunswick\, NJ\nNo cover charge. Reservations
URL:https://nbjp.org/event/robert-landham-quartet/
LOCATION:INC American Bar & Kitchen\, 302 George St. \, New Brunswick\, NJ\, 08901\, United States
CATEGORIES:Music
ATTACH;FMTTYPE=image/jpeg:https://nbjp.org/wp-content/uploads/2017/02/EEF82319-DA65-4FE6-8139-EF826DECC4DA-388-0000001FE6E65D97_tmp.jpg
END:VEVENT
BEGIN:VEVENT
DTSTART;TZID=America/New_York:20170406T200000
DTEND;TZID=America/New_York:20170406T230000
DTSTAMP:20260419T195151
CREATED:20170205T201413Z
LAST-MODIFIED:20170403T005739Z
UID:3152-1491508800-1491519600@nbjp.org
SUMMARY:Lee Hogans Quartet
DESCRIPTION:Lee Hogans Quartet \nLee Hogans-trumpet\, Irwin Hall-Alto Sax\, Jared Gold-Organ\, Andrew Atkinson-Drums \n  \nHyatt Regency – 2 Albany St. New Brunswick\, NJ\nNo cover charge.
URL:https://nbjp.org/event/lee-hogans-quartet/
LOCATION:Hyatt Regency\, 2 Albany St.\, New Brunswick\, NJ\, 08901\, United States
CATEGORIES:Music
ATTACH;FMTTYPE=image/jpeg:https://nbjp.org/wp-content/uploads/2016/10/leeHogans-1.jpg
END:VEVENT
BEGIN:VEVENT
DTSTART;TZID=America/New_York:20170411T200000
DTEND;TZID=America/New_York:20170411T230000
DTSTAMP:20260419T195151
CREATED:20170227T014824Z
LAST-MODIFIED:20170227T014824Z
UID:2558-1491940800-1491951600@nbjp.org
SUMMARY:Emerging Artists & Open Session – Jonathan Kirschner Band
DESCRIPTION:Emerging Artists Night. \nJazzy Jon and the Hard Bop Hitters.\nGuitarist Jonathan Kirschner with Stephen Yee – alto sax\, Ryan Permaul – bass and Kyle Duppstadt – drums. \nOpen Jam Session at 9.30! \nGarden State Ale House – 378 George St. New Brunswick\, NJ
URL:https://nbjp.org/event/emerging-artists-open-session-jonathan-kirschner-band/
LOCATION:Garden State Ale House\, 378 George St.\, New Brunswick\, NJ\, 08901\, United States
CATEGORIES:Music
ATTACH;FMTTYPE=image/jpeg:https://nbjp.org/wp-content/uploads/2016/11/JonathanKirschner.jpg
END:VEVENT
BEGIN:VEVENT
DTSTART;TZID=America/New_York:20170413T200000
DTEND;TZID=America/New_York:20170413T230000
DTSTAMP:20260419T195151
CREATED:20170205T214937Z
LAST-MODIFIED:20170306T204831Z
UID:3194-1492113600-1492124400@nbjp.org
SUMMARY:Stafford Hunter Quartet
DESCRIPTION:Stafford Hunter Quartet \nStafford Hunter – trombone\, shells (and vocal)\, Yoichi Uzeki on piano\, Christian Fabian on bass\,   Jon Di Fiore on drums. \n  \nHyatt Regency – 2 Albany St. New Brunswick\, NJ\nNo cover charge.
URL:https://nbjp.org/event/stafford-hunter-quartet/
LOCATION:Hyatt Regency\, 2 Albany St.\, New Brunswick\, NJ\, 08901\, United States
CATEGORIES:Music
ATTACH;FMTTYPE=image/jpeg:https://nbjp.org/wp-content/uploads/2017/02/Stafford-Hunter.jpg
END:VEVENT
BEGIN:VEVENT
DTSTART;TZID=America/New_York:20170414T183000
DTEND;TZID=America/New_York:20170414T213000
DTSTAMP:20260419T195151
CREATED:20170205T215329Z
LAST-MODIFIED:20170205T224100Z
UID:3200-1492194600-1492205400@nbjp.org
SUMMARY:Marianne Solivan Duo
DESCRIPTION:Marianne Solivan Duo\nMarianne Solivan – vocals \n\nDue Mari\, 78 Albany St. New Brunswick\, NJ   \nNo cover charge. Reservations 
URL:https://nbjp.org/event/marianne-solivan-duo-2/
LOCATION:Due Mari\, 78 Albany St.\, New Brunswick\, NJ\, 08901\, United States
ATTACH;FMTTYPE=image/jpeg:https://nbjp.org/wp-content/uploads/2016/12/MarianneSolivanSQ.jpg
END:VEVENT
BEGIN:VEVENT
DTSTART;TZID=America/New_York:20170420T200000
DTEND;TZID=America/New_York:20170420T230000
DTSTAMP:20260419T195151
CREATED:20170205T202355Z
LAST-MODIFIED:20170417T032800Z
UID:3161-1492718400-1492729200@nbjp.org
SUMMARY:Vivian Sessoms Quartet
DESCRIPTION:Vivian Sessoms Quartet \nVocalist Vivian Sessoms featuring Dave Archer – keyboard\, Chris Parks – bass and Kevin Bregande – drums. \nHyatt Regency – 2 Albany St. New Brunswick\, NJ\nNo cover charge.
URL:https://nbjp.org/event/vivian-sessoms-quartet/
LOCATION:Hyatt Regency\, 2 Albany St.\, New Brunswick\, NJ\, 08901\, United States
CATEGORIES:Music
ATTACH;FMTTYPE=image/jpeg:https://nbjp.org/wp-content/uploads/2017/02/763DE96C-B292-4F5D-8606-AD8620F6EFA8-388-0000002DB7507EAE_tmp.jpg
END:VEVENT
BEGIN:VEVENT
DTSTART;TZID=America/New_York:20170426T200000
DTEND;TZID=America/New_York:20170426T230000
DTSTAMP:20260419T195151
CREATED:20170205T212016Z
LAST-MODIFIED:20170417T042203Z
UID:3177-1493236800-1493247600@nbjp.org
SUMMARY:Joe Magnarelli Trio
DESCRIPTION:Joe Magnarelli Trio\nTrumpeter Joe Mags featuring Brian Charette – organ and Byron Landem – drums. \nINC American Bar & Kitchen\, 302 George St. New Brunswick\, NJ\nNo cover charge. Reservations
URL:https://nbjp.org/event/joe-magnarelli-trio/
LOCATION:INC American Bar & Kitchen\, 302 George St. \, New Brunswick\, NJ\, 08901\, United States
CATEGORIES:Music
ATTACH;FMTTYPE=image/jpeg:https://nbjp.org/wp-content/uploads/2016/12/joe.jpg
END:VEVENT
BEGIN:VEVENT
DTSTART;TZID=America/New_York:20170427T200000
DTEND;TZID=America/New_York:20170427T230000
DTSTAMP:20260419T195151
CREATED:20170205T213513Z
LAST-MODIFIED:20170205T213513Z
UID:3183-1493323200-1493334000@nbjp.org
SUMMARY:Matt Kane Quartet
DESCRIPTION:Matt Kane Quartet \n  \nHyatt Regency – 2 Albany St. New Brunswick\, NJ\nNo cover charge.
URL:https://nbjp.org/event/matt-kane-quartet/
LOCATION:Hyatt Regency\, 2 Albany St.\, New Brunswick\, NJ\, 08901\, United States
CATEGORIES:Music
ATTACH;FMTTYPE=image/jpeg:https://nbjp.org/wp-content/uploads/2017/02/IMG_0045.jpg
END:VEVENT
END:VCALENDAR