BEGIN:VCALENDAR
VERSION:2.0
PRODID:-//New Brunswick Jazz Project - ECPv6.15.18//NONSGML v1.0//EN
CALSCALE:GREGORIAN
METHOD:PUBLISH
X-WR-CALNAME:New Brunswick Jazz Project
X-ORIGINAL-URL:https://nbjp.org
X-WR-CALDESC:Events for New Brunswick Jazz Project
REFRESH-INTERVAL;VALUE=DURATION:PT1H
X-Robots-Tag:noindex
X-PUBLISHED-TTL:PT1H
BEGIN:VTIMEZONE
TZID:America/New_York
BEGIN:DAYLIGHT
TZOFFSETFROM:-0500
TZOFFSETTO:-0400
TZNAME:EDT
DTSTART:20160313T070000
END:DAYLIGHT
BEGIN:STANDARD
TZOFFSETFROM:-0400
TZOFFSETTO:-0500
TZNAME:EST
DTSTART:20161106T060000
END:STANDARD
BEGIN:DAYLIGHT
TZOFFSETFROM:-0500
TZOFFSETTO:-0400
TZNAME:EDT
DTSTART:20170312T070000
END:DAYLIGHT
BEGIN:STANDARD
TZOFFSETFROM:-0400
TZOFFSETTO:-0500
TZNAME:EST
DTSTART:20171105T060000
END:STANDARD
BEGIN:DAYLIGHT
TZOFFSETFROM:-0500
TZOFFSETTO:-0400
TZNAME:EDT
DTSTART:20180311T070000
END:DAYLIGHT
BEGIN:STANDARD
TZOFFSETFROM:-0400
TZOFFSETTO:-0500
TZNAME:EST
DTSTART:20181104T060000
END:STANDARD
END:VTIMEZONE
BEGIN:VEVENT
DTSTART;TZID=America/New_York:20170601T200000
DTEND;TZID=America/New_York:20170601T230000
DTSTAMP:20260419T163055
CREATED:20170205T232714Z
LAST-MODIFIED:20170529T164828Z
UID:3235-1496347200-1496358000@nbjp.org
SUMMARY:Radam Schwartz Quartet
DESCRIPTION:Radam Schwartz Quartet \nAnthony Ware-alto\, Charlie Sigler-gtr\, Andrew Atkinson-drums\, Radam Schwartz – B3 \n  \nHyatt Regency – 2 Albany St. New Brunswick\, NJ\nNo cover charge.
URL:https://nbjp.org/event/radam-schwartz-quartet/
LOCATION:Hyatt Regency\, 2 Albany St.\, New Brunswick\, NJ\, 08901\, United States
CATEGORIES:Music
ATTACH;FMTTYPE=image/jpeg:https://nbjp.org/wp-content/uploads/2017/02/92F1D728-8F30-4E61-815B-D7676788E257-388-00000051F1352297_tmp.jpg
END:VEVENT
BEGIN:VEVENT
DTSTART;TZID=America/New_York:20170608T200000
DTEND;TZID=America/New_York:20170608T230000
DTSTAMP:20260419T163055
CREATED:20170430T182440Z
LAST-MODIFIED:20170522T153724Z
UID:3587-1496952000-1496962800@nbjp.org
SUMMARY:The Ted Chubb Band
DESCRIPTION:Ted Chubb Band \nTed Chubb – trumpet Bruce Williams – alto\, Seth Johnson – guitar\, Tom Dicarlo – bass\, Oscar Perez – piano\, Alvester Garnett – drums \nHyatt Regency – 2 Albany St. New Brunswick\, NJ  \nNo cover charge.
URL:https://nbjp.org/event/ted-chubb-band/
LOCATION:Hyatt Regency\, 2 Albany St.\, New Brunswick\, NJ\, 08901\, United States
CATEGORIES:Music
ATTACH;FMTTYPE=image/jpeg:https://nbjp.org/wp-content/uploads/2017/04/ted-chubb.jpg
END:VEVENT
BEGIN:VEVENT
DTSTART;TZID=America/New_York:20170614T200000
DTEND;TZID=America/New_York:20170614T230000
DTSTAMP:20260419T163055
CREATED:20170430T184930Z
LAST-MODIFIED:20170605T150350Z
UID:3605-1497470400-1497481200@nbjp.org
SUMMARY:Dave Stryker Trio
DESCRIPTION:Dave Stryker Trio \nJared Gold – organ\nByron Landham – drums\nDave Stryker – guitar \n  \nINC American Bar & Kitchen\, 302 George St. New Brunswick\, NJ\nNo cover charge. Reservations
URL:https://nbjp.org/event/dave-stryker-trio-2/
LOCATION:INC American Bar & Kitchen\, 302 George St. \, New Brunswick\, NJ\, 08901\, United States
ATTACH;FMTTYPE=image/jpeg:https://nbjp.org/wp-content/uploads/2017/04/Dave-Styker-Trio.jpg
END:VEVENT
BEGIN:VEVENT
DTSTART;TZID=America/New_York:20170615T200000
DTEND;TZID=America/New_York:20170615T230000
DTSTAMP:20260419T163055
CREATED:20170430T185150Z
LAST-MODIFIED:20170613T135305Z
UID:3607-1497556800-1497567600@nbjp.org
SUMMARY:Behn Gillece Quartet
DESCRIPTION:Behn Gillece Quartet \nBehn Gillece – vibes. Bob DeVos – guitar Dan Kostelnik – organ Tim Horner – drums \nHyatt Regency – 2 Albany St. New Brunswick\, NJ\nNo cover charge.
URL:https://nbjp.org/event/behn-gillece-quartet/
LOCATION:Hyatt Regency\, 2 Albany St.\, New Brunswick\, NJ\, 08901\, United States
CATEGORIES:Music
ATTACH;FMTTYPE=image/jpeg:https://nbjp.org/wp-content/uploads/2017/04/BehnGillece.jpg
END:VEVENT
BEGIN:VEVENT
DTSTART;TZID=America/New_York:20170620T200000
DTEND;TZID=America/New_York:20170620T230000
DTSTAMP:20260419T163055
CREATED:20170529T215140Z
LAST-MODIFIED:20170619T140007Z
UID:3708-1497988800-1497999600@nbjp.org
SUMMARY:Emerging Artists & Open Session – Jonathan Kirschner Quartet
DESCRIPTION:Emerging Artists Night. \nJonathan Kirschner Quartet\nGuitarist Jonathan Kirschner with Stephen Yee – alto sax\, Ryan Permaul – bass and Kyle Duppstadt – drums. \nOpen Jam Session at 9.30! \nGarden State Ale House – 378 George St. New Brunswick\, NJ
URL:https://nbjp.org/event/emerging-artists-open-session-jonathan-kirschner-quartet/
LOCATION:Garden State Ale House\, 378 George St.\, New Brunswick\, NJ\, 08901\, United States
CATEGORIES:Music
ATTACH;FMTTYPE=image/jpeg:https://nbjp.org/wp-content/uploads/2016/11/JonathanKirschner.jpg
END:VEVENT
BEGIN:VEVENT
DTSTART;TZID=America/New_York:20170622T190000
DTEND;TZID=America/New_York:20170622T210000
DTSTAMP:20260419T163055
CREATED:20170503T201909Z
LAST-MODIFIED:20170524T151956Z
UID:3623-1498158000-1498165200@nbjp.org
SUMMARY:Jazz at The Yard - Tia Fuller Quartet
DESCRIPTION:Jazz at The Yard – Tia Fuller Quartet \nTia Fuller – sax\, Shamie Royston – keys\, Mimi Jones – bass\, Joe Dyson – drums \nThe Yard at College Ave \n40 College Ave\nNew Brunswick\, New Jersey\, NJ 08901\nNo cover charge.
URL:https://nbjp.org/event/jazz-at-the-yard-tia-fuller-quartet/
LOCATION:The Yard at College Ave\, 40 College Ave\, New Brunswick\, NJ\, 08901\, United States
CATEGORIES:Music
ATTACH;FMTTYPE=image/png:https://nbjp.org/wp-content/uploads/2017/05/Summer-Performance-Tia-Fuller-1067x600_0520.png
END:VEVENT
BEGIN:VEVENT
DTSTART;TZID=America/New_York:20170622T200000
DTEND;TZID=America/New_York:20170622T230000
DTSTAMP:20260419T163055
CREATED:20170508T203508Z
LAST-MODIFIED:20170605T141108Z
UID:3653-1498161600-1498172400@nbjp.org
SUMMARY:Brandon Sanders Quartet
DESCRIPTION:Brandon Sanders Quartet \nEric Wheeler\, Jeb Patton\, Grant Stewart\,  & Brandon Sanders \nHyatt Regency – 2 Albany St. New Brunswick\, NJ\nNo cover charge.
URL:https://nbjp.org/event/brandon-sanders-quartet/
LOCATION:Hyatt Regency\, 2 Albany St.\, New Brunswick\, NJ\, 08901\, United States
CATEGORIES:Music
ATTACH;FMTTYPE=image/jpeg:https://nbjp.org/wp-content/uploads/2017/05/Brandon-sanders.jpg
END:VEVENT
BEGIN:VEVENT
DTSTART;TZID=America/New_York:20170623T183000
DTEND;TZID=America/New_York:20170623T213000
DTSTAMP:20260419T163055
CREATED:20170529T215949Z
LAST-MODIFIED:20170529T215949Z
UID:3721-1498242600-1498253400@nbjp.org
SUMMARY:Stephen Fuller Duo
DESCRIPTION:Stephen Fuller Duo \nDue Marie – 78 Albany St.  Brunswick\, NJ \nNo cover charge.
URL:https://nbjp.org/event/stephen-fuller-duo/
LOCATION:Due Mari\, 78 Albany St.\, New Brunswick\, NJ\, 08901\, United States
ATTACH;FMTTYPE=image/jpeg:https://nbjp.org/wp-content/uploads/2016/12/Stephen-Fuller.jpg
END:VEVENT
BEGIN:VEVENT
DTSTART;TZID=America/New_York:20170629T200000
DTEND;TZID=America/New_York:20170629T230000
DTSTAMP:20260419T163055
CREATED:20170503T202839Z
LAST-MODIFIED:20170621T173210Z
UID:3635-1498766400-1498777200@nbjp.org
SUMMARY:Myron Walden Quartet
DESCRIPTION:Myron Walden Quartet \nMyron Walden – sax \nAkiko Tsuruga – organ \nBob DeVos – guitar \nChris Smith – Drums \nHyatt Regency – 2 Albany St. New Brunswick\, NJ\nNo cover charge.
URL:https://nbjp.org/event/myron-walden-quartet-2/
LOCATION:Hyatt Regency\, 2 Albany St.\, New Brunswick\, NJ\, 08901\, United States
CATEGORIES:Music
ATTACH;FMTTYPE=image/jpeg:https://nbjp.org/wp-content/uploads/2017/05/Myron-Walden-12.jpg
END:VEVENT
END:VCALENDAR