BEGIN:VCALENDAR
VERSION:2.0
PRODID:-//New Brunswick Jazz Project - ECPv6.15.18//NONSGML v1.0//EN
CALSCALE:GREGORIAN
METHOD:PUBLISH
X-ORIGINAL-URL:https://nbjp.org
X-WR-CALDESC:Events for New Brunswick Jazz Project
REFRESH-INTERVAL;VALUE=DURATION:PT1H
X-Robots-Tag:noindex
X-PUBLISHED-TTL:PT1H
BEGIN:VTIMEZONE
TZID:America/New_York
BEGIN:DAYLIGHT
TZOFFSETFROM:-0500
TZOFFSETTO:-0400
TZNAME:EDT
DTSTART:20160313T070000
END:DAYLIGHT
BEGIN:STANDARD
TZOFFSETFROM:-0400
TZOFFSETTO:-0500
TZNAME:EST
DTSTART:20161106T060000
END:STANDARD
BEGIN:DAYLIGHT
TZOFFSETFROM:-0500
TZOFFSETTO:-0400
TZNAME:EDT
DTSTART:20170312T070000
END:DAYLIGHT
BEGIN:STANDARD
TZOFFSETFROM:-0400
TZOFFSETTO:-0500
TZNAME:EST
DTSTART:20171105T060000
END:STANDARD
BEGIN:DAYLIGHT
TZOFFSETFROM:-0500
TZOFFSETTO:-0400
TZNAME:EDT
DTSTART:20180311T070000
END:DAYLIGHT
BEGIN:STANDARD
TZOFFSETFROM:-0400
TZOFFSETTO:-0500
TZNAME:EST
DTSTART:20181104T060000
END:STANDARD
END:VTIMEZONE
BEGIN:VEVENT
DTSTART;TZID=America/New_York:20170706T200000
DTEND;TZID=America/New_York:20170706T230000
DTSTAMP:20260419T144826
CREATED:20170508T204528Z
LAST-MODIFIED:20170508T204528Z
UID:3660-1499371200-1499382000@nbjp.org
SUMMARY:Marianne Solivan Quartet
DESCRIPTION:Marianne Solivan Quartet \nHyatt Regency – 2 Albany St. New Brunswick\, NJ\nNo cover charge.
URL:https://nbjp.org/event/marianne-solivan-quartet/
LOCATION:Hyatt Regency\, 2 Albany St.\, New Brunswick\, NJ\, 08901\, United States
CATEGORIES:Music
ATTACH;FMTTYPE=image/jpeg:https://nbjp.org/wp-content/uploads/2016/12/MarianneSolivanSQ.jpg
END:VEVENT
BEGIN:VEVENT
DTSTART;TZID=America/New_York:20170713T200000
DTEND;TZID=America/New_York:20170713T230000
DTSTAMP:20260419T144826
CREATED:20170403T011439Z
LAST-MODIFIED:20170710T195055Z
UID:3460-1499976000-1499986800@nbjp.org
SUMMARY:Outer Bridge Ensemble
DESCRIPTION:Outer Bridge Ensemble \nMike Noordzy – bass\, Mark DeJong – sax\, David K. Freeman – drums\, Steve Hudson – keys \nHyatt Regency – 2 Albany St. New Brunswick\, NJ\nNo cover charge.
URL:https://nbjp.org/event/outer-bridge-ensemble/
LOCATION:Hyatt Regency\, 2 Albany St.\, New Brunswick\, NJ\, 08901\, United States
CATEGORIES:Music
ATTACH;FMTTYPE=image/jpeg:https://nbjp.org/wp-content/uploads/2017/04/obe.jpg
END:VEVENT
BEGIN:VEVENT
DTSTART;TZID=America/New_York:20170720T200000
DTEND;TZID=America/New_York:20170720T230000
DTSTAMP:20260419T144826
CREATED:20170629T163629Z
LAST-MODIFIED:20170629T164632Z
UID:3777-1500580800-1500591600@nbjp.org
SUMMARY:Hendrik Meurkens Quartet
DESCRIPTION:Hendrik Meurkens – harmonics\, vibes\nDavid Berkman – piano\nChris Berger – bass\n\n\n\n\n\n\n\n\n\n\n\n\nPete van Nostrand – drums\n\n\n\n\n\n\nHyatt Regency – 2 Albany St. New Brunswick\, NJ\nNo cover charge.
URL:https://nbjp.org/event/hendrik-meurkens-quartet/
LOCATION:Hyatt Regency\, 2 Albany St.\, New Brunswick\, NJ\, 08901\, United States
CATEGORIES:Music
ATTACH;FMTTYPE=image/jpeg:https://nbjp.org/wp-content/uploads/2017/06/HendrikMeurkens.jpg
END:VEVENT
END:VCALENDAR