BEGIN:VCALENDAR
VERSION:2.0
PRODID:-//New Brunswick Jazz Project - ECPv6.15.18//NONSGML v1.0//EN
CALSCALE:GREGORIAN
METHOD:PUBLISH
X-ORIGINAL-URL:https://nbjp.org
X-WR-CALDESC:Events for New Brunswick Jazz Project
REFRESH-INTERVAL;VALUE=DURATION:PT1H
X-Robots-Tag:noindex
X-PUBLISHED-TTL:PT1H
BEGIN:VTIMEZONE
TZID:America/New_York
BEGIN:DAYLIGHT
TZOFFSETFROM:-0500
TZOFFSETTO:-0400
TZNAME:EDT
DTSTART:20160313T070000
END:DAYLIGHT
BEGIN:STANDARD
TZOFFSETFROM:-0400
TZOFFSETTO:-0500
TZNAME:EST
DTSTART:20161106T060000
END:STANDARD
BEGIN:DAYLIGHT
TZOFFSETFROM:-0500
TZOFFSETTO:-0400
TZNAME:EDT
DTSTART:20170312T070000
END:DAYLIGHT
BEGIN:STANDARD
TZOFFSETFROM:-0400
TZOFFSETTO:-0500
TZNAME:EST
DTSTART:20171105T060000
END:STANDARD
BEGIN:DAYLIGHT
TZOFFSETFROM:-0500
TZOFFSETTO:-0400
TZNAME:EDT
DTSTART:20180311T070000
END:DAYLIGHT
BEGIN:STANDARD
TZOFFSETFROM:-0400
TZOFFSETTO:-0500
TZNAME:EST
DTSTART:20181104T060000
END:STANDARD
END:VTIMEZONE
BEGIN:VEVENT
DTSTART;TZID=America/New_York:20170810T200000
DTEND;TZID=America/New_York:20170810T230000
DTSTAMP:20260419T132321
CREATED:20170714T033746Z
LAST-MODIFIED:20170724T031808Z
UID:3917-1502395200-1502406000@nbjp.org
SUMMARY:Ken Fowser Quartet
DESCRIPTION:Hyatt Regency – 2 Albany St. New Brunswick\, NJ\nNo cover charge.
URL:https://nbjp.org/event/ken-fowser-quartet/
LOCATION:Hyatt Regency\, 2 Albany St.\, New Brunswick\, NJ\, 08901\, United States
CATEGORIES:Music
ATTACH;FMTTYPE=image/jpeg:https://nbjp.org/wp-content/uploads/2017/07/KenFowser400.jpg
END:VEVENT
BEGIN:VEVENT
DTSTART;TZID=America/New_York:20170816T200000
DTEND;TZID=America/New_York:20170816T230000
DTSTAMP:20260419T132321
CREATED:20170702T145024Z
LAST-MODIFIED:20170804T153045Z
UID:3864-1502913600-1502924400@nbjp.org
SUMMARY:Nat Adderley\, Jr. Trio
DESCRIPTION:  \nThis event has been cancelled and rescheduled for Oct 4\, 2017 at INC. \nNat Adderley\, Jr. – keyboard. \nINC American Bar & Kitchen\, 302 George St. New Brunswick\, NJ\nNo cover charge. Reservations
URL:https://nbjp.org/event/nat-adderley-jr-trio/
LOCATION:INC American Bar & Kitchen\, 302 George St. \, New Brunswick\, NJ\, 08901\, United States
CATEGORIES:Music
ATTACH;FMTTYPE=image/jpeg:https://nbjp.org/wp-content/uploads/2017/07/Nat-Adderly-Jr-cancelled..jpg
END:VEVENT
BEGIN:VEVENT
DTSTART;TZID=America/New_York:20170817T200000
DTEND;TZID=America/New_York:20170817T230000
DTSTAMP:20260419T132321
CREATED:20170702T145243Z
LAST-MODIFIED:20170811T195143Z
UID:3871-1503000000-1503010800@nbjp.org
SUMMARY:Lee Hogans Quartet
DESCRIPTION:Lee Hogans – trumpet. \nAdam Faulk-piano \nNimrod Speaks-Bass \nCorey Rawls-Drums \nHyatt Regency – 2 Albany St. New Brunswick\, NJ\nNo cover charge.
URL:https://nbjp.org/event/lee-hogans-quartet-2/
LOCATION:Hyatt Regency\, 2 Albany St.\, New Brunswick\, NJ\, 08901\, United States
CATEGORIES:Music
ATTACH;FMTTYPE=image/jpeg:https://nbjp.org/wp-content/uploads/2016/09/lee-hogans-trio.jpg
END:VEVENT
BEGIN:VEVENT
DTSTART;TZID=America/New_York:20170818T183000
DTEND;TZID=America/New_York:20170818T213000
DTSTAMP:20260419T132321
CREATED:20170702T145502Z
LAST-MODIFIED:20170724T011927Z
UID:3874-1503081000-1503091800@nbjp.org
SUMMARY:Emma Larsson Duo
DESCRIPTION:Emma Larsson – vocals. \nDue Mari\, 78 Albany St. New Brunswick\, NJ\nNo cover charge. Reservations
URL:https://nbjp.org/event/emma-larsson-duo-4/
LOCATION:Due Mari\, 78 Albany St.\, New Brunswick\, NJ\, 08901\, United States
CATEGORIES:Music
ATTACH;FMTTYPE=image/jpeg:https://nbjp.org/wp-content/uploads/2016/09/Emma-Larsson.jpg
END:VEVENT
BEGIN:VEVENT
DTSTART;TZID=America/New_York:20170823T200000
DTEND;TZID=America/New_York:20170823T230000
DTSTAMP:20260419T132321
CREATED:20170702T145718Z
LAST-MODIFIED:20170724T012632Z
UID:3879-1503518400-1503529200@nbjp.org
SUMMARY:Oscar Perez Trio
DESCRIPTION:Oscar Perez – keyboard. \nINC American Bar & Kitchen\, 302 George St. New Brunswick\, NJ\nNo cover charge. Reservations
URL:https://nbjp.org/event/oscar-perez-trio-3/
LOCATION:INC American Bar & Kitchen\, 302 George St. \, New Brunswick\, NJ\, 08901\, United States
CATEGORIES:Music
ATTACH;FMTTYPE=image/jpeg:https://nbjp.org/wp-content/uploads/2016/09/oscar-perez-trio.jpg
END:VEVENT
BEGIN:VEVENT
DTSTART;TZID=America/New_York:20170824T200000
DTEND;TZID=America/New_York:20170824T230000
DTSTAMP:20260419T132321
CREATED:20170702T145932Z
LAST-MODIFIED:20170724T012903Z
UID:3886-1503604800-1503615600@nbjp.org
SUMMARY:Najwa Parkins Quartet
DESCRIPTION:Najwa Parkins – vocals. \nHyatt Regency – 2 Albany St. New Brunswick\, NJ\nNo cover charge.
URL:https://nbjp.org/event/najwa-parkins-quartet/
LOCATION:Hyatt Regency\, 2 Albany St.\, New Brunswick\, NJ\, 08901\, United States
CATEGORIES:Music
ATTACH;FMTTYPE=image/jpeg:https://nbjp.org/wp-content/uploads/2017/03/najwaparkins700.jpg
END:VEVENT
BEGIN:VEVENT
DTSTART;TZID=America/New_York:20170825T183000
DTEND;TZID=America/New_York:20170825T213000
DTSTAMP:20260419T132321
CREATED:20170702T150702Z
LAST-MODIFIED:20170724T013210Z
UID:3899-1503685800-1503696600@nbjp.org
SUMMARY:Misha Josephs Duo
DESCRIPTION:Misha Josephs – guitar. \nDue Mari\, 78 Albany St. New Brunswick\, NJ\nNo cover charge. Reservations
URL:https://nbjp.org/event/misha-josephs-duo-3/
LOCATION:Due Mari\, 78 Albany St.\, New Brunswick\, NJ\, 08901\, United States
CATEGORIES:Music
ATTACH;FMTTYPE=image/jpeg:https://nbjp.org/wp-content/uploads/2012/02/misha-2.jpg
END:VEVENT
BEGIN:VEVENT
DTSTART;TZID=America/New_York:20170830T200000
DTEND;TZID=America/New_York:20170830T230000
DTSTAMP:20260419T132321
CREATED:20170702T150239Z
LAST-MODIFIED:20170724T013851Z
UID:3889-1504123200-1504134000@nbjp.org
SUMMARY:Leonieke Scheuble Trio
DESCRIPTION:Leonieke Scheuble – organ. \nINC American Bar & Kitchen\, 302 George St. New Brunswick\, NJ\nNo cover charge. Reservations
URL:https://nbjp.org/event/leonieke-scheuble-trio/
LOCATION:INC American Bar & Kitchen\, 302 George St. \, New Brunswick\, NJ\, 08901\, United States
CATEGORIES:Music
ATTACH;FMTTYPE=image/jpeg:https://nbjp.org/wp-content/uploads/2017/07/leonieke400-e1682263365961.jpg
END:VEVENT
BEGIN:VEVENT
DTSTART;TZID=America/New_York:20170831T200000
DTEND;TZID=America/New_York:20170831T230000
DTSTAMP:20260419T132321
CREATED:20170702T150417Z
LAST-MODIFIED:20170811T195407Z
UID:3896-1504209600-1504220400@nbjp.org
SUMMARY:Freddie Hendrix Quartet
DESCRIPTION:Freddie Hendrix Quartet \nFreddie Hendrix- Trumpet Jared Gold- organ David Gibson – Trombone Chris Beck- drums \nHyatt Regency – 2 Albany St. New Brunswick\, NJ\nNo cover charge.
URL:https://nbjp.org/event/freddie-hendrix-quartet/
LOCATION:Hyatt Regency\, 2 Albany St.\, New Brunswick\, NJ\, 08901\, United States
CATEGORIES:Music
ATTACH;FMTTYPE=image/jpeg:https://nbjp.org/wp-content/uploads/2017/07/FreddieHendrix400.jpg
END:VEVENT
END:VCALENDAR