BEGIN:VCALENDAR
VERSION:2.0
PRODID:-//New Brunswick Jazz Project - ECPv6.15.18//NONSGML v1.0//EN
CALSCALE:GREGORIAN
METHOD:PUBLISH
X-WR-CALNAME:New Brunswick Jazz Project
X-ORIGINAL-URL:https://nbjp.org
X-WR-CALDESC:Events for New Brunswick Jazz Project
REFRESH-INTERVAL;VALUE=DURATION:PT1H
X-Robots-Tag:noindex
X-PUBLISHED-TTL:PT1H
BEGIN:VTIMEZONE
TZID:America/New_York
BEGIN:DAYLIGHT
TZOFFSETFROM:-0500
TZOFFSETTO:-0400
TZNAME:EDT
DTSTART:20160313T070000
END:DAYLIGHT
BEGIN:STANDARD
TZOFFSETFROM:-0400
TZOFFSETTO:-0500
TZNAME:EST
DTSTART:20161106T060000
END:STANDARD
BEGIN:DAYLIGHT
TZOFFSETFROM:-0500
TZOFFSETTO:-0400
TZNAME:EDT
DTSTART:20170312T070000
END:DAYLIGHT
BEGIN:STANDARD
TZOFFSETFROM:-0400
TZOFFSETTO:-0500
TZNAME:EST
DTSTART:20171105T060000
END:STANDARD
BEGIN:DAYLIGHT
TZOFFSETFROM:-0500
TZOFFSETTO:-0400
TZNAME:EDT
DTSTART:20180311T070000
END:DAYLIGHT
BEGIN:STANDARD
TZOFFSETFROM:-0400
TZOFFSETTO:-0500
TZNAME:EST
DTSTART:20181104T060000
END:STANDARD
END:VTIMEZONE
BEGIN:VEVENT
DTSTART;TZID=America/New_York:20170906T200000
DTEND;TZID=America/New_York:20170906T230000
DTSTAMP:20260419T115228
CREATED:20170724T022130Z
LAST-MODIFIED:20170724T022130Z
UID:3942-1504728000-1504738800@nbjp.org
SUMMARY:Carrie Jackson Trio
DESCRIPTION:Carrie Jackson – vocals. \nINC American Bar & Kitchen\, 302 George St. New Brunswick\, NJ\nNo cover charge. Reservations
URL:https://nbjp.org/event/carrie-jackson-trio/
LOCATION:INC American Bar & Kitchen\, 302 George St. \, New Brunswick\, NJ\, 08901\, United States
CATEGORIES:Music
ATTACH;FMTTYPE=image/jpeg:https://nbjp.org/wp-content/uploads/2017/07/carriejackson400.jpg
END:VEVENT
BEGIN:VEVENT
DTSTART;TZID=America/New_York:20170907T200000
DTEND;TZID=America/New_York:20170907T230000
DTSTAMP:20260419T115228
CREATED:20170724T023108Z
LAST-MODIFIED:20170724T023108Z
UID:3951-1504814400-1504825200@nbjp.org
SUMMARY:Dave Shumacher Quartet
DESCRIPTION:Dave Shumacher – baritone sax.\nCharlie Sigler – guitar\, Jamale Davis – bass\, J. Taylor Leach – drums. \nHyatt Regency – 2 Albany St. New Brunswick\, NJ\nNo cover charge.
URL:https://nbjp.org/event/dave-shumacher-quartet/
LOCATION:Hyatt Regency\, 2 Albany St.\, New Brunswick\, NJ\, 08901\, United States
CATEGORIES:Music
ATTACH;FMTTYPE=image/jpeg:https://nbjp.org/wp-content/uploads/2017/07/DaveShumacher400.jpg
END:VEVENT
BEGIN:VEVENT
DTSTART;TZID=America/New_York:20170913T200000
DTEND;TZID=America/New_York:20170913T230000
DTSTAMP:20260419T115228
CREATED:20170806T190701Z
LAST-MODIFIED:20170806T193701Z
UID:4052-1505332800-1505343600@nbjp.org
SUMMARY:Wayne Escoffery Trio
DESCRIPTION:INC American Bar & Kitchen\, 302 George St. New Brunswick\, NJ\nNo cover charge. Reservations
URL:https://nbjp.org/event/wayne-escoffery-trio/
LOCATION:INC American Bar & Kitchen\, 302 George St. \, New Brunswick\, NJ\, 08901\, United States
CATEGORIES:Music
ATTACH;FMTTYPE=image/jpeg:https://nbjp.org/wp-content/uploads/2017/08/WayneEscoffery400.jpg
END:VEVENT
BEGIN:VEVENT
DTSTART;TZID=America/New_York:20170914T200000
DTEND;TZID=America/New_York:20170914T230000
DTSTAMP:20260419T115228
CREATED:20170806T190841Z
LAST-MODIFIED:20170806T190841Z
UID:4060-1505419200-1505430000@nbjp.org
SUMMARY:Hendrik Meurkens Quartet
DESCRIPTION:Hendrik Meurkens – harmonics\, vibes\nDavid Berkman – piano\nChris Berger – bass\n\n\n\n\n\n\n\n\n\n\n\n\nPete van Nostrand – drums\n\n\n\n\n\n\nHyatt Regency – 2 Albany St. New Brunswick\, NJ\nNo cover charge.
URL:https://nbjp.org/event/hendrik-meurkens-quartet-2/
LOCATION:Hyatt Regency\, 2 Albany St.\, New Brunswick\, NJ\, 08901\, United States
CATEGORIES:Music
ATTACH;FMTTYPE=image/jpeg:https://nbjp.org/wp-content/uploads/2017/06/HendrikMeurkens.jpg
END:VEVENT
BEGIN:VEVENT
DTSTART;TZID=America/New_York:20170915T180000
DTEND;TZID=America/New_York:20170917T180000
DTSTAMP:20260419T115228
CREATED:20170503T194735Z
LAST-MODIFIED:20170630T161741Z
UID:3616-1505498400-1505671200@nbjp.org
SUMMARY:Central Jersey Jazz Festival
DESCRIPTION:Central Jersey Jazz Festival\nFLEMINGTON – FRIDAY\, SEPTEMBER 15\, 2017\n6-10PM Rain or Shine. Historic Court House\,\nMain Street\, Downtown Flemington\, NJ \n6:00 – 7:00 Willie Martinez\n7:00 – 7:25 “Jazz House Kids”\n7:30 – 8:30 Lezlie Harrison\n8:30 – 8:55 “Jazz House Kids”\n9:00 – 10:00 Jeff “Tain” Watts \nNEW BRUNSWICK – SATURDAY\, SEPTEMBER 16\, 2017\n1-6PM Rain or shine.\nOn George St. between Liberty St. & Paterson St. (on NJ Transit’s Northeast Corridor line) \n1:00 – 2:15 Cocomama\n2:15 – 2:45 New Brunswick Brass Band\n2:45 – 4:00 Lucien Barbarin’s  NOLA Sextet “Hit It Hard & Wish It Well”\n4:00 – 4:30 New Brunswick Brass Band\n4:30 – 6:00 Jimmy Cobb Trio plus Matt Chertkoff \nSOMERVILLE – SUNDAY\, SEPTEMBER 17\, 2017\n1-6PM Rain or shine. Somerset County Court House Green. Corner of E. Main & Grove Streets\, Downtown Somerville\, NJ (on NJ Transit’s Raritan Valley line) \n1:00 – 1:25 “Jazz House Kids”\n1:30 – 2:40 Marion Cowings\n2:40 – 3:00 “Jazz House Kids”\n3:05 – 4:15 Claire Daly\n4:15 – 4:40 “Jazz House Kids”\n4:45 – 6:00 Davell Crawford \nFREE EVENT
URL:https://nbjp.org/event/central-jersey-jazz-festival-2/
LOCATION:NJ
CATEGORIES:Music
ATTACH;FMTTYPE=image/jpeg:https://nbjp.org/wp-content/uploads/2017/05/CJJF-2017-Duke-image-rectangle.jpg
END:VEVENT
BEGIN:VEVENT
DTSTART;TZID=America/New_York:20170920T200000
DTEND;TZID=America/New_York:20170920T230000
DTSTAMP:20260419T115228
CREATED:20170806T191206Z
LAST-MODIFIED:20170806T194600Z
UID:4070-1505937600-1505948400@nbjp.org
SUMMARY:Vince Ector Trio
DESCRIPTION:Vince Ector Trio. \nINC American Bar & Kitchen\, 302 George St. New Brunswick\, NJ\nNo cover charge. Reservations
URL:https://nbjp.org/event/vince-ector-trio/
LOCATION:INC American Bar & Kitchen\, 302 George St. \, New Brunswick\, NJ\, 08901\, United States
CATEGORIES:Music
ATTACH;FMTTYPE=image/jpeg:https://nbjp.org/wp-content/uploads/2017/08/vincentector-organatomy.jpg
END:VEVENT
BEGIN:VEVENT
DTSTART;TZID=America/New_York:20170921T200000
DTEND;TZID=America/New_York:20170921T230000
DTSTAMP:20260419T115228
CREATED:20170806T191531Z
LAST-MODIFIED:20170806T222420Z
UID:4075-1506024000-1506034800@nbjp.org
SUMMARY:Shirazette and Sonic Wallpaper
DESCRIPTION:Shirazette Tinnin \nHyatt Regency – 2 Albany St. New Brunswick\, NJ\nNo cover charge.
URL:https://nbjp.org/event/shirazette-and-sonic-wallpaper/
LOCATION:Hyatt Regency\, 2 Albany St.\, New Brunswick\, NJ\, 08901\, United States
CATEGORIES:Music
ATTACH;FMTTYPE=image/jpeg:https://nbjp.org/wp-content/uploads/2016/12/Shirazette-3.jpg
END:VEVENT
BEGIN:VEVENT
DTSTART;TZID=America/New_York:20170926T200000
DTEND;TZID=America/New_York:20170926T230000
DTSTAMP:20260419T115228
CREATED:20170907T042212Z
LAST-MODIFIED:20170907T042212Z
UID:4131-1506456000-1506466800@nbjp.org
SUMMARY:Emerging Artists & Open Session – Jonathan Kirschner Band
DESCRIPTION:Emerging Artists Night. \nJazzy Jon and the Hard Bop Hitters.\nGuitarist Jonathan Kirschner and his band. \nOpen Jam Session at 9.30! \nGarden State Ale House – 378 George St. New Brunswick\, NJ
URL:https://nbjp.org/event/emerging-artists-open-session-jonathan-kirschner-band-2/
LOCATION:Garden State Ale House\, 378 George St.\, New Brunswick\, NJ\, 08901\, United States
CATEGORIES:Music
ATTACH;FMTTYPE=image/jpeg:https://nbjp.org/wp-content/uploads/2016/11/JonathanKirschner.jpg
END:VEVENT
BEGIN:VEVENT
DTSTART;TZID=America/New_York:20170927T200000
DTEND;TZID=America/New_York:20170927T230000
DTSTAMP:20260419T115228
CREATED:20170806T191708Z
LAST-MODIFIED:20170806T191708Z
UID:4079-1506542400-1506553200@nbjp.org
SUMMARY:Mariel Bildsten Trio
DESCRIPTION:Mariel Bildsten Trio \n  \nINC American Bar & Kitchen\, 302 George St. New Brunswick\, NJ \nNo cover charge. Reservations
URL:https://nbjp.org/event/mariel-bildsten-trio-2/
LOCATION:NJ
CATEGORIES:Music
ATTACH;FMTTYPE=image/jpeg:https://nbjp.org/wp-content/uploads/2016/10/mariel.jpg
END:VEVENT
BEGIN:VEVENT
DTSTART;TZID=America/New_York:20170928T200000
DTEND;TZID=America/New_York:20170928T230000
DTSTAMP:20260419T115228
CREATED:20170806T191956Z
LAST-MODIFIED:20170921T031903Z
UID:4084-1506628800-1506639600@nbjp.org
SUMMARY:Jared Gold Quartet
DESCRIPTION:  \nJared Gold Quartet \nJared Gold Quartet featuring Steve Nelson – vibes\, Paul Bollenback – guitar and McClenty Hunter drums \nHyatt Regency – 2 Albany St. New Brunswick\, NJ\nNo cover charge.
URL:https://nbjp.org/event/dave-stryker-quartet/
LOCATION:Hyatt Regency\, 2 Albany St.\, New Brunswick\, NJ\, 08901\, United States
CATEGORIES:Music
ATTACH;FMTTYPE=image/jpeg:https://nbjp.org/wp-content/uploads/2017/08/JaredGold400.jpg
END:VEVENT
BEGIN:VEVENT
DTSTART;TZID=America/New_York:20170929T183000
DTEND;TZID=America/New_York:20170929T213000
DTSTAMP:20260419T115228
CREATED:20170907T042348Z
LAST-MODIFIED:20170907T042348Z
UID:4141-1506709800-1506720600@nbjp.org
SUMMARY:Stephen Fuller Duo
DESCRIPTION:Stephen Fuller Duo \nDue Marie – 78 Albany St.  Brunswick\, NJ \nNo cover charge.
URL:https://nbjp.org/event/stephen-fuller-duo-2/
LOCATION:Due Mari\, 78 Albany St.\, New Brunswick\, NJ\, 08901\, United States
ATTACH;FMTTYPE=image/jpeg:https://nbjp.org/wp-content/uploads/2016/12/Stephen-Fuller.jpg
END:VEVENT
END:VCALENDAR