BEGIN:VCALENDAR
VERSION:2.0
PRODID:-//New Brunswick Jazz Project - ECPv6.15.18//NONSGML v1.0//EN
CALSCALE:GREGORIAN
METHOD:PUBLISH
X-WR-CALNAME:New Brunswick Jazz Project
X-ORIGINAL-URL:https://nbjp.org
X-WR-CALDESC:Events for New Brunswick Jazz Project
REFRESH-INTERVAL;VALUE=DURATION:PT1H
X-Robots-Tag:noindex
X-PUBLISHED-TTL:PT1H
BEGIN:VTIMEZONE
TZID:America/New_York
BEGIN:DAYLIGHT
TZOFFSETFROM:-0500
TZOFFSETTO:-0400
TZNAME:EDT
DTSTART:20160313T070000
END:DAYLIGHT
BEGIN:STANDARD
TZOFFSETFROM:-0400
TZOFFSETTO:-0500
TZNAME:EST
DTSTART:20161106T060000
END:STANDARD
BEGIN:DAYLIGHT
TZOFFSETFROM:-0500
TZOFFSETTO:-0400
TZNAME:EDT
DTSTART:20170312T070000
END:DAYLIGHT
BEGIN:STANDARD
TZOFFSETFROM:-0400
TZOFFSETTO:-0500
TZNAME:EST
DTSTART:20171105T060000
END:STANDARD
BEGIN:DAYLIGHT
TZOFFSETFROM:-0500
TZOFFSETTO:-0400
TZNAME:EDT
DTSTART:20180311T070000
END:DAYLIGHT
BEGIN:STANDARD
TZOFFSETFROM:-0400
TZOFFSETTO:-0500
TZNAME:EST
DTSTART:20181104T060000
END:STANDARD
END:VTIMEZONE
BEGIN:VEVENT
DTSTART;TZID=America/New_York:20171003T200000
DTEND;TZID=America/New_York:20171003T230000
DTSTAMP:20260419T101640
CREATED:20170907T042603Z
LAST-MODIFIED:20170907T042603Z
UID:4146-1507060800-1507071600@nbjp.org
SUMMARY:Emerging Artists & Open Session – Kyle Duppstadt Band
DESCRIPTION:Emerging Artists Night.\nKyle Duppstadt drums\, \nOpen Jam Session at 9.30!\nGarden State Ale House – 378 George St. New Brunswick\, NJ
URL:https://nbjp.org/event/emerging-artists-open-session-kyle-duppstadt-band-2/
LOCATION:Garden State Ale House\, 378 George St.\, New Brunswick\, NJ\, 08901\, United States
CATEGORIES:Music
ATTACH;FMTTYPE=image/jpeg:https://nbjp.org/wp-content/uploads/2016/10/KyleDuppstadt.jpg
END:VEVENT
BEGIN:VEVENT
DTSTART;TZID=America/New_York:20171004T200000
DTEND;TZID=America/New_York:20171004T230000
DTSTAMP:20260419T101640
CREATED:20170806T184859Z
LAST-MODIFIED:20170929T140530Z
UID:4026-1507147200-1507158000@nbjp.org
SUMMARY:Nat Adderley\, Jr. Trio
DESCRIPTION:Nat Adderley\, Jr. Trio \n\nNat Adderley\, Jr. – keyboard.\n\n\nRocky Bryant – drums\n\n\nKenny Davis – bass\n\nINC American Bar & Kitchen\, 302 George St. New Brunswick\, NJ\nNo cover charge. Reservations
URL:https://nbjp.org/event/nat-adderley-jr-trio-2/
LOCATION:INC American Bar & Kitchen\, 302 George St. \, New Brunswick\, NJ\, 08901\, United States
CATEGORIES:Music
ATTACH;FMTTYPE=image/jpeg:https://nbjp.org/wp-content/uploads/2016/12/Nat-Adderly-Jr..jpg
END:VEVENT
BEGIN:VEVENT
DTSTART;TZID=America/New_York:20171019T200000
DTEND;TZID=America/New_York:20171019T230000
DTSTAMP:20260419T101640
CREATED:20170806T192513Z
LAST-MODIFIED:20170806T195325Z
UID:4095-1508443200-1508454000@nbjp.org
SUMMARY:Yvette Norwood-Tiger Quintet
DESCRIPTION:Yvette Norwood- Tiger Quintet \nHyatt Regency – 2 Albany St. New Brunswick\, NJ\nNo cover charge.
URL:https://nbjp.org/event/yvette-norwood-tiger-quintet/
LOCATION:Hyatt Regency\, 2 Albany St.\, New Brunswick\, NJ\, 08901\, United States
CATEGORIES:Music
ATTACH;FMTTYPE=image/jpeg:https://nbjp.org/wp-content/uploads/2017/08/YvetteNorwood-tiger400.jpg
END:VEVENT
BEGIN:VEVENT
DTSTART;TZID=America/New_York:20171026T200000
DTEND;TZID=America/New_York:20171026T230000
DTSTAMP:20260419T101640
CREATED:20170806T192958Z
LAST-MODIFIED:20170806T192958Z
UID:4099-1509048000-1509058800@nbjp.org
SUMMARY:Bruce Williams Quartet
DESCRIPTION:Bruce Williams – alto sax \nHyatt Regency – 2 Albany St. New Brunswick\, NJ\nNo cover charge.
URL:https://nbjp.org/event/bruce-williams-quartet/
LOCATION:Hyatt Regency\, 2 Albany St.\, New Brunswick\, NJ\, 08901\, United States
CATEGORIES:Music
ATTACH;FMTTYPE=image/jpeg:https://nbjp.org/wp-content/uploads/2016/12/Bruce-Williams-2.jpg
END:VEVENT
BEGIN:VEVENT
DTSTART;TZID=America/New_York:20171031T200000
DTEND;TZID=America/New_York:20171031T230000
DTSTAMP:20260419T101640
CREATED:20171004T041332Z
LAST-MODIFIED:20171030T025225Z
UID:4231-1509480000-1509490800@nbjp.org
SUMMARY:Mike Noordzy Band & Open Jam
DESCRIPTION:Halloween Night. \nfeaturing Chris Welcome – guitar and Mike Winnicki – drums. \nOpen Jam Session at 9.30! \nGarden State Ale House – 378 George St. New Brunswick\, NJ
URL:https://nbjp.org/event/mike-noordzy-band-open-jam/
LOCATION:Garden State Ale House\, 378 George St.\, New Brunswick\, NJ\, 08901\, United States
CATEGORIES:Music
ATTACH;FMTTYPE=image/jpeg:https://nbjp.org/wp-content/uploads/2017/10/Mike-Noordzy.jpg
END:VEVENT
END:VCALENDAR