BEGIN:VCALENDAR
VERSION:2.0
PRODID:-//New Brunswick Jazz Project - ECPv6.15.18//NONSGML v1.0//EN
CALSCALE:GREGORIAN
METHOD:PUBLISH
X-WR-CALNAME:New Brunswick Jazz Project
X-ORIGINAL-URL:https://nbjp.org
X-WR-CALDESC:Events for New Brunswick Jazz Project
REFRESH-INTERVAL;VALUE=DURATION:PT1H
X-Robots-Tag:noindex
X-PUBLISHED-TTL:PT1H
BEGIN:VTIMEZONE
TZID:America/New_York
BEGIN:DAYLIGHT
TZOFFSETFROM:-0500
TZOFFSETTO:-0400
TZNAME:EDT
DTSTART:20160313T070000
END:DAYLIGHT
BEGIN:STANDARD
TZOFFSETFROM:-0400
TZOFFSETTO:-0500
TZNAME:EST
DTSTART:20161106T060000
END:STANDARD
BEGIN:DAYLIGHT
TZOFFSETFROM:-0500
TZOFFSETTO:-0400
TZNAME:EDT
DTSTART:20170312T070000
END:DAYLIGHT
BEGIN:STANDARD
TZOFFSETFROM:-0400
TZOFFSETTO:-0500
TZNAME:EST
DTSTART:20171105T060000
END:STANDARD
BEGIN:DAYLIGHT
TZOFFSETFROM:-0500
TZOFFSETTO:-0400
TZNAME:EDT
DTSTART:20180311T070000
END:DAYLIGHT
BEGIN:STANDARD
TZOFFSETFROM:-0400
TZOFFSETTO:-0500
TZNAME:EST
DTSTART:20181104T060000
END:STANDARD
END:VTIMEZONE
BEGIN:VEVENT
DTSTART;TZID=America/New_York:20170228T160000
DTEND;TZID=America/New_York:20170301T020000
DTSTAMP:20260424T092454
CREATED:20170214T201002Z
LAST-MODIFIED:20170214T201002Z
UID:3264-1488297600-1488333600@nbjp.org
SUMMARY:The New Brunswick Jazz Project
DESCRIPTION:  \nThe New Brunswick Jazz Project  \nGreg DeAngelis-Bone\, Justin Jones- clarinet\, Anthony Fazio- trumpet\, Kyle Duppstadt- drums\, Matt Echols- sousaphone \nJoin Old Bay once again for their Annual Mardi Gras Celebration!\nLive music by The New Brunswick Jazz Project and The ON7 Band.\nNew Orleans Style Buffet\nMasks\, Beads\, Giveaways\, and more!!!\nThe Party starts at 4pm until 2am\nOnly $15 Cover \n  \nOld Bay Restaurant\n61 Church St New Brunswick\, New Jersey 08901 \n 
URL:https://nbjp.org/event/the-new-brunswick-jazz-project/
LOCATION:The Old Bay Restaurant\, 61 Church Street\, New Brunswick\, NJ\, 08901\, United States
CATEGORIES:Music
ATTACH;FMTTYPE=image/jpeg:https://nbjp.org/wp-content/uploads/2017/02/mardi-gras-ob.jpg
END:VEVENT
END:VCALENDAR