BEGIN:VCALENDAR
VERSION:2.0
PRODID:-//New Brunswick Jazz Project - ECPv6.15.18//NONSGML v1.0//EN
CALSCALE:GREGORIAN
METHOD:PUBLISH
X-WR-CALNAME:New Brunswick Jazz Project
X-ORIGINAL-URL:https://nbjp.org
X-WR-CALDESC:Events for New Brunswick Jazz Project
REFRESH-INTERVAL;VALUE=DURATION:PT1H
X-Robots-Tag:noindex
X-PUBLISHED-TTL:PT1H
BEGIN:VTIMEZONE
TZID:America/New_York
BEGIN:DAYLIGHT
TZOFFSETFROM:-0500
TZOFFSETTO:-0400
TZNAME:EDT
DTSTART:20180311T070000
END:DAYLIGHT
BEGIN:STANDARD
TZOFFSETFROM:-0400
TZOFFSETTO:-0500
TZNAME:EST
DTSTART:20181104T060000
END:STANDARD
BEGIN:DAYLIGHT
TZOFFSETFROM:-0500
TZOFFSETTO:-0400
TZNAME:EDT
DTSTART:20190310T070000
END:DAYLIGHT
BEGIN:STANDARD
TZOFFSETFROM:-0400
TZOFFSETTO:-0500
TZNAME:EST
DTSTART:20191103T060000
END:STANDARD
BEGIN:DAYLIGHT
TZOFFSETFROM:-0500
TZOFFSETTO:-0400
TZNAME:EDT
DTSTART:20200308T070000
END:DAYLIGHT
BEGIN:STANDARD
TZOFFSETFROM:-0400
TZOFFSETTO:-0500
TZNAME:EST
DTSTART:20201101T060000
END:STANDARD
END:VTIMEZONE
BEGIN:VEVENT
DTSTART;TZID=America/New_York:20190913T180000
DTEND;TZID=America/New_York:20190913T220000
DTSTAMP:20260422T130457
CREATED:20190726T202906Z
LAST-MODIFIED:20190726T204318Z
UID:7799-1568397600-1568412000@nbjp.org
SUMMARY:Central Jersey Jazz Festival
DESCRIPTION:Central Jersey Jazz Festival\nFriday’s All-Star Lineup in Flemington:\nWinard Harper\n9:00pm to 10:00pm \nJeanne Gies\n7:30pm to 8:30pm \nWillerm Delisfort\n6:00pm to 7:00pm \nAdditional Performances by: NJPAC Jazz for Teens\nLearn more about each artist > \nFestival produced and hosted by Flemington Community Partnership and Sheila E. Anderson\, author and on-air personality of WBGO Jazz 88.3 FM. (www.wbgo.org) \nLocation;Stangl Road\n(Historic Stangl Road in Flemington’s Artisans District) Flemington\, NJ
URL:https://nbjp.org/event/central-jersey-jazz-festival-4/
LOCATION:Stangl Road  (Historic Stangl Road in Flemington’s Artisans District) Flemington\, NJ\, Stangl Rd\, Flemington\, NJ\, United States
CATEGORIES:Music
ATTACH;FMTTYPE=image/jpeg:https://nbjp.org/wp-content/uploads/2019/07/2019-social-square.jpg
END:VEVENT
BEGIN:VEVENT
DTSTART;TZID=America/New_York:20190914T130000
DTEND;TZID=America/New_York:20190914T180000
DTSTAMP:20260422T130457
CREATED:20190726T203557Z
LAST-MODIFIED:20190726T204203Z
UID:7808-1568466000-1568484000@nbjp.org
SUMMARY:Central Jersey Jazz Festival
DESCRIPTION:Central Jersey Jazz Festival\nSaturday’s All-Star Lineup in New Brunswick:\nDizzy Gillespie Afro Latin Experience\n4:30pm to 6:00pm \nThe DIVA Jazz Quintet – FIVE PLAY\n2:45pm to 4:00pm \nJerome Jennings\n1:00pm to 2:15pm \nAdditional Performances by: New Brunswick Jazz Brass\nLearn more about each artist > \nFestival produced & hosted by The New Brunswick Jazz Project – NBJP.ORG \nLocation; \nNEW BRUNSWICK – SATURDAY\, SEPTEMBER 14\, 2019\n1-6PM Rain or shine.\nOn George St. (between Liberty St & Bayard St) New Brunswick\, NJ 08901\n(on NJ Transit’s Northeast Corridor line) \n 
URL:https://nbjp.org/event/central-jersey-jazz-festival-5/
LOCATION:George St. (between Liberty St & Bayard St) New Brunswick\, NJ 08901\, New Brunswick\, NJ\, 08901\, United States
CATEGORIES:Music
ATTACH;FMTTYPE=image/jpeg:https://nbjp.org/wp-content/uploads/2019/07/2019-social-square.jpg
END:VEVENT
BEGIN:VEVENT
DTSTART;TZID=America/New_York:20190915T130000
DTEND;TZID=America/New_York:20190915T180000
DTSTAMP:20260422T130457
CREATED:20190726T204126Z
LAST-MODIFIED:20190726T204126Z
UID:7817-1568552400-1568570400@nbjp.org
SUMMARY:Central Jersey Jazz Festival
DESCRIPTION:Central Jersey Jazz Festival\nSunday’s All-Star Lineup in Somerville:\nNat Adderley\, Jr\n4:45pm to 6:00pm \nBrianna Thomas\n3:05pm to 4:15pm \nJavon Jackson\n1:30pm to 2:40pm \nAdditional Performances by: NJPAC Jazz for Teens\nLearn more about each artist > \nFestival produced and hosted by Downtown Somerville Alliance\, Arts On Division and Sheila E. Anderson\, author and on-air personality of WBGO Jazz 88.3 FM. \n\nLocation;\n\nSOMERVILLE – SUNDAY\, SEPTEMBER 15\, 2019\n1-6PM Rain or shine.\nSomerset County Historic Courthouse Green.\nCorner of E. Main & Grove Streets\, Downtown Somerville\, NJ\n(on NJ Transit’s Raritan Valley line)
URL:https://nbjp.org/event/central-jersey-jazz-festival-6/
LOCATION:Somerset County Historic Courthouse Green\, Corner of E. Main & Grove Streets\, Downtown\, Somerville\, NJ\, 08876\, United States
CATEGORIES:Music
ATTACH;FMTTYPE=image/jpeg:https://nbjp.org/wp-content/uploads/2019/07/2019-social-square.jpg
END:VEVENT
END:VCALENDAR