BEGIN:VCALENDAR
VERSION:2.0
PRODID:-//New Brunswick Jazz Project - ECPv6.15.18//NONSGML v1.0//EN
CALSCALE:GREGORIAN
METHOD:PUBLISH
X-WR-CALNAME:New Brunswick Jazz Project
X-ORIGINAL-URL:https://nbjp.org
X-WR-CALDESC:Events for New Brunswick Jazz Project
REFRESH-INTERVAL;VALUE=DURATION:PT1H
X-Robots-Tag:noindex
X-PUBLISHED-TTL:PT1H
BEGIN:VTIMEZONE
TZID:America/New_York
BEGIN:DAYLIGHT
TZOFFSETFROM:-0500
TZOFFSETTO:-0400
TZNAME:EDT
DTSTART:20190310T070000
END:DAYLIGHT
BEGIN:STANDARD
TZOFFSETFROM:-0400
TZOFFSETTO:-0500
TZNAME:EST
DTSTART:20191103T060000
END:STANDARD
BEGIN:DAYLIGHT
TZOFFSETFROM:-0500
TZOFFSETTO:-0400
TZNAME:EDT
DTSTART:20200308T070000
END:DAYLIGHT
BEGIN:STANDARD
TZOFFSETFROM:-0400
TZOFFSETTO:-0500
TZNAME:EST
DTSTART:20201101T060000
END:STANDARD
BEGIN:DAYLIGHT
TZOFFSETFROM:-0500
TZOFFSETTO:-0400
TZNAME:EDT
DTSTART:20210314T070000
END:DAYLIGHT
BEGIN:STANDARD
TZOFFSETFROM:-0400
TZOFFSETTO:-0500
TZNAME:EST
DTSTART:20211107T060000
END:STANDARD
END:VTIMEZONE
BEGIN:VEVENT
DTSTART;TZID=America/New_York:20201115T130000
DTEND;TZID=America/New_York:20201115T160000
DTSTAMP:20260421T143625
CREATED:20201012T232419Z
LAST-MODIFIED:20201114T174915Z
UID:9888-1605445200-1605456000@nbjp.org
SUMMARY:Swingadelic "A Salute to Veterans"
DESCRIPTION:Swingadelic “A Salute to Veterans”\nAll veterans in attendance will receive a free meal.\nOutside Tavern on George \n1-4 pm\n361 George St. New Brunswick\, NJ\nNo cover charge  – under a heated tent in a safe  and socially distant environment \nTables will be socially distanced and face coverings are required. \nGrant Funding has been provided by Middlesex County Board of Chosen Freeholders and the New Jersey State Council on the Arts\, a division of Department of State. \n 
URL:https://nbjp.org/event/swingadelic-a-salute-to-veterans/
LOCATION:Tavern on George\, 361 George St\, New Brunswick\, NJ\, 08901\, United States
CATEGORIES:Music
ATTACH;FMTTYPE=image/png:https://nbjp.org/wp-content/uploads/2020/10/IMG_3157.png
END:VEVENT
END:VCALENDAR