BEGIN:VCALENDAR
VERSION:2.0
PRODID:-//New Brunswick Jazz Project - ECPv6.15.18//NONSGML v1.0//EN
CALSCALE:GREGORIAN
METHOD:PUBLISH
X-WR-CALNAME:New Brunswick Jazz Project
X-ORIGINAL-URL:https://nbjp.org
X-WR-CALDESC:Events for New Brunswick Jazz Project
REFRESH-INTERVAL;VALUE=DURATION:PT1H
X-Robots-Tag:noindex
X-PUBLISHED-TTL:PT1H
BEGIN:VTIMEZONE
TZID:America/New_York
BEGIN:DAYLIGHT
TZOFFSETFROM:-0500
TZOFFSETTO:-0400
TZNAME:EDT
DTSTART:20150308T070000
END:DAYLIGHT
BEGIN:STANDARD
TZOFFSETFROM:-0400
TZOFFSETTO:-0500
TZNAME:EST
DTSTART:20151101T060000
END:STANDARD
BEGIN:DAYLIGHT
TZOFFSETFROM:-0500
TZOFFSETTO:-0400
TZNAME:EDT
DTSTART:20160313T070000
END:DAYLIGHT
BEGIN:STANDARD
TZOFFSETFROM:-0400
TZOFFSETTO:-0500
TZNAME:EST
DTSTART:20161106T060000
END:STANDARD
BEGIN:DAYLIGHT
TZOFFSETFROM:-0500
TZOFFSETTO:-0400
TZNAME:EDT
DTSTART:20170312T070000
END:DAYLIGHT
BEGIN:STANDARD
TZOFFSETFROM:-0400
TZOFFSETTO:-0500
TZNAME:EST
DTSTART:20171105T060000
END:STANDARD
END:VTIMEZONE
BEGIN:VEVENT
DTSTART;TZID=America/New_York:20160908T200000
DTEND;TZID=America/New_York:20160908T230000
DTSTAMP:20260422T062708
CREATED:20160825T194057Z
LAST-MODIFIED:20160907T035358Z
UID:1567-1473364800-1473375600@nbjp.org
SUMMARY:Mike Bond Quartet
DESCRIPTION:Pianist Mike Bond featuring Josh Evans – trumpet Adrian Mooring – bass and Byron Landham – drums. \nHyatt Regency  – 2 Albany St. New Brunswick\, NJ\nNo cover charge.
URL:https://nbjp.org/event/mike-bond-quartet/
LOCATION:Hyatt Regency\, 2 Albany St.\, New Brunswick\, NJ\, 08901\, United States
CATEGORIES:Music
ATTACH;FMTTYPE=image/jpeg:https://nbjp.org/wp-content/uploads/2016/08/facebook_event_282407692113815.jpg
END:VEVENT
BEGIN:VEVENT
DTSTART;TZID=America/New_York:20160915T200000
DTEND;TZID=America/New_York:20160915T230000
DTSTAMP:20260422T062708
CREATED:20160825T195053Z
LAST-MODIFIED:20160907T033823Z
UID:1572-1473969600-1473980400@nbjp.org
SUMMARY:Jerry Weldon Quartet
DESCRIPTION:Saxophonist Jerry Weldon and his quartet. \nHyatt Regency – 2 Albany St. New Brunswick\, NJ\nNo cover charge.
URL:https://nbjp.org/event/jerry-weldon-quartet/
LOCATION:Hyatt Regency\, 2 Albany St.\, New Brunswick\, NJ\, 08901\, United States
CATEGORIES:Music
ATTACH;FMTTYPE=image/jpeg:https://nbjp.org/wp-content/uploads/2016/08/jerry-weldon-quartet.jpg
END:VEVENT
BEGIN:VEVENT
DTSTART;TZID=America/New_York:20160922T200000
DTEND;TZID=America/New_York:20160922T230000
DTSTAMP:20260422T062708
CREATED:20160825T203009Z
LAST-MODIFIED:20160902T155542Z
UID:1577-1474574400-1474585200@nbjp.org
SUMMARY:Ralph Bowen Quartet
DESCRIPTION:Saxophonist Ralph Bowen and his quartet. \nHyatt Regency – 2 Albany St. New Brunswick\, NJ\nNo cover charge.
URL:https://nbjp.org/event/ralph-bowen-quartet/
LOCATION:Hyatt Regency\, 2 Albany St.\, New Brunswick\, NJ\, 08901\, United States
CATEGORIES:Music
ATTACH;FMTTYPE=image/jpeg:https://nbjp.org/wp-content/uploads/2016/08/ralph-bowen-quartet.jpg
END:VEVENT
BEGIN:VEVENT
DTSTART;TZID=America/New_York:20160929T200000
DTEND;TZID=America/New_York:20160929T230000
DTSTAMP:20260422T062708
CREATED:20160825T203857Z
LAST-MODIFIED:20160929T203420Z
UID:1581-1475179200-1475190000@nbjp.org
SUMMARY:Stephen Fuller Quartet
DESCRIPTION:Stephen Fuller and his quartet. \nHyatt Regency  – 2 Albany St. New Brunswick\, NJ\nNo cover charge.
URL:https://nbjp.org/event/stephen-fuller-quartet/
LOCATION:Hyatt Regency\, 2 Albany St.\, New Brunswick\, NJ\, 08901\, United States
CATEGORIES:Music
ATTACH;FMTTYPE=image/jpeg:https://nbjp.org/wp-content/uploads/2016/08/stephen-fuller-quartet.jpg
END:VEVENT
END:VCALENDAR