BEGIN:VCALENDAR
VERSION:2.0
PRODID:-//New Brunswick Jazz Project - ECPv6.15.18//NONSGML v1.0//EN
CALSCALE:GREGORIAN
METHOD:PUBLISH
X-ORIGINAL-URL:https://nbjp.org
X-WR-CALDESC:Events for New Brunswick Jazz Project
REFRESH-INTERVAL;VALUE=DURATION:PT1H
X-Robots-Tag:noindex
X-PUBLISHED-TTL:PT1H
BEGIN:VTIMEZONE
TZID:America/New_York
BEGIN:DAYLIGHT
TZOFFSETFROM:-0500
TZOFFSETTO:-0400
TZNAME:EDT
DTSTART:20150308T070000
END:DAYLIGHT
BEGIN:STANDARD
TZOFFSETFROM:-0400
TZOFFSETTO:-0500
TZNAME:EST
DTSTART:20151101T060000
END:STANDARD
BEGIN:DAYLIGHT
TZOFFSETFROM:-0500
TZOFFSETTO:-0400
TZNAME:EDT
DTSTART:20160313T070000
END:DAYLIGHT
BEGIN:STANDARD
TZOFFSETFROM:-0400
TZOFFSETTO:-0500
TZNAME:EST
DTSTART:20161106T060000
END:STANDARD
BEGIN:DAYLIGHT
TZOFFSETFROM:-0500
TZOFFSETTO:-0400
TZNAME:EDT
DTSTART:20170312T070000
END:DAYLIGHT
BEGIN:STANDARD
TZOFFSETFROM:-0400
TZOFFSETTO:-0500
TZNAME:EST
DTSTART:20171105T060000
END:STANDARD
END:VTIMEZONE
BEGIN:VEVENT
DTSTART;TZID=America/New_York:20161006T200000
DTEND;TZID=America/New_York:20161006T230000
DTSTAMP:20260422T045527
CREATED:20160926T185539Z
LAST-MODIFIED:20161011T202306Z
UID:1990-1475784000-1475794800@nbjp.org
SUMMARY:Myron Walden Quartet
DESCRIPTION:Myron Walden Quartet  with Akiko Tsuruga organ\, Bob DeVos guitar & Jason Tiemann drums \nHyatt Regency – 2 Albany St. New Brunswick\, NJ\nNo cover charge.
URL:https://nbjp.org/event/myron-walden-quartet/
LOCATION:Hyatt Regency\, 2 Albany St.\, New Brunswick\, NJ\, 08901\, United States
CATEGORIES:Music
ATTACH;FMTTYPE=image/jpeg:https://nbjp.org/wp-content/uploads/2016/09/myron-walden-quartet.jpg
END:VEVENT
BEGIN:VEVENT
DTSTART;TZID=America/New_York:20161020T200000
DTEND;TZID=America/New_York:20161020T230000
DTSTAMP:20260422T045527
CREATED:20160926T191232Z
LAST-MODIFIED:20161012T170910Z
UID:2006-1476993600-1477004400@nbjp.org
SUMMARY:DG Organ 4tet
DESCRIPTION:Trombonist Dave Gibson featuring Jared Gold – organ\, Freddie Hendrix – trumpet and Henry Conerway III. \nHyatt Regency – 2 Albany St. New Brunswick\, NJ\nNo cover charge.
URL:https://nbjp.org/event/dg-organ-4tet/
LOCATION:Hyatt Regency\, 2 Albany St.\, New Brunswick\, NJ\, 08901\, United States
CATEGORIES:Music
ATTACH;FMTTYPE=image/jpeg:https://nbjp.org/wp-content/uploads/2016/09/David-Gibson_618x588-templa-1.jpg
END:VEVENT
BEGIN:VEVENT
DTSTART;TZID=America/New_York:20161027T200000
DTEND;TZID=America/New_York:20161027T230000
DTSTAMP:20260422T045527
CREATED:20161006T233838Z
LAST-MODIFIED:20161022T165933Z
UID:2140-1477598400-1477609200@nbjp.org
SUMMARY:Adrienne West Quartet
DESCRIPTION:Adrienne West Quartet featuring Mike Bond – keyboard\, James Robbins – Bass and Sanah Kadoura – drums. \nHyatt Regency – 2 Albany St. New Brunswick\, NJ\nNo cover charge.
URL:https://nbjp.org/event/adrienne-west-quartet/
LOCATION:Hyatt Regency\, 2 Albany St.\, New Brunswick\, NJ\, 08901\, United States
CATEGORIES:Music
ATTACH;FMTTYPE=image/jpeg:https://nbjp.org/wp-content/uploads/2016/10/Adrienne-West.jpg
END:VEVENT
END:VCALENDAR