BEGIN:VCALENDAR
VERSION:2.0
PRODID:-//New Brunswick Jazz Project - ECPv6.15.18//NONSGML v1.0//EN
CALSCALE:GREGORIAN
METHOD:PUBLISH
X-ORIGINAL-URL:https://nbjp.org
X-WR-CALDESC:Events for New Brunswick Jazz Project
REFRESH-INTERVAL;VALUE=DURATION:PT1H
X-Robots-Tag:noindex
X-PUBLISHED-TTL:PT1H
BEGIN:VTIMEZONE
TZID:America/New_York
BEGIN:DAYLIGHT
TZOFFSETFROM:-0500
TZOFFSETTO:-0400
TZNAME:EDT
DTSTART:20170312T070000
END:DAYLIGHT
BEGIN:STANDARD
TZOFFSETFROM:-0400
TZOFFSETTO:-0500
TZNAME:EST
DTSTART:20171105T060000
END:STANDARD
BEGIN:DAYLIGHT
TZOFFSETFROM:-0500
TZOFFSETTO:-0400
TZNAME:EDT
DTSTART:20180311T070000
END:DAYLIGHT
BEGIN:STANDARD
TZOFFSETFROM:-0400
TZOFFSETTO:-0500
TZNAME:EST
DTSTART:20181104T060000
END:STANDARD
BEGIN:DAYLIGHT
TZOFFSETFROM:-0500
TZOFFSETTO:-0400
TZNAME:EDT
DTSTART:20190310T070000
END:DAYLIGHT
BEGIN:STANDARD
TZOFFSETFROM:-0400
TZOFFSETTO:-0500
TZNAME:EST
DTSTART:20191103T060000
END:STANDARD
END:VTIMEZONE
BEGIN:VEVENT
DTSTART;TZID=America/New_York:20181011T200000
DTEND;TZID=America/New_York:20181011T230000
DTSTAMP:20260420T144950
CREATED:20180826T053725Z
LAST-MODIFIED:20180826T053725Z
UID:6199-1539288000-1539298800@nbjp.org
SUMMARY:Mariel Bildsten Quartet
DESCRIPTION:Mariel Bildsten Quartet \nHyatt Regency – 2 Albany St. New Brunswick\, NJ\nNo cover charge.
URL:https://nbjp.org/event/mariel-bildsten-quartet-2/
LOCATION:Hyatt Regency\, 2 Albany St.\, New Brunswick\, NJ\, 08901\, United States
CATEGORIES:Music
ATTACH;FMTTYPE=image/jpeg:https://nbjp.org/wp-content/uploads/2016/11/mariel-bildsten-e1535261817967.jpg
END:VEVENT
BEGIN:VEVENT
DTSTART;TZID=America/New_York:20181018T200000
DTEND;TZID=America/New_York:20181018T230000
DTSTAMP:20260420T144950
CREATED:20180827T003413Z
LAST-MODIFIED:20180827T003413Z
UID:6216-1539892800-1539903600@nbjp.org
SUMMARY:Claire Daly Quartet
DESCRIPTION:Claire Daly Quartet\nHyatt Regency – 2 Albany St. New Brunswick\, NJ\nNo cover charge.
URL:https://nbjp.org/event/claire-daly-quartet/
LOCATION:Hyatt Regency\, 2 Albany St.\, New Brunswick\, NJ\, 08901\, United States
CATEGORIES:Music
ATTACH;FMTTYPE=image/jpeg:https://nbjp.org/wp-content/uploads/2018/08/ClaireDaly.jpg
END:VEVENT
BEGIN:VEVENT
DTSTART;TZID=America/New_York:20181025T200000
DTEND;TZID=America/New_York:20181025T230000
DTSTAMP:20260420T144950
CREATED:20180902T192241Z
LAST-MODIFIED:20180902T192241Z
UID:6229-1540497600-1540508400@nbjp.org
SUMMARY:Nick Hempton Quartet
DESCRIPTION:Nick Hempton Quartet \n  \nHyatt Regency – 2 Albany St. New Brunswick\, NJ\nNo cover charge.
URL:https://nbjp.org/event/nick-hempton-quartet-2/
LOCATION:Hyatt Regency\, 2 Albany St.\, New Brunswick\, NJ\, 08901\, United States
CATEGORIES:Music
ATTACH;FMTTYPE=image/jpeg:https://nbjp.org/wp-content/uploads/2018/06/Nick-Hempton.jpg
END:VEVENT
END:VCALENDAR