BEGIN:VCALENDAR
VERSION:2.0
PRODID:-//New Brunswick Jazz Project - ECPv6.15.18//NONSGML v1.0//EN
CALSCALE:GREGORIAN
METHOD:PUBLISH
X-WR-CALNAME:New Brunswick Jazz Project
X-ORIGINAL-URL:https://nbjp.org
X-WR-CALDESC:Events for New Brunswick Jazz Project
REFRESH-INTERVAL;VALUE=DURATION:PT1H
X-Robots-Tag:noindex
X-PUBLISHED-TTL:PT1H
BEGIN:VTIMEZONE
TZID:America/New_York
BEGIN:DAYLIGHT
TZOFFSETFROM:-0500
TZOFFSETTO:-0400
TZNAME:EDT
DTSTART:20180311T070000
END:DAYLIGHT
BEGIN:STANDARD
TZOFFSETFROM:-0400
TZOFFSETTO:-0500
TZNAME:EST
DTSTART:20181104T060000
END:STANDARD
BEGIN:DAYLIGHT
TZOFFSETFROM:-0500
TZOFFSETTO:-0400
TZNAME:EDT
DTSTART:20190310T070000
END:DAYLIGHT
BEGIN:STANDARD
TZOFFSETFROM:-0400
TZOFFSETTO:-0500
TZNAME:EST
DTSTART:20191103T060000
END:STANDARD
BEGIN:DAYLIGHT
TZOFFSETFROM:-0500
TZOFFSETTO:-0400
TZNAME:EDT
DTSTART:20200308T070000
END:DAYLIGHT
BEGIN:STANDARD
TZOFFSETFROM:-0400
TZOFFSETTO:-0500
TZNAME:EST
DTSTART:20201101T060000
END:STANDARD
END:VTIMEZONE
BEGIN:VEVENT
DTSTART;TZID=America/New_York:20190103T200000
DTEND;TZID=America/New_York:20190103T230000
DTSTAMP:20260420T094103
CREATED:20181115T205322Z
LAST-MODIFIED:20190103T210845Z
UID:6556-1546545600-1546556400@nbjp.org
SUMMARY:Ted Chubb Quartet
DESCRIPTION:Ted Chubb Quartet \nTed- trumpet\, Bruce Williams – alto\, Oscar Perez – piano\, Vince Dupont – bass\, Vince Ector – drums \n  \nHyatt Regency – 2 Albany St. New Brunswick\, NJ\nNo cover charge.
URL:https://nbjp.org/event/https-www-tedchubb-com/
LOCATION:Hyatt Regency\, 2 Albany St.\, New Brunswick\, NJ\, 08901\, United States
CATEGORIES:Music
ATTACH;FMTTYPE=image/jpeg:https://nbjp.org/wp-content/uploads/2017/04/ted-chubb.jpg
END:VEVENT
BEGIN:VEVENT
DTSTART;TZID=America/New_York:20190110T200000
DTEND;TZID=America/New_York:20190110T230000
DTSTAMP:20260420T094103
CREATED:20181115T210025Z
LAST-MODIFIED:20181115T210025Z
UID:6569-1547150400-1547161200@nbjp.org
SUMMARY:Antoine Drye Quartet
DESCRIPTION:Antoine Drye Quartet \nHyatt Regency – 2 Albany St. New Brunswick\, NJ\nNo cover charge.
URL:https://nbjp.org/event/antoine-drye-quartet/
LOCATION:Hyatt Regency\, 2 Albany St.\, New Brunswick\, NJ\, 08901\, United States
CATEGORIES:Music
ATTACH;FMTTYPE=image/png:https://nbjp.org/wp-content/uploads/2018/11/antoine-drye.png
END:VEVENT
BEGIN:VEVENT
DTSTART;TZID=America/New_York:20190124T200000
DTEND;TZID=America/New_York:20190124T230000
DTSTAMP:20260420T094103
CREATED:20181115T210937Z
LAST-MODIFIED:20181115T210937Z
UID:6589-1548360000-1548370800@nbjp.org
SUMMARY:Rob Edwards Quartet
DESCRIPTION:Robert Edwards Quartet \nRobert Edwards – trombone \n  \nHyatt Regency – 2 Albany St. New Brunswick\, NJ \nNo cover charge.
URL:https://nbjp.org/event/rob-edwards-quartet-3/
LOCATION:Hyatt Regency\, 2 Albany St.\, New Brunswick\, NJ\, 08901\, United States
ATTACH;FMTTYPE=image/jpeg:https://nbjp.org/wp-content/uploads/2016/12/RobertEdwardsSQ.jpg
END:VEVENT
BEGIN:VEVENT
DTSTART;TZID=America/New_York:20190130T200000
DTEND;TZID=America/New_York:20190130T230000
DTSTAMP:20260420T094103
CREATED:20181126T173558Z
LAST-MODIFIED:20181126T173558Z
UID:6618-1548878400-1548889200@nbjp.org
SUMMARY:Brian Charette Trio
DESCRIPTION:Brian Charette Trio \n  \nTavern on George\, 361 George St.\, New Brunswick\, NJ\nNo cover charge.
URL:https://nbjp.org/event/brian-charette-trio-2/
LOCATION:Tavern on George\, 361 George St.\, New Brunswick\, NJ\, 08901\, United States
CATEGORIES:Music
ATTACH;FMTTYPE=image/jpeg:https://nbjp.org/wp-content/uploads/2017/07/briancharette400.jpg
END:VEVENT
BEGIN:VEVENT
DTSTART;TZID=America/New_York:20190131T200000
DTEND;TZID=America/New_York:20190131T230000
DTSTAMP:20260420T094103
CREATED:20180904T140519Z
LAST-MODIFIED:20190125T212711Z
UID:6269-1548964800-1548975600@nbjp.org
SUMMARY:Stafford Hunter Quartet
DESCRIPTION:Stafford Hunter Quartet \nStafford Hunter – trombone \nDavis Whitfield: Piano\, Marco Panascìa: Bass\, Vince Ector: Drums \nHyatt Regency – 2 Albany St. New Brunswick\, NJ\nNo cover charge.
URL:https://nbjp.org/event/stafford-hunter-quartet-2/
LOCATION:Hyatt Regency\, 2 Albany St.\, New Brunswick\, NJ\, 08901\, United States
CATEGORIES:Music
ATTACH;FMTTYPE=image/jpeg:https://nbjp.org/wp-content/uploads/2017/02/Stafford-Hunter.jpg
END:VEVENT
END:VCALENDAR