BEGIN:VCALENDAR
VERSION:2.0
PRODID:-//New Brunswick Jazz Project - ECPv6.15.18//NONSGML v1.0//EN
CALSCALE:GREGORIAN
METHOD:PUBLISH
X-WR-CALNAME:New Brunswick Jazz Project
X-ORIGINAL-URL:https://nbjp.org
X-WR-CALDESC:Events for New Brunswick Jazz Project
REFRESH-INTERVAL;VALUE=DURATION:PT1H
X-Robots-Tag:noindex
X-PUBLISHED-TTL:PT1H
BEGIN:VTIMEZONE
TZID:America/New_York
BEGIN:DAYLIGHT
TZOFFSETFROM:-0500
TZOFFSETTO:-0400
TZNAME:EDT
DTSTART:20180311T070000
END:DAYLIGHT
BEGIN:STANDARD
TZOFFSETFROM:-0400
TZOFFSETTO:-0500
TZNAME:EST
DTSTART:20181104T060000
END:STANDARD
BEGIN:DAYLIGHT
TZOFFSETFROM:-0500
TZOFFSETTO:-0400
TZNAME:EDT
DTSTART:20190310T070000
END:DAYLIGHT
BEGIN:STANDARD
TZOFFSETFROM:-0400
TZOFFSETTO:-0500
TZNAME:EST
DTSTART:20191103T060000
END:STANDARD
BEGIN:DAYLIGHT
TZOFFSETFROM:-0500
TZOFFSETTO:-0400
TZNAME:EDT
DTSTART:20200308T070000
END:DAYLIGHT
BEGIN:STANDARD
TZOFFSETFROM:-0400
TZOFFSETTO:-0500
TZNAME:EST
DTSTART:20201101T060000
END:STANDARD
END:VTIMEZONE
BEGIN:VEVENT
DTSTART;TZID=America/New_York:20190207T200000
DTEND;TZID=America/New_York:20190207T230000
DTSTAMP:20260420T081714
CREATED:20181214T194112Z
LAST-MODIFIED:20190205T214606Z
UID:6737-1549569600-1549580400@nbjp.org
SUMMARY:Brian Landrus Quartet
DESCRIPTION:Brian Landrus Quartet \nTheo Hill-piano\, Lonnie Plaxico-bass\, Brian Landrus -baritone sax\, bass clarinet\, flute\, \nTaylor Moore Drums \nHyatt Regency – 2 Albany St. New Brunswick\, NJ\nNo cover charge.
URL:https://nbjp.org/event/brian-landrus-quartet/
LOCATION:Hyatt Regency\, 2 Albany St.\, New Brunswick\, NJ\, 08901\, United States
CATEGORIES:Music
ATTACH;FMTTYPE=image/jpeg:https://nbjp.org/wp-content/uploads/2018/12/Brian-Landrus-e1549133866972.jpg
END:VEVENT
BEGIN:VEVENT
DTSTART;TZID=America/New_York:20190214T200000
DTEND;TZID=America/New_York:20190214T230000
DTSTAMP:20260420T081714
CREATED:20190213T040327Z
LAST-MODIFIED:20190213T040327Z
UID:6974-1550174400-1550185200@nbjp.org
SUMMARY:Lainie Cooke Quartet
DESCRIPTION:Lainie Cooke Quartet \nHyatt Regency – 2 Albany St. New Brunswick\, NJ\nNo cover charge.
URL:https://nbjp.org/event/lainie-cooke-quartet-2/
LOCATION:Hyatt Regency\, 2 Albany St.\, New Brunswick\, NJ\, 08901\, United States
CATEGORIES:Music
ATTACH;FMTTYPE=image/jpeg:https://nbjp.org/wp-content/uploads/2017/10/lainie-cooke-music-is-magic-album1.jpg
END:VEVENT
BEGIN:VEVENT
DTSTART;TZID=America/New_York:20190221T200000
DTEND;TZID=America/New_York:20190221T230000
DTSTAMP:20260420T081714
CREATED:20181126T174435Z
LAST-MODIFIED:20181126T174813Z
UID:6630-1550779200-1550790000@nbjp.org
SUMMARY:Josh Evans Quartet
DESCRIPTION:Josh Evans Quartet \n  \nHyatt Regency – 2 Albany St. New Brunswick\, NJ\nNo cover charge.
URL:https://nbjp.org/event/josh-evans-quartet/
LOCATION:Hyatt Regency\, 2 Albany St.\, New Brunswick\, NJ\, 08901\, United States
CATEGORIES:Music
ATTACH;FMTTYPE=image/jpeg:https://nbjp.org/wp-content/uploads/2018/11/josh-eveans.jpg
END:VEVENT
BEGIN:VEVENT
DTSTART;TZID=America/New_York:20190228T200000
DTEND;TZID=America/New_York:20190228T230000
DTSTAMP:20260420T081714
CREATED:20181214T194533Z
LAST-MODIFIED:20190225T212820Z
UID:6741-1551384000-1551394800@nbjp.org
SUMMARY:Behn Gillece Quartet
DESCRIPTION:Behn Gillece Quartet \nBehn Gillece- vibes Bob DeVos – guitar Steve LaSpina – bass Tim Horner – drums \nHyatt Regency – 2 Albany St. New Brunswick\, NJ\nNo cover charge.
URL:https://nbjp.org/event/behn-gillece-quartet-4/
LOCATION:Hyatt Regency\, 2 Albany St.\, New Brunswick\, NJ\, 08901\, United States
CATEGORIES:Music
ATTACH;FMTTYPE=image/jpeg:https://nbjp.org/wp-content/uploads/2017/04/BehnGillece.jpg
END:VEVENT
END:VCALENDAR