BEGIN:VCALENDAR
VERSION:2.0
PRODID:-//New Brunswick Jazz Project - ECPv6.15.18//NONSGML v1.0//EN
CALSCALE:GREGORIAN
METHOD:PUBLISH
X-ORIGINAL-URL:https://nbjp.org
X-WR-CALDESC:Events for New Brunswick Jazz Project
REFRESH-INTERVAL;VALUE=DURATION:PT1H
X-Robots-Tag:noindex
X-PUBLISHED-TTL:PT1H
BEGIN:VTIMEZONE
TZID:America/New_York
BEGIN:DAYLIGHT
TZOFFSETFROM:-0500
TZOFFSETTO:-0400
TZNAME:EDT
DTSTART:20180311T070000
END:DAYLIGHT
BEGIN:STANDARD
TZOFFSETFROM:-0400
TZOFFSETTO:-0500
TZNAME:EST
DTSTART:20181104T060000
END:STANDARD
BEGIN:DAYLIGHT
TZOFFSETFROM:-0500
TZOFFSETTO:-0400
TZNAME:EDT
DTSTART:20190310T070000
END:DAYLIGHT
BEGIN:STANDARD
TZOFFSETFROM:-0400
TZOFFSETTO:-0500
TZNAME:EST
DTSTART:20191103T060000
END:STANDARD
BEGIN:DAYLIGHT
TZOFFSETFROM:-0500
TZOFFSETTO:-0400
TZNAME:EDT
DTSTART:20200308T070000
END:DAYLIGHT
BEGIN:STANDARD
TZOFFSETFROM:-0400
TZOFFSETTO:-0500
TZNAME:EST
DTSTART:20201101T060000
END:STANDARD
END:VTIMEZONE
BEGIN:VEVENT
DTSTART;TZID=America/New_York:20190904T200000
DTEND;TZID=America/New_York:20190904T230000
DTSTAMP:20260419T212138
CREATED:20190830T145009Z
LAST-MODIFIED:20190830T145009Z
UID:8023-1567627200-1567638000@nbjp.org
SUMMARY:Duane Eubanks Quartet
DESCRIPTION:Trumpeter Duane Eubanks featuring Sharp Radway – keys\, Kenny Davis – bass and Vince Ector drums. \nTavern on George. \n361 George St. New Brunswick\, NJ\nNo cover charge. \nReservations highly recommended.
URL:https://nbjp.org/event/duane-eubanks-quartet-2/
LOCATION:Tavern on George\, 361 George St.\, New Brunswick\, NJ\, 08901\, United States
CATEGORIES:Music
ATTACH;FMTTYPE=image/jpeg:https://nbjp.org/wp-content/uploads/2016/08/duane-eubanks-quartet.jpg
END:VEVENT
BEGIN:VEVENT
DTSTART;TZID=America/New_York:20190912T200000
DTEND;TZID=America/New_York:20190912T230000
DTSTAMP:20260419T212138
CREATED:20190731T161357Z
LAST-MODIFIED:20190731T161357Z
UID:7882-1568318400-1568329200@nbjp.org
SUMMARY:Vincent Herring Quartet
DESCRIPTION:Vincent Herring Quartet \nTavern on George – 361 George St. New Brunswick\, NJ 08901\nReservations highly suggested \nNO COVER Reservations
URL:https://nbjp.org/event/vincent-herring-quartet/
LOCATION:Tavern on George\, 361 George St\, New Brunswick\, NJ\, 08901\, United States
CATEGORIES:Music
ATTACH;FMTTYPE=image/jpeg:https://nbjp.org/wp-content/uploads/2019/07/vincent-herring-1140x570.jpg
END:VEVENT
BEGIN:VEVENT
DTSTART;TZID=America/New_York:20190919T200000
DTEND;TZID=America/New_York:20190919T230000
DTSTAMP:20260419T212138
CREATED:20190731T154411Z
LAST-MODIFIED:20190731T154411Z
UID:7853-1568923200-1568934000@nbjp.org
SUMMARY:Freddie Hendrix Quartet
DESCRIPTION:Freddie Hendrix Quartet \nTavern on George – 361 George St. New Brunswick\, NJ 08901\nNo cover charge. \nReservations highly suggested
URL:https://nbjp.org/event/freddie-hendrix-quartet-2/
LOCATION:Tavern on George\, 361 George St\, New Brunswick\, NJ\, 08901\, United States
CATEGORIES:Music
ATTACH;FMTTYPE=image/jpeg:https://nbjp.org/wp-content/uploads/2017/07/FreddieHendrix400.jpg
END:VEVENT
BEGIN:VEVENT
DTSTART;TZID=America/New_York:20190926T200000
DTEND;TZID=America/New_York:20190926T230000
DTSTAMP:20260419T212138
CREATED:20190921T220519Z
LAST-MODIFIED:20190922T154123Z
UID:8123-1569528000-1569538800@nbjp.org
SUMMARY:Mike Lee Quartet
DESCRIPTION:Mike Lee Quartet \nTavern on George – 361 George St.  New Brunswick\, NJ 08901\nNo cover charge. \nReservations highly recommended
URL:https://nbjp.org/event/mike-lee-quartet-3/
LOCATION:Tavern on George\, 361 George St.\, New Brunswick\, NJ\, 08901\, United States
CATEGORIES:Music
ATTACH;FMTTYPE=image/jpeg:https://nbjp.org/wp-content/uploads/2019/09/3352739B-4EC0-4393-9E21-F1D036197463.jpeg
END:VEVENT
END:VCALENDAR