BEGIN:VCALENDAR
VERSION:2.0
PRODID:-//New Brunswick Jazz Project - ECPv6.15.18//NONSGML v1.0//EN
CALSCALE:GREGORIAN
METHOD:PUBLISH
X-ORIGINAL-URL:https://nbjp.org
X-WR-CALDESC:Events for New Brunswick Jazz Project
REFRESH-INTERVAL;VALUE=DURATION:PT1H
X-Robots-Tag:noindex
X-PUBLISHED-TTL:PT1H
BEGIN:VTIMEZONE
TZID:America/New_York
BEGIN:DAYLIGHT
TZOFFSETFROM:-0500
TZOFFSETTO:-0400
TZNAME:EDT
DTSTART:20190310T070000
END:DAYLIGHT
BEGIN:STANDARD
TZOFFSETFROM:-0400
TZOFFSETTO:-0500
TZNAME:EST
DTSTART:20191103T060000
END:STANDARD
BEGIN:DAYLIGHT
TZOFFSETFROM:-0500
TZOFFSETTO:-0400
TZNAME:EDT
DTSTART:20200308T070000
END:DAYLIGHT
BEGIN:STANDARD
TZOFFSETFROM:-0400
TZOFFSETTO:-0500
TZNAME:EST
DTSTART:20201101T060000
END:STANDARD
BEGIN:DAYLIGHT
TZOFFSETFROM:-0500
TZOFFSETTO:-0400
TZNAME:EDT
DTSTART:20210314T070000
END:DAYLIGHT
BEGIN:STANDARD
TZOFFSETFROM:-0400
TZOFFSETTO:-0500
TZNAME:EST
DTSTART:20211107T060000
END:STANDARD
END:VTIMEZONE
BEGIN:VEVENT
DTSTART;TZID=America/New_York:20200408T200000
DTEND;TZID=America/New_York:20200408T230000
DTSTAMP:20260419T101645
CREATED:20191230T151213Z
LAST-MODIFIED:20200316T194859Z
UID:8618-1586376000-1586386800@nbjp.org
SUMMARY:Lee Hogans Quartet - CANCELLED
DESCRIPTION:CANCELLED\nLee Hogans – trumpet. \n  \nTavern on George\, 361 George St. New Brunswick\, NJ\nNo cover charge. Reservations highly suggested
URL:https://nbjp.org/event/lee-hogans-quartet-4/
LOCATION:Tavern on George\, 361 George St.\, New Brunswick\, NJ\, 08901\, United States
CATEGORIES:Music
ATTACH;FMTTYPE=image/jpeg:https://nbjp.org/wp-content/uploads/2019/11/lee-hogans.jpg
END:VEVENT
BEGIN:VEVENT
DTSTART;TZID=America/New_York:20200409T200000
DTEND;TZID=America/New_York:20200409T230000
DTSTAMP:20260419T101645
CREATED:20200128T205957Z
LAST-MODIFIED:20200316T194818Z
UID:8798-1586462400-1586473200@nbjp.org
SUMMARY:Greg Bufford Trio\, featuring Doris Spears and the Music of Billie Holliday - CANCELLED
DESCRIPTION:CANCELLED\nGreg Bufford Trio\, featuring Doris Spears and the Music of Billie Holliday \nGreg Bufford Trio\, featuring Doris Spears and the Music of Billie Holliday \n361 George St. New Brunswick\, NJ \nNo cover charge. Reservations highly suggested
URL:https://nbjp.org/event/greg-bufford-trio-featuring-doris-spears-and-the-music-of-billie-holliday/
LOCATION:Tavern on George\, 361 George St\, New Brunswick\, NJ\, 08901\, United States
CATEGORIES:Music
ATTACH;FMTTYPE=image/jpeg:https://nbjp.org/wp-content/uploads/2017/04/greg-bufford.jpg
END:VEVENT
BEGIN:VEVENT
DTSTART;TZID=America/New_York:20200430T200000
DTEND;TZID=America/New_York:20200430T230000
DTSTAMP:20260419T101645
CREATED:20191230T151716Z
LAST-MODIFIED:20200316T193737Z
UID:8626-1588276800-1588287600@nbjp.org
SUMMARY:Ralph Bowen Quartet - CANCELLED
DESCRIPTION:CANCELLED\nRalph Bowen Quartet \nTavern on George. \n361 George St. New Brunswick\, NJ\nNo cover charge. \nReservations highly recommended.
URL:https://nbjp.org/event/ralph-bowen-quartet-4/
LOCATION:Tavern on George\, 361 George St\, New Brunswick\, NJ\, 08901\, United States
CATEGORIES:Music
ATTACH;FMTTYPE=image/jpeg:https://nbjp.org/wp-content/uploads/2016/08/ralph-bowen-quartet.jpg
END:VEVENT
END:VCALENDAR