BEGIN:VCALENDAR
VERSION:2.0
PRODID:-//New Brunswick Jazz Project - ECPv6.15.18//NONSGML v1.0//EN
CALSCALE:GREGORIAN
METHOD:PUBLISH
X-ORIGINAL-URL:https://nbjp.org
X-WR-CALDESC:Events for New Brunswick Jazz Project
REFRESH-INTERVAL;VALUE=DURATION:PT1H
X-Robots-Tag:noindex
X-PUBLISHED-TTL:PT1H
BEGIN:VTIMEZONE
TZID:America/New_York
BEGIN:DAYLIGHT
TZOFFSETFROM:-0500
TZOFFSETTO:-0400
TZNAME:EDT
DTSTART:20220313T070000
END:DAYLIGHT
BEGIN:STANDARD
TZOFFSETFROM:-0400
TZOFFSETTO:-0500
TZNAME:EST
DTSTART:20221106T060000
END:STANDARD
BEGIN:DAYLIGHT
TZOFFSETFROM:-0500
TZOFFSETTO:-0400
TZNAME:EDT
DTSTART:20230312T070000
END:DAYLIGHT
BEGIN:STANDARD
TZOFFSETFROM:-0400
TZOFFSETTO:-0500
TZNAME:EST
DTSTART:20231105T060000
END:STANDARD
BEGIN:DAYLIGHT
TZOFFSETFROM:-0500
TZOFFSETTO:-0400
TZNAME:EDT
DTSTART:20240310T070000
END:DAYLIGHT
BEGIN:STANDARD
TZOFFSETFROM:-0400
TZOFFSETTO:-0500
TZNAME:EST
DTSTART:20241103T060000
END:STANDARD
END:VTIMEZONE
BEGIN:VEVENT
DTSTART;TZID=America/New_York:20231103T190000
DTEND;TZID=America/New_York:20231103T213000
DTSTAMP:20260424T011457
CREATED:20230814T214636Z
LAST-MODIFIED:20231011T153718Z
UID:12529-1699038000-1699047000@nbjp.org
SUMMARY:Jerry Weldon Sextet
DESCRIPTION:New Brunswick Jazz Project\n and\nNew Brunswick Performing Arts Center\npresents\nJerry Weldon Sextet\nLIVE ALBUM RECORDING \nJerry Weldon-Tenor Sax\, Alonzo Demetrius-Trumpet\, Peter Lin-Trombone \nMike Bond-Piano\, Jason Clotter-Bass\, Carmen Intorre Jr.-Drums \nJerry Weldon\, has been performing around the world for 45+ years. His resume\, a “Who’s Who in Jazz” includes the likes of Wynton Marsalis\, Joey DeFrancesco\, Jimmy Cobb and George Cables among hundreds of others. Jerry has played with Harry Connick\, Jr.’s band since 1990 and was a regular on the HARRY TV show. Now\, as all the great jazz ensemble leaders have done\, the sax master has reached toward the future and assembled a sextet featuring some of the finest young musicians on the jazz scene today. Each one is already enjoying great success and they are heading toward stellar careers. This sextet is hip\, swinging and in the vein of Art Blakey’s Jazz Messengers…and clear evidence that the future of jazz is in very talented hands. \n\n\n\n\n\n\n\n\n\n\n\n\n\n\n\n\n\n\n\n\n  November 3\, 2023 7:00PM\n\n\n\nNew Brunswick Performing Arts Center \n11 Livingston Avenue\, New Brunswick\, NJ 08901 \nThis performance lasts approximately 2 and a half hours and will have one 15-minute intermission. \nTICKETS – $20.00\nThis event is General Admission seating. \n\n \n“Grant funding has been provided by the Middlesex County Board of Commissioners through a grant award from the Middlesex County Cultural and Arts Trust Fund.” \n  \n\n\n\n\n 
URL:https://nbjp.org/event/jerry-weldon/
LOCATION:New Brunswick Performing Arts Center\, 11 Livingston Ave.\, New Brunswick\, NJ\, 08901\, United States
CATEGORIES:Music
ATTACH;FMTTYPE=image/png:https://nbjp.org/wp-content/uploads/2023/08/Jerry-NBPAC-11x17-1.png
END:VEVENT
END:VCALENDAR