BEGIN:VCALENDAR
VERSION:2.0
PRODID:-//New Brunswick Jazz Project - ECPv6.15.18//NONSGML v1.0//EN
CALSCALE:GREGORIAN
METHOD:PUBLISH
X-ORIGINAL-URL:https://nbjp.org
X-WR-CALDESC:Events for New Brunswick Jazz Project
REFRESH-INTERVAL;VALUE=DURATION:PT1H
X-Robots-Tag:noindex
X-PUBLISHED-TTL:PT1H
BEGIN:VTIMEZONE
TZID:America/New_York
BEGIN:DAYLIGHT
TZOFFSETFROM:-0500
TZOFFSETTO:-0400
TZNAME:EDT
DTSTART:20170312T070000
END:DAYLIGHT
BEGIN:STANDARD
TZOFFSETFROM:-0400
TZOFFSETTO:-0500
TZNAME:EST
DTSTART:20171105T060000
END:STANDARD
BEGIN:DAYLIGHT
TZOFFSETFROM:-0500
TZOFFSETTO:-0400
TZNAME:EDT
DTSTART:20180311T070000
END:DAYLIGHT
BEGIN:STANDARD
TZOFFSETFROM:-0400
TZOFFSETTO:-0500
TZNAME:EST
DTSTART:20181104T060000
END:STANDARD
BEGIN:DAYLIGHT
TZOFFSETFROM:-0500
TZOFFSETTO:-0400
TZNAME:EDT
DTSTART:20190310T070000
END:DAYLIGHT
BEGIN:STANDARD
TZOFFSETFROM:-0400
TZOFFSETTO:-0500
TZNAME:EST
DTSTART:20191103T060000
END:STANDARD
END:VTIMEZONE
BEGIN:VEVENT
DTSTART;TZID=America/New_York:20180110T200000
DTEND;TZID=America/New_York:20180110T230000
DTSTAMP:20260419T233121
CREATED:20171205T170835Z
LAST-MODIFIED:20180110T194519Z
UID:4498-1515614400-1515625200@nbjp.org
SUMMARY:The Ladybugs
DESCRIPTION:THE LADYBUGS\nMartina DaSilva\, vocals/ukulele Vanessa Perea\, vocals/percussion Alex Goodman – guitar \nWednesday\, January 10\, 2018\n8:00pm – 11:00pm \nINC American Bar & Kitchen\, 302 George St. New Brunswick\, NJ\nNo cover charge. Reservations
URL:https://nbjp.org/event/the-ladybugs/
LOCATION:INC American Bar & Kitchen\, 302 George St. \, New Brunswick\, NJ\, 08901\, United States
CATEGORIES:Music
ATTACH;FMTTYPE=image/jpeg:https://nbjp.org/wp-content/uploads/2017/12/the-ladybugs.jpg
END:VEVENT
BEGIN:VEVENT
DTSTART;TZID=America/New_York:20180119T183000
DTEND;TZID=America/New_York:20180119T213000
DTSTAMP:20260419T233121
CREATED:20171205T173111Z
LAST-MODIFIED:20180115T173527Z
UID:4526-1516386600-1516397400@nbjp.org
SUMMARY:Emma Larsson Duo
DESCRIPTION:Emma Larsson Duo\nEmma Larsson and Daisuke Abe\nFriday\, January 19\, 2018\n6:30pm – 9:30pm\n\nDue Mari\, 78 Albany St. New Brunswick\, NJ\nNo cover charge. Reservations
URL:https://nbjp.org/event/emma-larsson-duo-6/
LOCATION:Due Mari\, 78 Albany St.\, New Brunswick\, NJ\, 08901\, United States
CATEGORIES:Music
ATTACH;FMTTYPE=image/jpeg:https://nbjp.org/wp-content/uploads/2016/09/Emma-Larsson.jpg
END:VEVENT
BEGIN:VEVENT
DTSTART;TZID=America/New_York:20180126T183000
DTEND;TZID=America/New_York:20180126T213000
DTSTAMP:20260419T233121
CREATED:20171205T174005Z
LAST-MODIFIED:20180122T193017Z
UID:4543-1516991400-1517002200@nbjp.org
SUMMARY:Michael Bond Duo
DESCRIPTION:Michael Bond Duo \nMichael Bond and Molly Mason \n  \nDue Mari\, 78 Albany St. New Brunswick\, NJ  \nNo cover charge
URL:https://nbjp.org/event/michael-bond-duo-4/
LOCATION:Due Mari\, 78 Albany St.\, New Brunswick\, NJ\, 08901\, United States
CATEGORIES:Music
ATTACH;FMTTYPE=image/jpeg:https://nbjp.org/wp-content/uploads/2016/12/michael-Bond.jpg
END:VEVENT
END:VCALENDAR