BEGIN:VCALENDAR
VERSION:2.0
PRODID:-//New Brunswick Jazz Project - ECPv6.15.18//NONSGML v1.0//EN
CALSCALE:GREGORIAN
METHOD:PUBLISH
X-WR-CALNAME:New Brunswick Jazz Project
X-ORIGINAL-URL:https://nbjp.org
X-WR-CALDESC:Events for New Brunswick Jazz Project
REFRESH-INTERVAL;VALUE=DURATION:PT1H
X-Robots-Tag:noindex
X-PUBLISHED-TTL:PT1H
BEGIN:VTIMEZONE
TZID:America/New_York
BEGIN:DAYLIGHT
TZOFFSETFROM:-0500
TZOFFSETTO:-0400
TZNAME:EDT
DTSTART:20170312T070000
END:DAYLIGHT
BEGIN:STANDARD
TZOFFSETFROM:-0400
TZOFFSETTO:-0500
TZNAME:EST
DTSTART:20171105T060000
END:STANDARD
BEGIN:DAYLIGHT
TZOFFSETFROM:-0500
TZOFFSETTO:-0400
TZNAME:EDT
DTSTART:20180311T070000
END:DAYLIGHT
BEGIN:STANDARD
TZOFFSETFROM:-0400
TZOFFSETTO:-0500
TZNAME:EST
DTSTART:20181104T060000
END:STANDARD
BEGIN:DAYLIGHT
TZOFFSETFROM:-0500
TZOFFSETTO:-0400
TZNAME:EDT
DTSTART:20190310T070000
END:DAYLIGHT
BEGIN:STANDARD
TZOFFSETFROM:-0400
TZOFFSETTO:-0500
TZNAME:EST
DTSTART:20191103T060000
END:STANDARD
END:VTIMEZONE
BEGIN:VEVENT
DTSTART;TZID=America/New_York:20181012T183000
DTEND;TZID=America/New_York:20181012T213000
DTSTAMP:20260419T093037
CREATED:20180814T155119Z
LAST-MODIFIED:20180814T155119Z
UID:6070-1539369000-1539379800@nbjp.org
SUMMARY:Emma Larsson Duo
DESCRIPTION:Emma Larsson – vocals. \nDue Mari\, 78 Albany St. New Brunswick\, NJ\nNo cover charge. Reservations
URL:https://nbjp.org/event/emma-larsson-duo-12/
LOCATION:Due Mari\, 78 Albany St.\, New Brunswick\, NJ\, 08901\, United States
CATEGORIES:Music
ATTACH;FMTTYPE=image/jpeg:https://nbjp.org/wp-content/uploads/2016/09/Emma-Larsson.jpg
END:VEVENT
BEGIN:VEVENT
DTSTART;TZID=America/New_York:20181019T183000
DTEND;TZID=America/New_York:20181019T213000
DTSTAMP:20260419T093037
CREATED:20180826T053956Z
LAST-MODIFIED:20180826T053956Z
UID:6202-1539973800-1539984600@nbjp.org
SUMMARY:Molly Mason Duo
DESCRIPTION:Molly Mason Duo \nMolly Mason – vocals. \nDue Mari\, 78 Albany St. New Brunswick\, NJ\nNo cover charge. Reservations
URL:https://nbjp.org/event/molly-mason-duo-5/
LOCATION:Due Mari\, 78 Albany St.\, New Brunswick\, NJ\, 08901\, United States
CATEGORIES:Music
ATTACH;FMTTYPE=image/jpeg:https://nbjp.org/wp-content/uploads/2017/07/Molly-Mason-3.jpg
END:VEVENT
END:VCALENDAR